   BEGIN:VCALENDAR
VERSION:2.0
PRODID:-//Moorside Primary School and Nursery - ECPv6.11.0.1//NONSGML v1.0//EN
CALSCALE:GREGORIAN
METHOD:PUBLISH
X-ORIGINAL-URL:https://www.moorsideschools.org.uk
X-WR-CALDESC:Events for Moorside Primary School and Nursery
REFRESH-INTERVAL;VALUE=DURATION:PT1H
X-Robots-Tag:noindex
X-PUBLISHED-TTL:PT1H
BEGIN:VTIMEZONE
TZID:UTC
BEGIN:STANDARD
TZOFFSETFROM:+0000
TZOFFSETTO:+0000
TZNAME:UTC
DTSTART:20250101T000000
END:STANDARD
END:VTIMEZONE
BEGIN:VEVENT
DTSTART;TZID=UTC:20250224T085000
DTEND;TZID=UTC:20250224T090000
DTSTAMP:20260421T083743
CREATED:20250224T140653Z
LAST-MODIFIED:20250224T140653Z
UID:10231-1740387000-1740387600@www.moorsideschools.org.uk
SUMMARY:School Re-opens after Half Term Holidays
DESCRIPTION:
URL:https://www.moorsideschools.org.uk/event/school-re-opens-after-half-term-holidays-4/
ATTACH;FMTTYPE=image/png:https://www.moorsideschools.org.uk/wp-content/uploads/2020/01/back-to-school.png
END:VEVENT
END:VCALENDAR