   BEGIN:VCALENDAR
VERSION:2.0
PRODID:-//Moorside Primary School and Nursery - ECPv6.11.0.1//NONSGML v1.0//EN
CALSCALE:GREGORIAN
METHOD:PUBLISH
X-ORIGINAL-URL:https://www.moorsideschools.org.uk
X-WR-CALDESC:Events for Moorside Primary School and Nursery
REFRESH-INTERVAL;VALUE=DURATION:PT1H
X-Robots-Tag:noindex
X-PUBLISHED-TTL:PT1H
BEGIN:VTIMEZONE
TZID:UTC
BEGIN:STANDARD
TZOFFSETFROM:+0000
TZOFFSETTO:+0000
TZNAME:UTC
DTSTART:20250101T000000
END:STANDARD
END:VTIMEZONE
BEGIN:VEVENT
DTSTART;VALUE=DATE:20250106
DTEND;VALUE=DATE:20250107
DTSTAMP:20260421T093246
CREATED:20241014T145113Z
LAST-MODIFIED:20241014T145113Z
UID:9967-1736121600-1736207999@www.moorsideschools.org.uk
SUMMARY:Staff Training Day
DESCRIPTION:
URL:https://www.moorsideschools.org.uk/event/staff-training-day-2/
ATTACH;FMTTYPE=image/jpeg:https://www.moorsideschools.org.uk/wp-content/uploads/2021/04/teacher-training-day-300x288-1.jpg
END:VEVENT
BEGIN:VEVENT
DTSTART;TZID=UTC:20250107T085000
DTEND;TZID=UTC:20250107T090000
DTSTAMP:20260421T093246
CREATED:20241014T145203Z
LAST-MODIFIED:20241014T145203Z
UID:9969-1736239800-1736240400@www.moorsideschools.org.uk
SUMMARY:Children return to School
DESCRIPTION:
URL:https://www.moorsideschools.org.uk/event/children-return-to-school/
ATTACH;FMTTYPE=image/png:https://www.moorsideschools.org.uk/wp-content/uploads/2020/01/back-to-school.png
END:VEVENT
END:VCALENDAR