   BEGIN:VCALENDAR
VERSION:2.0
PRODID:-//Moorside Primary School and Nursery - ECPv6.11.0.1//NONSGML v1.0//EN
CALSCALE:GREGORIAN
METHOD:PUBLISH
X-WR-CALNAME:Moorside Primary School and Nursery
X-ORIGINAL-URL:https://www.moorsideschools.org.uk
X-WR-CALDESC:Events for Moorside Primary School and Nursery
REFRESH-INTERVAL;VALUE=DURATION:PT1H
X-Robots-Tag:noindex
X-PUBLISHED-TTL:PT1H
BEGIN:VTIMEZONE
TZID:UTC
BEGIN:STANDARD
TZOFFSETFROM:+0000
TZOFFSETTO:+0000
TZNAME:UTC
DTSTART:20240101T000000
END:STANDARD
END:VTIMEZONE
BEGIN:VEVENT
DTSTART;TZID=UTC:20240603T080000
DTEND;TZID=UTC:20240603T170000
DTSTAMP:20260421T184719
CREATED:20240510T135941Z
LAST-MODIFIED:20240510T135941Z
UID:9697-1717401600-1717434000@www.moorsideschools.org.uk
SUMMARY:Y4 Multiplication Check (w/c 3rd June)
DESCRIPTION:
URL:https://www.moorsideschools.org.uk/event/y4-multiplication-check-w-c-3rd-june/
ATTACH;FMTTYPE=image/jpeg:https://www.moorsideschools.org.uk/wp-content/uploads/2020/01/maths.jpg
END:VEVENT
BEGIN:VEVENT
DTSTART;TZID=UTC:20240603T085000
DTEND;TZID=UTC:20240603T085000
DTSTAMP:20260421T184719
CREATED:20240417T143731Z
LAST-MODIFIED:20240417T143731Z
UID:9656-1717404600-1717404600@www.moorsideschools.org.uk
SUMMARY:School Re-opens after the Half Term Holidays
DESCRIPTION:
URL:https://www.moorsideschools.org.uk/event/school-re-opens-after-the-half-term-holidays/
ATTACH;FMTTYPE=image/png:https://www.moorsideschools.org.uk/wp-content/uploads/2020/01/back-to-school.png
END:VEVENT
BEGIN:VEVENT
DTSTART;TZID=UTC:20240610T080000
DTEND;TZID=UTC:20240610T170000
DTSTAMP:20260421T184719
CREATED:20240510T140101Z
LAST-MODIFIED:20240510T140101Z
UID:9699-1718006400-1718038800@www.moorsideschools.org.uk
SUMMARY:Phonics Screening Check (w/c 10th June)
DESCRIPTION:
URL:https://www.moorsideschools.org.uk/event/phonics-screening-check-w-c-10th-june/
ATTACH;FMTTYPE=image/jpeg:https://www.moorsideschools.org.uk/wp-content/uploads/2023/05/phonics.jpg
END:VEVENT
BEGIN:VEVENT
DTSTART;VALUE=DATE:20240613
DTEND;VALUE=DATE:20240614
DTSTAMP:20260421T184719
CREATED:20240510T140912Z
LAST-MODIFIED:20240510T140912Z
UID:9701-1718236800-1718323199@www.moorsideschools.org.uk
SUMMARY:Class Photographs
DESCRIPTION:
URL:https://www.moorsideschools.org.uk/event/class-photographs-2/
ATTACH;FMTTYPE=image/png:https://www.moorsideschools.org.uk/wp-content/uploads/2019/10/Phototronics.png
END:VEVENT
BEGIN:VEVENT
DTSTART;TZID=UTC:20240625T154500
DTEND;TZID=UTC:20240625T163000
DTSTAMP:20260421T184719
CREATED:20240520T133457Z
LAST-MODIFIED:20240520T133457Z
UID:9726-1719330300-1719333000@www.moorsideschools.org.uk
SUMMARY:New Parents Meeting (September Reception Starters)
DESCRIPTION:
URL:https://www.moorsideschools.org.uk/event/new-parents-meeting-september-reception-starters/
ATTACH;FMTTYPE=image/png:https://www.moorsideschools.org.uk/wp-content/uploads/2020/07/Reception-Starting-School.png
END:VEVENT
BEGIN:VEVENT
DTSTART;TZID=UTC:20240626T085000
DTEND;TZID=UTC:20240626T090000
DTSTAMP:20260421T184719
CREATED:20240510T141038Z
LAST-MODIFIED:20240510T141038Z
UID:9703-1719391800-1719392400@www.moorsideschools.org.uk
SUMMARY:Bag2School Collection
DESCRIPTION:
URL:https://www.moorsideschools.org.uk/event/bag2school-collection/
ATTACH;FMTTYPE=image/jpeg:https://www.moorsideschools.org.uk/wp-content/uploads/2019/04/bag2school.jpg
END:VEVENT
END:VCALENDAR