   BEGIN:VCALENDAR
VERSION:2.0
PRODID:-//Moorside Primary School and Nursery - ECPv6.11.0.1//NONSGML v1.0//EN
CALSCALE:GREGORIAN
METHOD:PUBLISH
X-WR-CALNAME:Moorside Primary School and Nursery
X-ORIGINAL-URL:https://www.moorsideschools.org.uk
X-WR-CALDESC:Events for Moorside Primary School and Nursery
REFRESH-INTERVAL;VALUE=DURATION:PT1H
X-Robots-Tag:noindex
X-PUBLISHED-TTL:PT1H
BEGIN:VTIMEZONE
TZID:UTC
BEGIN:STANDARD
TZOFFSETFROM:+0000
TZOFFSETTO:+0000
TZNAME:UTC
DTSTART:20240101T000000
END:STANDARD
END:VTIMEZONE
BEGIN:VEVENT
DTSTART;TZID=UTC:20240305T090000
DTEND;TZID=UTC:20240305T120000
DTSTAMP:20260421T224153
CREATED:20240226T114840Z
LAST-MODIFIED:20240226T114840Z
UID:9462-1709629200-1709640000@www.moorsideschools.org.uk
SUMMARY:Reception & KS1 Dance Competition
DESCRIPTION:
URL:https://www.moorsideschools.org.uk/event/reception-ks1-dance-competition/
ATTACH;FMTTYPE=image/jpeg:https://www.moorsideschools.org.uk/wp-content/uploads/2024/02/Dance.jpg
END:VEVENT
BEGIN:VEVENT
DTSTART;VALUE=DATE:20240307
DTEND;VALUE=DATE:20240308
DTSTAMP:20260421T224153
CREATED:20240226T115053Z
LAST-MODIFIED:20240226T115053Z
UID:9465-1709769600-1709855999@www.moorsideschools.org.uk
SUMMARY:World Book Day & Lunch
DESCRIPTION:
URL:https://www.moorsideschools.org.uk/event/world-book-day-lunch/
ATTACH;FMTTYPE=image/png:https://www.moorsideschools.org.uk/wp-content/uploads/2024/02/World-Book-Day-2024.png
END:VEVENT
BEGIN:VEVENT
DTSTART;TZID=UTC:20240308T133000
DTEND;TZID=UTC:20240308T150000
DTSTAMP:20260421T224153
CREATED:20240226T115210Z
LAST-MODIFIED:20240226T115210Z
UID:9468-1709904600-1709910000@www.moorsideschools.org.uk
SUMMARY:Mother's Day Afternoon Tea
DESCRIPTION:
URL:https://www.moorsideschools.org.uk/event/mothers-day-afternoon-tea-2/
ATTACH;FMTTYPE=image/png:https://www.moorsideschools.org.uk/wp-content/uploads/2023/03/Mothers-Day-Afternoon-Tea.png
END:VEVENT
BEGIN:VEVENT
DTSTART;TZID=UTC:20240312T152000
DTEND;TZID=UTC:20240312T160000
DTSTAMP:20260421T224153
CREATED:20240226T115401Z
LAST-MODIFIED:20240226T115401Z
UID:9470-1710256800-1710259200@www.moorsideschools.org.uk
SUMMARY:Y6 Parents SATs Club Meeting
DESCRIPTION:
URL:https://www.moorsideschools.org.uk/event/y6-parents-sats-club-meeting/
ATTACH;FMTTYPE=image/jpeg:https://www.moorsideschools.org.uk/wp-content/uploads/2023/04/SATs-Picture.jpg
END:VEVENT
BEGIN:VEVENT
DTSTART;TZID=UTC:20240322T150000
DTEND;TZID=UTC:20240322T150000
DTSTAMP:20260421T224153
CREATED:20240115T095736Z
LAST-MODIFIED:20240115T095736Z
UID:9381-1711119600-1711119600@www.moorsideschools.org.uk
SUMMARY:Break-up for Easter Holidays
DESCRIPTION:
URL:https://www.moorsideschools.org.uk/event/break-up-for-easter-holidays-2/
ATTACH;FMTTYPE=image/png:https://www.moorsideschools.org.uk/wp-content/uploads/2019/12/Break-up-for-holidays.png
END:VEVENT
END:VCALENDAR