   BEGIN:VCALENDAR
VERSION:2.0
PRODID:-//Moorside Primary School and Nursery - ECPv6.11.0.1//NONSGML v1.0//EN
CALSCALE:GREGORIAN
METHOD:PUBLISH
X-ORIGINAL-URL:https://www.moorsideschools.org.uk
X-WR-CALDESC:Events for Moorside Primary School and Nursery
REFRESH-INTERVAL;VALUE=DURATION:PT1H
X-Robots-Tag:noindex
X-PUBLISHED-TTL:PT1H
BEGIN:VTIMEZONE
TZID:UTC
BEGIN:STANDARD
TZOFFSETFROM:+0000
TZOFFSETTO:+0000
TZNAME:UTC
DTSTART:20240101T000000
END:STANDARD
END:VTIMEZONE
BEGIN:VEVENT
DTSTART;TZID=UTC:20240201T152000
DTEND;TZID=UTC:20240201T160000
DTSTAMP:20260422T000846
CREATED:20240115T094549Z
LAST-MODIFIED:20240115T094549Z
UID:9372-1706800800-1706803200@www.moorsideschools.org.uk
SUMMARY:Reading Cafe
DESCRIPTION:
URL:https://www.moorsideschools.org.uk/event/reading-cafe-10/
ATTACH;FMTTYPE=image/png:https://www.moorsideschools.org.uk/wp-content/uploads/2022/03/reading-cafe.png
END:VEVENT
BEGIN:VEVENT
DTSTART;TZID=UTC:20240209T151500
DTEND;TZID=UTC:20240209T152000
DTSTAMP:20260422T000846
CREATED:20240115T094807Z
LAST-MODIFIED:20240115T094807Z
UID:9374-1707491700-1707492000@www.moorsideschools.org.uk
SUMMARY:Break-up for Half Term Holidays
DESCRIPTION:
URL:https://www.moorsideschools.org.uk/event/break-up-for-half-term-holidays-5/
ATTACH;FMTTYPE=image/png:https://www.moorsideschools.org.uk/wp-content/uploads/2019/12/Break-up-for-holidays.png
END:VEVENT
BEGIN:VEVENT
DTSTART;TZID=UTC:20240219T085000
DTEND;TZID=UTC:20240219T090000
DTSTAMP:20260422T000846
CREATED:20240115T095238Z
LAST-MODIFIED:20240115T095238Z
UID:9376-1708332600-1708333200@www.moorsideschools.org.uk
SUMMARY:Return to School after Half Term Holidays
DESCRIPTION:
URL:https://www.moorsideschools.org.uk/event/return-to-school-after-half-term-holidays/
ATTACH;FMTTYPE=image/png:https://www.moorsideschools.org.uk/wp-content/uploads/2020/01/back-to-school.png
END:VEVENT
BEGIN:VEVENT
DTSTART;VALUE=DATE:20240220
DTEND;VALUE=DATE:20240221
DTSTAMP:20260422T000846
CREATED:20240201T162804Z
LAST-MODIFIED:20240201T162804Z
UID:9432-1708387200-1708473599@www.moorsideschools.org.uk
SUMMARY:Y3 & Y4 Viking Workshop
DESCRIPTION:
URL:https://www.moorsideschools.org.uk/event/y3-y4-viking-workshop/
ATTACH;FMTTYPE=image/png:https://www.moorsideschools.org.uk/wp-content/uploads/2024/02/Marvellous-History.png
END:VEVENT
BEGIN:VEVENT
DTSTART;VALUE=DATE:20240221
DTEND;VALUE=DATE:20240222
DTSTAMP:20260422T000846
CREATED:20240115T095525Z
LAST-MODIFIED:20240115T095525Z
UID:9378-1708473600-1708559999@www.moorsideschools.org.uk
SUMMARY:KS1 Visit to Ripon Workhouse Museum
DESCRIPTION:
URL:https://www.moorsideschools.org.uk/event/ks1-visit-to-ripon-workhouse-museum/
ATTACH;FMTTYPE=image/jpeg:https://www.moorsideschools.org.uk/wp-content/uploads/2024/01/Ripon-Workhouse.jpg
END:VEVENT
BEGIN:VEVENT
DTSTART;TZID=UTC:20240224T100000
DTEND;TZID=UTC:20240224T120000
DTSTAMP:20260422T000846
CREATED:20240201T162953Z
LAST-MODIFIED:20240201T162953Z
UID:9435-1708768800-1708776000@www.moorsideschools.org.uk
SUMMARY:Early Years Open Morning
DESCRIPTION:
URL:https://www.moorsideschools.org.uk/event/early-years-open-morning/
ATTACH;FMTTYPE=image/png:https://www.moorsideschools.org.uk/wp-content/uploads/2021/06/Opening-Morning-1.png
END:VEVENT
END:VCALENDAR