   BEGIN:VCALENDAR
VERSION:2.0
PRODID:-//Moorside Primary School and Nursery - ECPv6.11.0.1//NONSGML v1.0//EN
CALSCALE:GREGORIAN
METHOD:PUBLISH
X-ORIGINAL-URL:https://www.moorsideschools.org.uk
X-WR-CALDESC:Events for Moorside Primary School and Nursery
REFRESH-INTERVAL;VALUE=DURATION:PT1H
X-Robots-Tag:noindex
X-PUBLISHED-TTL:PT1H
BEGIN:VTIMEZONE
TZID:UTC
BEGIN:STANDARD
TZOFFSETFROM:+0000
TZOFFSETTO:+0000
TZNAME:UTC
DTSTART:20230101T000000
END:STANDARD
END:VTIMEZONE
BEGIN:VEVENT
DTSTART;TZID=UTC:20231106T080000
DTEND;TZID=UTC:20231106T170000
DTSTAMP:20260422T040215
CREATED:20230908T172832Z
LAST-MODIFIED:20230908T172832Z
UID:9038-1699257600-1699290000@www.moorsideschools.org.uk
SUMMARY:Teacher Training Day
DESCRIPTION:
URL:https://www.moorsideschools.org.uk/event/teacher-training-day-3/
ATTACH;FMTTYPE=image/jpeg:https://www.moorsideschools.org.uk/wp-content/uploads/2021/04/teacher-training-day-300x288-1.jpg
END:VEVENT
BEGIN:VEVENT
DTSTART;TZID=UTC:20231107T085000
DTEND;TZID=UTC:20231107T090000
DTSTAMP:20260422T040215
CREATED:20230908T172950Z
LAST-MODIFIED:20230908T172950Z
UID:9040-1699347000-1699347600@www.moorsideschools.org.uk
SUMMARY:School Re-opens to Children
DESCRIPTION:
URL:https://www.moorsideschools.org.uk/event/school-re-opens-to-children-2/
ATTACH;FMTTYPE=image/png:https://www.moorsideschools.org.uk/wp-content/uploads/2020/01/back-to-school.png
END:VEVENT
BEGIN:VEVENT
DTSTART;TZID=UTC:20231107T170000
DTEND;TZID=UTC:20231107T190000
DTSTAMP:20260422T040215
CREATED:20230922T144640Z
LAST-MODIFIED:20230922T144640Z
UID:9104-1699376400-1699383600@www.moorsideschools.org.uk
SUMMARY:Bonfire Night Disco!
DESCRIPTION:
URL:https://www.moorsideschools.org.uk/event/bonfire-night-disco/
ATTACH;FMTTYPE=image/png:https://www.moorsideschools.org.uk/wp-content/uploads/2022/07/disco-ball.png
END:VEVENT
BEGIN:VEVENT
DTSTART;VALUE=DATE:20231117
DTEND;VALUE=DATE:20231118
DTSTAMP:20260422T040215
CREATED:20230929T153654Z
LAST-MODIFIED:20230929T153654Z
UID:9129-1700179200-1700265599@www.moorsideschools.org.uk
SUMMARY:Individual School Photographs
DESCRIPTION:
URL:https://www.moorsideschools.org.uk/event/individual-school-photographs-4/
ATTACH;FMTTYPE=image/png:https://www.moorsideschools.org.uk/wp-content/uploads/2019/10/Phototronics.png
END:VEVENT
BEGIN:VEVENT
DTSTART;VALUE=DATE:20231123
DTEND;VALUE=DATE:20231124
DTSTAMP:20260422T040215
CREATED:20231116T114836Z
LAST-MODIFIED:20231116T114836Z
UID:9209-1700697600-1700783999@www.moorsideschools.org.uk
SUMMARY:KS1 Visit to Beamish
DESCRIPTION:
URL:https://www.moorsideschools.org.uk/event/ks1-visit-to-beamish/
ATTACH;FMTTYPE=image/png:https://www.moorsideschools.org.uk/wp-content/uploads/2023/11/Beamish.png
END:VEVENT
END:VCALENDAR