   BEGIN:VCALENDAR
VERSION:2.0
PRODID:-//Moorside Primary School and Nursery - ECPv6.11.0.1//NONSGML v1.0//EN
CALSCALE:GREGORIAN
METHOD:PUBLISH
X-WR-CALNAME:Moorside Primary School and Nursery
X-ORIGINAL-URL:https://www.moorsideschools.org.uk
X-WR-CALDESC:Events for Moorside Primary School and Nursery
REFRESH-INTERVAL;VALUE=DURATION:PT1H
X-Robots-Tag:noindex
X-PUBLISHED-TTL:PT1H
BEGIN:VTIMEZONE
TZID:UTC
BEGIN:STANDARD
TZOFFSETFROM:+0000
TZOFFSETTO:+0000
TZNAME:UTC
DTSTART:20230101T000000
END:STANDARD
END:VTIMEZONE
BEGIN:VEVENT
DTSTART;TZID=UTC:20231002T090000
DTEND;TZID=UTC:20231002T120000
DTSTAMP:20260422T050215
CREATED:20230929T153602Z
LAST-MODIFIED:20230929T153602Z
UID:9127-1696237200-1696248000@www.moorsideschools.org.uk
SUMMARY:Flu Immunisations
DESCRIPTION:
URL:https://www.moorsideschools.org.uk/event/flu-immunisations-4/
ATTACH;FMTTYPE=image/jpeg:https://www.moorsideschools.org.uk/wp-content/uploads/2020/11/flu.jpg
END:VEVENT
BEGIN:VEVENT
DTSTART;TZID=UTC:20231005T153000
DTEND;TZID=UTC:20231005T163000
DTSTAMP:20260422T050215
CREATED:20230908T172619Z
LAST-MODIFIED:20230908T172619Z
UID:9034-1696519800-1696523400@www.moorsideschools.org.uk
SUMMARY:Reading Cafe
DESCRIPTION:
URL:https://www.moorsideschools.org.uk/event/reading-cafe-9/
ATTACH;FMTTYPE=image/png:https://www.moorsideschools.org.uk/wp-content/uploads/2022/03/reading-cafe.png
END:VEVENT
BEGIN:VEVENT
DTSTART;VALUE=DATE:20231010
DTEND;VALUE=DATE:20231011
DTSTAMP:20260422T050215
CREATED:20231006T132145Z
LAST-MODIFIED:20231006T132145Z
UID:9133-1696896000-1696982399@www.moorsideschools.org.uk
SUMMARY:World Mental Health Day (wear something yellow)!
DESCRIPTION:
URL:https://www.moorsideschools.org.uk/event/world-mental-health-day-wear-something-yellow/
ATTACH;FMTTYPE=image/jpeg:https://www.moorsideschools.org.uk/wp-content/uploads/2023/10/World-Mental-Health-day.jpg
END:VEVENT
BEGIN:VEVENT
DTSTART;TZID=UTC:20231019T091500
DTEND;TZID=UTC:20231019T100000
DTSTAMP:20260422T050215
CREATED:20231006T132348Z
LAST-MODIFIED:20231013T150650Z
UID:9136-1697706900-1697709600@www.moorsideschools.org.uk
SUMMARY:Harvest Assembly for Parents of Children in Reception
DESCRIPTION:
URL:https://www.moorsideschools.org.uk/event/harvest-assembly-for-parents-of-children-in-reception/
ATTACH;FMTTYPE=image/png:https://www.moorsideschools.org.uk/wp-content/uploads/2023/10/Harvest.png
END:VEVENT
BEGIN:VEVENT
DTSTART;VALUE=DATE:20231025
DTEND;VALUE=DATE:20231026
DTSTAMP:20260422T050215
CREATED:20231013T150607Z
LAST-MODIFIED:20231013T150607Z
UID:9151-1698192000-1698278399@www.moorsideschools.org.uk
SUMMARY:EYFS Superheroes Dress-up Day
DESCRIPTION:
URL:https://www.moorsideschools.org.uk/event/eyfs-superheroes-dress-up-day/
ATTACH;FMTTYPE=image/jpeg:https://www.moorsideschools.org.uk/wp-content/uploads/2023/10/Superheroes.jpg
END:VEVENT
BEGIN:VEVENT
DTSTART;TZID=UTC:20231027T152000
DTEND;TZID=UTC:20231027T153000
DTSTAMP:20260422T050215
CREATED:20230908T172748Z
LAST-MODIFIED:20230908T172748Z
UID:9036-1698420000-1698420600@www.moorsideschools.org.uk
SUMMARY:Break-up for Half Term Holidays
DESCRIPTION:
URL:https://www.moorsideschools.org.uk/event/break-up-for-half-term-holidays-4/
ATTACH;FMTTYPE=image/png:https://www.moorsideschools.org.uk/wp-content/uploads/2019/12/Break-up-for-holidays.png
END:VEVENT
END:VCALENDAR