   BEGIN:VCALENDAR
VERSION:2.0
PRODID:-//Moorside Primary School and Nursery - ECPv6.11.0.1//NONSGML v1.0//EN
CALSCALE:GREGORIAN
METHOD:PUBLISH
X-ORIGINAL-URL:https://www.moorsideschools.org.uk
X-WR-CALDESC:Events for Moorside Primary School and Nursery
REFRESH-INTERVAL;VALUE=DURATION:PT1H
X-Robots-Tag:noindex
X-PUBLISHED-TTL:PT1H
BEGIN:VTIMEZONE
TZID:UTC
BEGIN:STANDARD
TZOFFSETFROM:+0000
TZOFFSETTO:+0000
TZNAME:UTC
DTSTART:20230101T000000
END:STANDARD
END:VTIMEZONE
BEGIN:VEVENT
DTSTART;TZID=UTC:20230919T153000
DTEND;TZID=UTC:20230919T160000
DTSTAMP:20260422T062211
CREATED:20230908T172419Z
LAST-MODIFIED:20230908T172419Z
UID:9030-1695137400-1695139200@www.moorsideschools.org.uk
SUMMARY:Reception Phonics Meeting for Parents
DESCRIPTION:
URL:https://www.moorsideschools.org.uk/event/reception-phonics-meeting-for-parents/
ATTACH;FMTTYPE=image/jpeg:https://www.moorsideschools.org.uk/wp-content/uploads/2023/05/phonics.jpg
END:VEVENT
BEGIN:VEVENT
DTSTART;VALUE=DATE:20230922
DTEND;VALUE=DATE:20230923
DTSTAMP:20260422T062211
CREATED:20230908T172506Z
LAST-MODIFIED:20230908T172506Z
UID:9032-1695340800-1695427199@www.moorsideschools.org.uk
SUMMARY:Jeans for Genes Day
DESCRIPTION:
URL:https://www.moorsideschools.org.uk/event/jeans-for-genes-day-4/
ATTACH;FMTTYPE=image/png:https://www.moorsideschools.org.uk/wp-content/uploads/2022/09/Jeans-for-Genes.png
END:VEVENT
BEGIN:VEVENT
DTSTART;VALUE=DATE:20230926
DTEND;VALUE=DATE:20230927
DTSTAMP:20260422T062211
CREATED:20230915T144015Z
LAST-MODIFIED:20230915T144015Z
UID:9054-1695686400-1695772799@www.moorsideschools.org.uk
SUMMARY:Y3 & Y4 Trip to Fountains Abbey
DESCRIPTION:
URL:https://www.moorsideschools.org.uk/event/y3-y4-trip-to-fountains-abbey/
ATTACH;FMTTYPE=image/jpeg:https://www.moorsideschools.org.uk/wp-content/uploads/2020/02/Fountains-Abbey.jpg
END:VEVENT
END:VCALENDAR