   BEGIN:VCALENDAR
VERSION:2.0
PRODID:-//Moorside Primary School and Nursery - ECPv6.11.0.1//NONSGML v1.0//EN
CALSCALE:GREGORIAN
METHOD:PUBLISH
X-ORIGINAL-URL:https://www.moorsideschools.org.uk
X-WR-CALDESC:Events for Moorside Primary School and Nursery
REFRESH-INTERVAL;VALUE=DURATION:PT1H
X-Robots-Tag:noindex
X-PUBLISHED-TTL:PT1H
BEGIN:VTIMEZONE
TZID:UTC
BEGIN:STANDARD
TZOFFSETFROM:+0000
TZOFFSETTO:+0000
TZNAME:UTC
DTSTART:20230101T000000
END:STANDARD
END:VTIMEZONE
BEGIN:VEVENT
DTSTART;VALUE=DATE:20230717
DTEND;VALUE=DATE:20230722
DTSTAMP:20260422T090534
CREATED:20230424T151854Z
LAST-MODIFIED:20230424T151854Z
UID:8778-1689552000-1689983999@www.moorsideschools.org.uk
SUMMARY:Enterprise Week
DESCRIPTION:
URL:https://www.moorsideschools.org.uk/event/enterprise-week/
ATTACH;FMTTYPE=image/jpeg:https://www.moorsideschools.org.uk/wp-content/uploads/2023/04/enterprise.jpg
END:VEVENT
BEGIN:VEVENT
DTSTART;TZID=UTC:20230717T093000
DTEND;TZID=UTC:20230717T103000
DTSTAMP:20260422T090534
CREATED:20230424T152050Z
LAST-MODIFIED:20230424T152106Z
UID:8781-1689586200-1689589800@www.moorsideschools.org.uk
SUMMARY:Friendship Concert
DESCRIPTION:
URL:https://www.moorsideschools.org.uk/event/friendship-concert/
ATTACH;FMTTYPE=image/jpeg:https://www.moorsideschools.org.uk/wp-content/uploads/2023/04/friendship.jpg
END:VEVENT
BEGIN:VEVENT
DTSTART;TZID=UTC:20230718T143000
DTEND;TZID=UTC:20230718T153000
DTSTAMP:20260422T090534
CREATED:20230424T152202Z
LAST-MODIFIED:20230424T152202Z
UID:8784-1689690600-1689694200@www.moorsideschools.org.uk
SUMMARY:Friendship Concert
DESCRIPTION:
URL:https://www.moorsideschools.org.uk/event/friendship-concert-2/
ATTACH;FMTTYPE=image/jpeg:https://www.moorsideschools.org.uk/wp-content/uploads/2023/04/friendship.jpg
END:VEVENT
BEGIN:VEVENT
DTSTART;TZID=UTC:20230720T143000
DTEND;TZID=UTC:20230720T160000
DTSTAMP:20260422T090534
CREATED:20230616T141533Z
LAST-MODIFIED:20230616T141533Z
UID:8871-1689863400-1689868800@www.moorsideschools.org.uk
SUMMARY:Strawberry Fair
DESCRIPTION:
URL:https://www.moorsideschools.org.uk/event/strawberry-fair/
ATTACH;FMTTYPE=image/jpeg:https://www.moorsideschools.org.uk/wp-content/uploads/2017/07/jez-timms-217017.jpg
END:VEVENT
BEGIN:VEVENT
DTSTART;TZID=UTC:20230721T093000
DTEND;TZID=UTC:20230721T100000
DTSTAMP:20260422T090534
CREATED:20230616T141324Z
LAST-MODIFIED:20230616T141347Z
UID:8868-1689931800-1689933600@www.moorsideschools.org.uk
SUMMARY:Y6 Leavers Assembly (time to be confirmed)
DESCRIPTION:
URL:https://www.moorsideschools.org.uk/event/y6-leavers-assembly-2/
ATTACH;FMTTYPE=image/png:https://www.moorsideschools.org.uk/wp-content/uploads/2021/07/Goodbye-And-Good-Luck.png
END:VEVENT
BEGIN:VEVENT
DTSTART;VALUE=DATE:20230725
DTEND;VALUE=DATE:20230726
DTSTAMP:20260422T090534
CREATED:20230424T152306Z
LAST-MODIFIED:20230424T152306Z
UID:8786-1690243200-1690329599@www.moorsideschools.org.uk
SUMMARY:Sports Day
DESCRIPTION:
URL:https://www.moorsideschools.org.uk/event/sports-day-3/
ATTACH;FMTTYPE=image/jpeg:https://www.moorsideschools.org.uk/wp-content/uploads/2022/06/Sports.jpg
END:VEVENT
BEGIN:VEVENT
DTSTART;TZID=UTC:20230725T150000
DTEND;TZID=UTC:20230725T150000
DTSTAMP:20260422T090534
CREATED:20230424T152528Z
LAST-MODIFIED:20230424T152528Z
UID:8789-1690297200-1690297200@www.moorsideschools.org.uk
SUMMARY:Break-up for Summer Holidays
DESCRIPTION:
URL:https://www.moorsideschools.org.uk/event/break-up-for-summer-holidays/
ATTACH;FMTTYPE=image/png:https://www.moorsideschools.org.uk/wp-content/uploads/2019/12/Break-up-for-holidays.png
END:VEVENT
END:VCALENDAR