   BEGIN:VCALENDAR
VERSION:2.0
PRODID:-//Moorside Primary School and Nursery - ECPv6.11.0.1//NONSGML v1.0//EN
CALSCALE:GREGORIAN
METHOD:PUBLISH
X-ORIGINAL-URL:https://www.moorsideschools.org.uk
X-WR-CALDESC:Events for Moorside Primary School and Nursery
REFRESH-INTERVAL;VALUE=DURATION:PT1H
X-Robots-Tag:noindex
X-PUBLISHED-TTL:PT1H
BEGIN:VTIMEZONE
TZID:UTC
BEGIN:STANDARD
TZOFFSETFROM:+0000
TZOFFSETTO:+0000
TZNAME:UTC
DTSTART:20230101T000000
END:STANDARD
END:VTIMEZONE
BEGIN:VEVENT
DTSTART;TZID=UTC:20230201T153000
DTEND;TZID=UTC:20230201T163000
DTSTAMP:20260422T152154
CREATED:20230113T161138Z
LAST-MODIFIED:20230113T161138Z
UID:8507-1675265400-1675269000@www.moorsideschools.org.uk
SUMMARY:Reading Cafe
DESCRIPTION:
URL:https://www.moorsideschools.org.uk/event/reading-cafe-6/
ATTACH;FMTTYPE=image/png:https://www.moorsideschools.org.uk/wp-content/uploads/2022/03/reading-cafe.png
END:VEVENT
BEGIN:VEVENT
DTSTART;VALUE=DATE:20230208
DTEND;VALUE=DATE:20230209
DTSTAMP:20260422T152154
CREATED:20230113T161326Z
LAST-MODIFIED:20230113T161326Z
UID:8509-1675814400-1675900799@www.moorsideschools.org.uk
SUMMARY:Internet Safety Day
DESCRIPTION:
URL:https://www.moorsideschools.org.uk/event/internet-safety-day/
ATTACH;FMTTYPE=image/jpeg:https://www.moorsideschools.org.uk/wp-content/uploads/2021/03/Computing1-e1615200145144.jpg
END:VEVENT
BEGIN:VEVENT
DTSTART;TZID=UTC:20230210T152000
DTEND;TZID=UTC:20230210T152000
DTSTAMP:20260422T152154
CREATED:20230113T161439Z
LAST-MODIFIED:20230113T161557Z
UID:8511-1676042400-1676042400@www.moorsideschools.org.uk
SUMMARY:Break-up for Half Term Holidays
DESCRIPTION:
URL:https://www.moorsideschools.org.uk/event/break-up-for-half-term-holidays-3/
ATTACH;FMTTYPE=image/png:https://www.moorsideschools.org.uk/wp-content/uploads/2019/12/Break-up-for-holidays.png
END:VEVENT
BEGIN:VEVENT
DTSTART;VALUE=DATE:20230220
DTEND;VALUE=DATE:20230221
DTSTAMP:20260422T152154
CREATED:20230113T161651Z
LAST-MODIFIED:20230113T161651Z
UID:8513-1676851200-1676937599@www.moorsideschools.org.uk
SUMMARY:Back to School
DESCRIPTION:
URL:https://www.moorsideschools.org.uk/event/back-to-school-5/
ATTACH;FMTTYPE=image/png:https://www.moorsideschools.org.uk/wp-content/uploads/2020/01/back-to-school.png
END:VEVENT
BEGIN:VEVENT
DTSTART;TZID=UTC:20230222T140000
DTEND;TZID=UTC:20230222T150000
DTSTAMP:20260422T152154
CREATED:20230130T095743Z
LAST-MODIFIED:20230130T095743Z
UID:8543-1677074400-1677078000@www.moorsideschools.org.uk
SUMMARY:Maths Event
DESCRIPTION:
URL:https://www.moorsideschools.org.uk/event/maths-event/
ATTACH;FMTTYPE=image/jpeg:https://www.moorsideschools.org.uk/wp-content/uploads/2020/01/maths.jpg
END:VEVENT
END:VCALENDAR