   BEGIN:VCALENDAR
VERSION:2.0
PRODID:-//Moorside Primary School and Nursery - ECPv6.11.0.1//NONSGML v1.0//EN
CALSCALE:GREGORIAN
METHOD:PUBLISH
X-ORIGINAL-URL:https://www.moorsideschools.org.uk
X-WR-CALDESC:Events for Moorside Primary School and Nursery
REFRESH-INTERVAL;VALUE=DURATION:PT1H
X-Robots-Tag:noindex
X-PUBLISHED-TTL:PT1H
BEGIN:VTIMEZONE
TZID:UTC
BEGIN:STANDARD
TZOFFSETFROM:+0000
TZOFFSETTO:+0000
TZNAME:UTC
DTSTART:20230101T000000
END:STANDARD
END:VTIMEZONE
BEGIN:VEVENT
DTSTART;VALUE=DATE:20230103
DTEND;VALUE=DATE:20230104
DTSTAMP:20260422T163058
CREATED:20221104T165108Z
LAST-MODIFIED:20221104T165108Z
UID:8356-1672704000-1672790399@www.moorsideschools.org.uk
SUMMARY:Teacher Training Day
DESCRIPTION:
URL:https://www.moorsideschools.org.uk/event/teacher-training-day-2/
ATTACH;FMTTYPE=image/jpeg:https://www.moorsideschools.org.uk/wp-content/uploads/2021/04/teacher-training-day-300x288-1.jpg
END:VEVENT
BEGIN:VEVENT
DTSTART;TZID=UTC:20230104T085000
DTEND;TZID=UTC:20230104T090000
DTSTAMP:20260422T163058
CREATED:20221104T165229Z
LAST-MODIFIED:20221104T165229Z
UID:8358-1672822200-1672822800@www.moorsideschools.org.uk
SUMMARY:School Re-opens for the Spring Term
DESCRIPTION:
URL:https://www.moorsideschools.org.uk/event/school-re-opens-for-the-spring-term/
ATTACH;FMTTYPE=image/png:https://www.moorsideschools.org.uk/wp-content/uploads/2020/01/back-to-school.png
END:VEVENT
END:VCALENDAR