   BEGIN:VCALENDAR
VERSION:2.0
PRODID:-//Moorside Primary School and Nursery - ECPv6.11.0.1//NONSGML v1.0//EN
CALSCALE:GREGORIAN
METHOD:PUBLISH
X-ORIGINAL-URL:https://www.moorsideschools.org.uk
X-WR-CALDESC:Events for Moorside Primary School and Nursery
REFRESH-INTERVAL;VALUE=DURATION:PT1H
X-Robots-Tag:noindex
X-PUBLISHED-TTL:PT1H
BEGIN:VTIMEZONE
TZID:UTC
BEGIN:STANDARD
TZOFFSETFROM:+0000
TZOFFSETTO:+0000
TZNAME:UTC
DTSTART:20220101T000000
END:STANDARD
END:VTIMEZONE
BEGIN:VEVENT
DTSTART;TZID=UTC:20221205T140000
DTEND;TZID=UTC:20221205T150000
DTSTAMP:20260422T203702
CREATED:20221104T160728Z
LAST-MODIFIED:20221104T160728Z
UID:8330-1670248800-1670252400@www.moorsideschools.org.uk
SUMMARY:KS1 Nativity
DESCRIPTION:
URL:https://www.moorsideschools.org.uk/event/ks1-nativity/
ATTACH;FMTTYPE=image/png:https://www.moorsideschools.org.uk/wp-content/uploads/2022/11/christmas-receipe.png
END:VEVENT
BEGIN:VEVENT
DTSTART;TZID=UTC:20221205T153000
DTEND;TZID=UTC:20221216T173000
DTSTAMP:20260422T203702
CREATED:20221104T160614Z
LAST-MODIFIED:20221104T160614Z
UID:8328-1670254200-1671211800@www.moorsideschools.org.uk
SUMMARY:Parents Evenings
DESCRIPTION:
URL:https://www.moorsideschools.org.uk/event/parents-evenings-5/
ATTACH;FMTTYPE=image/jpeg:https://www.moorsideschools.org.uk/wp-content/uploads/2019/11/Parents-evening.jpg
END:VEVENT
BEGIN:VEVENT
DTSTART;TZID=UTC:20221206T093000
DTEND;TZID=UTC:20221206T103000
DTSTAMP:20260422T203702
CREATED:20221104T160823Z
LAST-MODIFIED:20221104T160823Z
UID:8333-1670319000-1670322600@www.moorsideschools.org.uk
SUMMARY:KS1 Nativity
DESCRIPTION:
URL:https://www.moorsideschools.org.uk/event/ks1-nativity-2/
ATTACH;FMTTYPE=image/png:https://www.moorsideschools.org.uk/wp-content/uploads/2022/11/christmas-receipe.png
END:VEVENT
BEGIN:VEVENT
DTSTART;TZID=UTC:20221207T140000
DTEND;TZID=UTC:20221207T150000
DTSTAMP:20260422T203702
CREATED:20221104T160935Z
LAST-MODIFIED:20221104T160935Z
UID:8335-1670421600-1670425200@www.moorsideschools.org.uk
SUMMARY:Nursery & Reception Nativity
DESCRIPTION:
URL:https://www.moorsideschools.org.uk/event/nursery-reception-nativity/
ATTACH;FMTTYPE=image/jpeg:https://www.moorsideschools.org.uk/wp-content/uploads/2019/12/nativity2-1.jpg
END:VEVENT
BEGIN:VEVENT
DTSTART;TZID=UTC:20221208T093000
DTEND;TZID=UTC:20221208T103000
DTSTAMP:20260422T203702
CREATED:20221104T161030Z
LAST-MODIFIED:20221104T161030Z
UID:8337-1670491800-1670495400@www.moorsideschools.org.uk
SUMMARY:Nursery & Reception Nativity
DESCRIPTION:
URL:https://www.moorsideschools.org.uk/event/nursery-reception-nativity-2/
ATTACH;FMTTYPE=image/jpeg:https://www.moorsideschools.org.uk/wp-content/uploads/2019/12/nativity2-1.jpg
END:VEVENT
BEGIN:VEVENT
DTSTART;TZID=UTC:20221212T134500
DTEND;TZID=UTC:20221212T144500
DTSTAMP:20260422T203702
CREATED:20221104T164204Z
LAST-MODIFIED:20221104T164204Z
UID:8343-1670852700-1670856300@www.moorsideschools.org.uk
SUMMARY:KS2 Performance - Letters from the Trenches
DESCRIPTION:
URL:https://www.moorsideschools.org.uk/event/ks2-performance-letters-from-the-trenches/
ATTACH;FMTTYPE=image/webp:https://www.moorsideschools.org.uk/wp-content/uploads/2022/11/letters-from-the-trenches.webp
END:VEVENT
BEGIN:VEVENT
DTSTART;TZID=UTC:20221213T173000
DTEND;TZID=UTC:20221213T183000
DTSTAMP:20260422T203702
CREATED:20221104T164306Z
LAST-MODIFIED:20221104T164306Z
UID:8346-1670952600-1670956200@www.moorsideschools.org.uk
SUMMARY:KS2 Performance - Letters from the Trenches
DESCRIPTION:
URL:https://www.moorsideschools.org.uk/event/ks2-performance-letters-from-the-trenches-2/
ATTACH;FMTTYPE=image/webp:https://www.moorsideschools.org.uk/wp-content/uploads/2022/11/letters-from-the-trenches.webp
END:VEVENT
BEGIN:VEVENT
DTSTART;VALUE=DATE:20221214
DTEND;VALUE=DATE:20221215
DTSTAMP:20260422T203702
CREATED:20221104T164610Z
LAST-MODIFIED:20221104T164610Z
UID:8348-1670976000-1671062399@www.moorsideschools.org.uk
SUMMARY:Christmas Lunch & Jumper Day!
DESCRIPTION:
URL:https://www.moorsideschools.org.uk/event/christmas-lunch-jumper-day/
ATTACH;FMTTYPE=image/jpeg:https://www.moorsideschools.org.uk/wp-content/uploads/2022/11/christmas-jumper.jpg
END:VEVENT
BEGIN:VEVENT
DTSTART;TZID=UTC:20221214T143000
DTEND;TZID=UTC:20221214T160000
DTSTAMP:20260422T203702
CREATED:20221104T164841Z
LAST-MODIFIED:20221104T164841Z
UID:8351-1671028200-1671033600@www.moorsideschools.org.uk
SUMMARY:Christmas Fair
DESCRIPTION:
URL:https://www.moorsideschools.org.uk/event/christmas-fair/
ATTACH;FMTTYPE=image/jpeg:https://www.moorsideschools.org.uk/wp-content/uploads/2022/11/christmas-fair.jpg
END:VEVENT
BEGIN:VEVENT
DTSTART;TZID=UTC:20221215T161500
DTEND;TZID=UTC:20221215T170000
DTSTAMP:20260422T203702
CREATED:20221118T161755Z
LAST-MODIFIED:20221118T161755Z
UID:8383-1671120900-1671123600@www.moorsideschools.org.uk
SUMMARY:Bedtime Stories by the Christmas Tree
DESCRIPTION:
URL:https://www.moorsideschools.org.uk/event/bedtime-stories-by-the-christmas-tree/
ATTACH;FMTTYPE=image/jpeg:https://www.moorsideschools.org.uk/wp-content/uploads/2019/12/Christmas-reading.jpg
END:VEVENT
BEGIN:VEVENT
DTSTART;VALUE=DATE:20221216
DTEND;VALUE=DATE:20221217
DTSTAMP:20260422T203702
CREATED:20221111T161852Z
LAST-MODIFIED:20221111T161852Z
UID:8379-1671148800-1671235199@www.moorsideschools.org.uk
SUMMARY:Christmas Party Day (non-uniform)
DESCRIPTION:
URL:https://www.moorsideschools.org.uk/event/christmas-party-day-non-uniform/
ATTACH;FMTTYPE=image/jpeg:https://www.moorsideschools.org.uk/wp-content/uploads/2021/11/imgbin-disco-ball-wearing-christmas-hats-mkA9T8pfCwHFrkFKQP5gDXQPn.jpg
END:VEVENT
BEGIN:VEVENT
DTSTART;TZID=UTC:20221216T150000
DTEND;TZID=UTC:20221216T150000
DTSTAMP:20260422T203702
CREATED:20221104T164948Z
LAST-MODIFIED:20221104T164948Z
UID:8354-1671202800-1671202800@www.moorsideschools.org.uk
SUMMARY:Break-up for the Christmas Holidays
DESCRIPTION:
URL:https://www.moorsideschools.org.uk/event/break-up-for-the-christmas-holidays/
ATTACH;FMTTYPE=image/png:https://www.moorsideschools.org.uk/wp-content/uploads/2019/12/Break-up-for-holidays.png
END:VEVENT
END:VCALENDAR