   BEGIN:VCALENDAR
VERSION:2.0
PRODID:-//Moorside Primary School and Nursery - ECPv6.11.0.1//NONSGML v1.0//EN
CALSCALE:GREGORIAN
METHOD:PUBLISH
X-WR-CALNAME:Moorside Primary School and Nursery
X-ORIGINAL-URL:https://www.moorsideschools.org.uk
X-WR-CALDESC:Events for Moorside Primary School and Nursery
REFRESH-INTERVAL;VALUE=DURATION:PT1H
X-Robots-Tag:noindex
X-PUBLISHED-TTL:PT1H
BEGIN:VTIMEZONE
TZID:UTC
BEGIN:STANDARD
TZOFFSETFROM:+0000
TZOFFSETTO:+0000
TZNAME:UTC
DTSTART:20210101T000000
END:STANDARD
END:VTIMEZONE
BEGIN:VEVENT
DTSTART;VALUE=DATE:20210607
DTEND;VALUE=DATE:20210608
DTSTAMP:20260423T192938
CREATED:20210426T141603Z
LAST-MODIFIED:20210426T141807Z
UID:6787-1623024000-1623110399@www.moorsideschools.org.uk
SUMMARY:School Closed for Teacher Training Day
DESCRIPTION:
URL:https://www.moorsideschools.org.uk/event/school-closed-for-teacher-training-day/
ATTACH;FMTTYPE=image/jpeg:https://www.moorsideschools.org.uk/wp-content/uploads/2021/04/teacher-training-day-300x288-1.jpg
END:VEVENT
BEGIN:VEVENT
DTSTART;TZID=UTC:20210608T083000
DTEND;TZID=UTC:20210608T090000
DTSTAMP:20260423T192938
CREATED:20210426T141738Z
LAST-MODIFIED:20210426T141738Z
UID:6790-1623141000-1623142800@www.moorsideschools.org.uk
SUMMARY:School Re-opens after Half Term Holidays
DESCRIPTION:
URL:https://www.moorsideschools.org.uk/event/school-re-opens-after-half-term-holidays-2/
ATTACH;FMTTYPE=image/png:https://www.moorsideschools.org.uk/wp-content/uploads/2020/01/back-to-school.png
END:VEVENT
BEGIN:VEVENT
DTSTART;VALUE=DATE:20210611
DTEND;VALUE=DATE:20210612
DTSTAMP:20260423T192938
CREATED:20210607T092512Z
LAST-MODIFIED:20210607T092512Z
UID:6875-1623369600-1623455999@www.moorsideschools.org.uk
SUMMARY:Queen's Birthday Celebrations
DESCRIPTION:
URL:https://www.moorsideschools.org.uk/event/queens-birthday-celebrations/
ATTACH;FMTTYPE=image/jpeg:https://www.moorsideschools.org.uk/wp-content/uploads/2021/06/AU-T-996-The-Queens-Birthday-Display-Bunting.jpg
END:VEVENT
BEGIN:VEVENT
DTSTART;VALUE=DATE:20210611
DTEND;VALUE=DATE:20210612
DTSTAMP:20260423T192938
CREATED:20210607T092916Z
LAST-MODIFIED:20210607T092916Z
UID:6878-1623369600-1623455999@www.moorsideschools.org.uk
SUMMARY:Murton Park Visitors for Children in Years 3 & 4
DESCRIPTION:
URL:https://www.moorsideschools.org.uk/event/murton-park-visitors-for-children-in-years-3-4/
ATTACH;FMTTYPE=image/png:https://www.moorsideschools.org.uk/wp-content/uploads/2021/06/Murton-Park-Logo-12.png
END:VEVENT
BEGIN:VEVENT
DTSTART;TZID=UTC:20210629T090000
DTEND;TZID=UTC:20210629T100000
DTSTAMP:20260423T192938
CREATED:20210611T094849Z
LAST-MODIFIED:20210611T094912Z
UID:6907-1624957200-1624960800@www.moorsideschools.org.uk
SUMMARY:Nursery & Reception Open Morning
DESCRIPTION:
URL:https://www.moorsideschools.org.uk/event/nursery-reception-opening-morning/
ATTACH;FMTTYPE=image/png:https://www.moorsideschools.org.uk/wp-content/uploads/2021/06/Opening-Morning-1.png
END:VEVENT
BEGIN:VEVENT
DTSTART;VALUE=DATE:20210630
DTEND;VALUE=DATE:20210701
DTSTAMP:20260423T192938
CREATED:20210607T093223Z
LAST-MODIFIED:20210607T093223Z
UID:6881-1625011200-1625097599@www.moorsideschools.org.uk
SUMMARY:Year 1 & 2 Trip to Saltburn
DESCRIPTION:
URL:https://www.moorsideschools.org.uk/event/year-1-2-trip-to-saltburn/
ATTACH;FMTTYPE=image/jpeg:https://www.moorsideschools.org.uk/wp-content/uploads/2021/06/clifftop-view-pier-saltburn-by-sea_29505-33.jpg
END:VEVENT
END:VCALENDAR