   BEGIN:VCALENDAR
VERSION:2.0
PRODID:-//Moorside Primary School and Nursery - ECPv6.11.0.1//NONSGML v1.0//EN
CALSCALE:GREGORIAN
METHOD:PUBLISH
X-ORIGINAL-URL:https://www.moorsideschools.org.uk
X-WR-CALDESC:Events for Moorside Primary School and Nursery
REFRESH-INTERVAL;VALUE=DURATION:PT1H
X-Robots-Tag:noindex
X-PUBLISHED-TTL:PT1H
BEGIN:VTIMEZONE
TZID:UTC
BEGIN:STANDARD
TZOFFSETFROM:+0000
TZOFFSETTO:+0000
TZNAME:UTC
DTSTART:20200101T000000
END:STANDARD
END:VTIMEZONE
BEGIN:VEVENT
DTSTART;VALUE=DATE:20200115
DTEND;VALUE=DATE:20200116
DTSTAMP:20260424T144440
CREATED:20200113T164100Z
LAST-MODIFIED:20200113T164100Z
UID:3312-1579046400-1579132799@www.moorsideschools.org.uk
SUMMARY:The Big Book Swap
DESCRIPTION:
URL:https://www.moorsideschools.org.uk/event/the-big-book-swap/
ATTACH;FMTTYPE=image/jpeg:https://www.moorsideschools.org.uk/wp-content/uploads/2020/01/Book-Swap.jpeg
END:VEVENT
BEGIN:VEVENT
DTSTART;TZID=UTC:20200115T090000
DTEND;TZID=UTC:20200117T150000
DTSTAMP:20260424T144440
CREATED:20200113T164012Z
LAST-MODIFIED:20200113T164012Z
UID:3309-1579078800-1579273200@www.moorsideschools.org.uk
SUMMARY:Year 5 Residential to Marrick Priory
DESCRIPTION:
URL:https://www.moorsideschools.org.uk/event/year-5-residential-to-marrick-priory/
ATTACH;FMTTYPE=image/jpeg:https://www.moorsideschools.org.uk/wp-content/uploads/2020/01/Welcome-to-Marrick-Priory.jpg
END:VEVENT
BEGIN:VEVENT
DTSTART;TZID=UTC:20200120T090000
DTEND;TZID=UTC:20200124T150000
DTSTAMP:20260424T144440
CREATED:20200113T164158Z
LAST-MODIFIED:20200113T164158Z
UID:3315-1579510800-1579878000@www.moorsideschools.org.uk
SUMMARY:Sponsored Reading Week
DESCRIPTION:
URL:https://www.moorsideschools.org.uk/event/sponsored-reading-week/
ATTACH;FMTTYPE=image/jpeg:https://www.moorsideschools.org.uk/wp-content/uploads/2020/01/Sponsored-read.jpg
END:VEVENT
BEGIN:VEVENT
DTSTART;VALUE=DATE:20200124
DTEND;VALUE=DATE:20200125
DTSTAMP:20260424T144440
CREATED:20200113T164459Z
LAST-MODIFIED:20200113T164459Z
UID:3318-1579824000-1579910399@www.moorsideschools.org.uk
SUMMARY:Kawasaki Awareness Day - wear red to school
DESCRIPTION:
URL:https://www.moorsideschools.org.uk/event/kawasaki-awareness-day-wear-red-to-school/
ATTACH;FMTTYPE=image/png:https://www.moorsideschools.org.uk/wp-content/uploads/2020/01/Kawasaki.png
END:VEVENT
BEGIN:VEVENT
DTSTART;TZID=UTC:20200128T152000
DTEND;TZID=UTC:20200128T160000
DTSTAMP:20260424T144440
CREATED:20200120T151112Z
LAST-MODIFIED:20200120T151112Z
UID:3338-1580224800-1580227200@www.moorsideschools.org.uk
SUMMARY:Reading Cafe
DESCRIPTION:
URL:https://www.moorsideschools.org.uk/event/reading-cafe-3/
ATTACH;FMTTYPE=image/jpeg:https://www.moorsideschools.org.uk/wp-content/uploads/2019/11/Reading-Cafe.jpg
END:VEVENT
END:VCALENDAR