   BEGIN:VCALENDAR
VERSION:2.0
PRODID:-//Moorside Primary School and Nursery - ECPv6.11.0.1//NONSGML v1.0//EN
CALSCALE:GREGORIAN
METHOD:PUBLISH
X-ORIGINAL-URL:https://www.moorsideschools.org.uk
X-WR-CALDESC:Events for Moorside Primary School and Nursery
REFRESH-INTERVAL;VALUE=DURATION:PT1H
X-Robots-Tag:noindex
X-PUBLISHED-TTL:PT1H
BEGIN:VTIMEZONE
TZID:UTC
BEGIN:STANDARD
TZOFFSETFROM:+0000
TZOFFSETTO:+0000
TZNAME:UTC
DTSTART:20190101T000000
END:STANDARD
END:VTIMEZONE
BEGIN:VEVENT
DTSTART;VALUE=DATE:20191104
DTEND;VALUE=DATE:20191106
DTSTAMP:20260424T165044
CREATED:20190923T161215Z
LAST-MODIFIED:20191104T163715Z
UID:2456-1572825600-1572998399@www.moorsideschools.org.uk
SUMMARY:School Closed - Training Day
DESCRIPTION:
URL:https://www.moorsideschools.org.uk/event/school-closed-training-day/
ATTACH;FMTTYPE=image/jpeg:https://www.moorsideschools.org.uk/wp-content/uploads/2019/09/Training-day.jpg
END:VEVENT
BEGIN:VEVENT
DTSTART;VALUE=DATE:20191112
DTEND;VALUE=DATE:20191113
DTSTAMP:20260424T165044
CREATED:20191014T144153Z
LAST-MODIFIED:20191104T163111Z
UID:2517-1573516800-1573603199@www.moorsideschools.org.uk
SUMMARY:Railway Museum Trip - Years 1 & 2
DESCRIPTION:
URL:https://www.moorsideschools.org.uk/event/railway-museum-trip-years-1-2/
ATTACH;FMTTYPE=image/jpeg:https://www.moorsideschools.org.uk/wp-content/uploads/2019/10/Railway-Museum.jpg
END:VEVENT
BEGIN:VEVENT
DTSTART;VALUE=DATE:20191112
DTEND;VALUE=DATE:20191113
DTSTAMP:20260424T165044
CREATED:20191014T144236Z
LAST-MODIFIED:20191104T162956Z
UID:2519-1573516800-1573603199@www.moorsideschools.org.uk
SUMMARY:Royal Armouries Trip - Years 3 & 4
DESCRIPTION:
URL:https://www.moorsideschools.org.uk/event/royal-armouries-trip-years-3-4/
ATTACH;FMTTYPE=image/jpeg:https://www.moorsideschools.org.uk/wp-content/uploads/2019/10/Royal-Armouries.jpg
END:VEVENT
BEGIN:VEVENT
DTSTART;VALUE=DATE:20191113
DTEND;VALUE=DATE:20191114
DTSTAMP:20260424T165044
CREATED:20191104T161816Z
LAST-MODIFIED:20191104T161816Z
UID:2767-1573603200-1573689599@www.moorsideschools.org.uk
SUMMARY:Wear Odd Socks Day!
DESCRIPTION:
URL:https://www.moorsideschools.org.uk/event/wear-odd-socks-day/
ATTACH;FMTTYPE=image/png:https://www.moorsideschools.org.uk/wp-content/uploads/2019/11/socks2-md.png
END:VEVENT
BEGIN:VEVENT
DTSTART;VALUE=DATE:20191115
DTEND;VALUE=DATE:20191116
DTSTAMP:20260424T165044
CREATED:20191104T165500Z
LAST-MODIFIED:20191104T165500Z
UID:2782-1573776000-1573862399@www.moorsideschools.org.uk
SUMMARY:Children in Need Day
DESCRIPTION:
URL:https://www.moorsideschools.org.uk/event/children-in-need-day/
ATTACH;FMTTYPE=image/jpeg:https://www.moorsideschools.org.uk/wp-content/uploads/2019/11/Pudsey.jpg
END:VEVENT
BEGIN:VEVENT
DTSTART;TZID=UTC:20191118T153000
DTEND;TZID=UTC:20191118T160000
DTSTAMP:20260424T165044
CREATED:20191112T101126Z
LAST-MODIFIED:20191112T101334Z
UID:2833-1574091000-1574092800@www.moorsideschools.org.uk
SUMMARY:East Barnby Information Evening
DESCRIPTION:
URL:https://www.moorsideschools.org.uk/event/east-barnby-information-evening/
ATTACH;FMTTYPE=image/png:https://www.moorsideschools.org.uk/wp-content/uploads/2019/11/Information-picutre.png
END:VEVENT
BEGIN:VEVENT
DTSTART;TZID=UTC:20191121T144500
DTEND;TZID=UTC:20191121T151500
DTSTAMP:20260424T165044
CREATED:20191118T144001Z
LAST-MODIFIED:20191118T144001Z
UID:2854-1574347500-1574349300@www.moorsideschools.org.uk
SUMMARY:EYFS Nursery Rhymes for Parents
DESCRIPTION:
URL:https://www.moorsideschools.org.uk/event/eyfs-nursery-rhymes-for-parents/
ATTACH;FMTTYPE=image/jpeg:https://www.moorsideschools.org.uk/wp-content/uploads/2019/11/Nursery-ryhmes.jpg
END:VEVENT
BEGIN:VEVENT
DTSTART;TZID=UTC:20191125T090000
DTEND;TZID=UTC:20191127T150000
DTSTAMP:20260424T165044
CREATED:20191014T144401Z
LAST-MODIFIED:20191104T163254Z
UID:2521-1574672400-1574866800@www.moorsideschools.org.uk
SUMMARY:East Barnby Residential - Year 6
DESCRIPTION:
URL:https://www.moorsideschools.org.uk/event/east-barnby-residential-year-6/
ATTACH;FMTTYPE=image/jpeg:https://www.moorsideschools.org.uk/wp-content/uploads/2019/10/East-Barnby.jpg
END:VEVENT
BEGIN:VEVENT
DTSTART;TZID=UTC:20191126T152000
DTEND;TZID=UTC:20191126T160000
DTSTAMP:20260424T165044
CREATED:20191118T145432Z
LAST-MODIFIED:20191118T145432Z
UID:2859-1574781600-1574784000@www.moorsideschools.org.uk
SUMMARY:Reading Cafe
DESCRIPTION:
URL:https://www.moorsideschools.org.uk/event/reading-cafe-2/
ATTACH;FMTTYPE=image/jpeg:https://www.moorsideschools.org.uk/wp-content/uploads/2019/11/Reading-Cafe.jpg
END:VEVENT
BEGIN:VEVENT
DTSTART;TZID=UTC:20191127T140000
DTEND;TZID=UTC:20191127T143000
DTSTAMP:20260424T165044
CREATED:20191115T111509Z
LAST-MODIFIED:20191115T111509Z
UID:2843-1574863200-1574865000@www.moorsideschools.org.uk
SUMMARY:Year 3 and Year 4 Showcase
DESCRIPTION:
URL:https://www.moorsideschools.org.uk/event/year-3-and-year-4-showcase/
ATTACH;FMTTYPE=image/png:https://www.moorsideschools.org.uk/wp-content/uploads/2019/11/Showcase.png
END:VEVENT
BEGIN:VEVENT
DTSTART;VALUE=DATE:20191129
DTEND;VALUE=DATE:20191130
DTSTAMP:20260424T165044
CREATED:20191014T144441Z
LAST-MODIFIED:20191104T163638Z
UID:2523-1574985600-1575071999@www.moorsideschools.org.uk
SUMMARY:Individual School Photographs
DESCRIPTION:
URL:https://www.moorsideschools.org.uk/event/individual-school-photographs-2/
ATTACH;FMTTYPE=image/png:https://www.moorsideschools.org.uk/wp-content/uploads/2019/10/Phototronics.png
END:VEVENT
END:VCALENDAR