   BEGIN:VCALENDAR
VERSION:2.0
PRODID:-//Moorside Primary School and Nursery - ECPv6.11.0.1//NONSGML v1.0//EN
CALSCALE:GREGORIAN
METHOD:PUBLISH
X-ORIGINAL-URL:https://www.moorsideschools.org.uk
X-WR-CALDESC:Events for Moorside Primary School and Nursery
REFRESH-INTERVAL;VALUE=DURATION:PT1H
X-Robots-Tag:noindex
X-PUBLISHED-TTL:PT1H
BEGIN:VTIMEZONE
TZID:UTC
BEGIN:STANDARD
TZOFFSETFROM:+0000
TZOFFSETTO:+0000
TZNAME:UTC
DTSTART:20190101T000000
END:STANDARD
END:VTIMEZONE
BEGIN:VEVENT
DTSTART;TZID=UTC:20190503T113000
DTEND;TZID=UTC:20190503T120000
DTSTAMP:20260424T235932
CREATED:20190503T125429Z
LAST-MODIFIED:20190503T125429Z
UID:1947-1556883000-1556884800@www.moorsideschools.org.uk
SUMMARY:Tour de Yorkshire
DESCRIPTION:
URL:https://www.moorsideschools.org.uk/event/tour-de-yorkshire/
END:VEVENT
BEGIN:VEVENT
DTSTART;VALUE=DATE:20190506
DTEND;VALUE=DATE:20190507
DTSTAMP:20260424T235932
CREATED:20190408T153439Z
LAST-MODIFIED:20190408T153439Z
UID:1859-1557100800-1557187199@www.moorsideschools.org.uk
SUMMARY:May Day Bank Holiday
DESCRIPTION:
URL:https://www.moorsideschools.org.uk/event/may-day-bank-holiday/
END:VEVENT
BEGIN:VEVENT
DTSTART;TZID=UTC:20190513T090000
DTEND;TZID=UTC:20190517T150000
DTSTAMP:20260424T235932
CREATED:20190503T125523Z
LAST-MODIFIED:20190503T125523Z
UID:1949-1557738000-1558105200@www.moorsideschools.org.uk
SUMMARY:Y6 SATs Week
DESCRIPTION:
URL:https://www.moorsideschools.org.uk/event/y6-sats-week-2/
END:VEVENT
BEGIN:VEVENT
DTSTART;TZID=UTC:20190524T152000
DTEND;TZID=UTC:20190524T152000
DTSTAMP:20260424T235932
CREATED:20190503T125748Z
LAST-MODIFIED:20190503T125748Z
UID:1951-1558711200-1558711200@www.moorsideschools.org.uk
SUMMARY:Break-up for Half Term
DESCRIPTION:
URL:https://www.moorsideschools.org.uk/event/break-up-for-half-term-4/
END:VEVENT
END:VCALENDAR