   BEGIN:VCALENDAR
VERSION:2.0
PRODID:-//Moorside Primary School and Nursery - ECPv6.11.0.1//NONSGML v1.0//EN
CALSCALE:GREGORIAN
METHOD:PUBLISH
X-ORIGINAL-URL:https://www.moorsideschools.org.uk
X-WR-CALDESC:Events for Moorside Primary School and Nursery
REFRESH-INTERVAL;VALUE=DURATION:PT1H
X-Robots-Tag:noindex
X-PUBLISHED-TTL:PT1H
BEGIN:VTIMEZONE
TZID:UTC
BEGIN:STANDARD
TZOFFSETFROM:+0000
TZOFFSETTO:+0000
TZNAME:UTC
DTSTART:20260101T000000
END:STANDARD
END:VTIMEZONE
BEGIN:VEVENT
DTSTART;TZID=UTC:20260608T154500
DTEND;TZID=UTC:20260608T161500
DTSTAMP:20260421T175507
CREATED:20260421T112733Z
LAST-MODIFIED:20260421T112733Z
UID:11457-1780933500-1780935300@www.moorsideschools.org.uk
SUMMARY:September 2026 Reception Starters Parents Meeting
DESCRIPTION:
URL:https://www.moorsideschools.org.uk/event/september-2026-reception-starters-parents-meeting/
ATTACH;FMTTYPE=image/png:https://www.moorsideschools.org.uk/wp-content/uploads/2020/07/Starting-School.png
END:VEVENT
BEGIN:VEVENT
DTSTART;TZID=UTC:20260609T152000
DTEND;TZID=UTC:20260609T160000
DTSTAMP:20260421T175507
CREATED:20260421T112843Z
LAST-MODIFIED:20260421T112843Z
UID:11459-1781018400-1781020800@www.moorsideschools.org.uk
SUMMARY:Reading Cafe
DESCRIPTION:
URL:https://www.moorsideschools.org.uk/event/reading-cafe-14/
ATTACH;FMTTYPE=image/png:https://www.moorsideschools.org.uk/wp-content/uploads/2022/03/reading-cafe.png
END:VEVENT
BEGIN:VEVENT
DTSTART;VALUE=DATE:20260610
DTEND;VALUE=DATE:20260611
DTSTAMP:20260421T175507
CREATED:20260421T112927Z
LAST-MODIFIED:20260421T112927Z
UID:11461-1781049600-1781135999@www.moorsideschools.org.uk
SUMMARY:Y3 Visit to Bland Close Farm
DESCRIPTION:
URL:https://www.moorsideschools.org.uk/event/y3-visit-to-bland-close-farm/
ATTACH;FMTTYPE=image/jpeg:https://www.moorsideschools.org.uk/wp-content/uploads/2023/04/Baby-Farm-Animals.jpg
END:VEVENT
BEGIN:VEVENT
DTSTART;VALUE=DATE:20260616
DTEND;VALUE=DATE:20260617
DTSTAMP:20260421T175507
CREATED:20260324T091018Z
LAST-MODIFIED:20260324T091018Z
UID:11362-1781568000-1781654399@www.moorsideschools.org.uk
SUMMARY:Year 6 First Aid Workshop
DESCRIPTION:
URL:https://www.moorsideschools.org.uk/event/year-6-first-aid-workshop/
ATTACH;FMTTYPE=image/jpeg:https://www.moorsideschools.org.uk/wp-content/uploads/2026/03/first-aid.jpg
END:VEVENT
BEGIN:VEVENT
DTSTART;VALUE=DATE:20260702
DTEND;VALUE=DATE:20260703
DTSTAMP:20260421T175507
CREATED:20260421T113106Z
LAST-MODIFIED:20260421T113106Z
UID:11463-1782950400-1783036799@www.moorsideschools.org.uk
SUMMARY:Y6 Trip to Edinburgh
DESCRIPTION:
URL:https://www.moorsideschools.org.uk/event/y6-trip-to-edinburgh/
ATTACH;FMTTYPE=image/webp:https://www.moorsideschools.org.uk/wp-content/uploads/2026/04/Scotland-Flag.webp
END:VEVENT
BEGIN:VEVENT
DTSTART;VALUE=DATE:20260703
DTEND;VALUE=DATE:20260704
DTSTAMP:20260421T175507
CREATED:20260324T091344Z
LAST-MODIFIED:20260324T091344Z
UID:11365-1783036800-1783123199@www.moorsideschools.org.uk
SUMMARY:Dental Visit
DESCRIPTION:
URL:https://www.moorsideschools.org.uk/event/dental-visit/
ATTACH;FMTTYPE=image/webp:https://www.moorsideschools.org.uk/wp-content/uploads/2026/03/dental.webp
END:VEVENT
BEGIN:VEVENT
DTSTART;VALUE=DATE:20260706
DTEND;VALUE=DATE:20260711
DTSTAMP:20260421T175507
CREATED:20260324T091455Z
LAST-MODIFIED:20260324T091455Z
UID:11368-1783296000-1783727999@www.moorsideschools.org.uk
SUMMARY:National Sports Week
DESCRIPTION:
URL:https://www.moorsideschools.org.uk/event/national-sports-week/
ATTACH;FMTTYPE=image/jpeg:https://www.moorsideschools.org.uk/wp-content/uploads/2022/06/Sports.jpg
END:VEVENT
BEGIN:VEVENT
DTSTART;TZID=UTC:20260706T090000
DTEND;TZID=UTC:20260710T150000
DTSTAMP:20260421T175507
CREATED:20260421T113534Z
LAST-MODIFIED:20260421T113534Z
UID:11466-1783328400-1783695600@www.moorsideschools.org.uk
SUMMARY:Young Enterprise Week
DESCRIPTION:
URL:https://www.moorsideschools.org.uk/event/young-enterprise-week/
ATTACH;FMTTYPE=image/avif:https://www.moorsideschools.org.uk/wp-content/uploads/2026/04/Young-enterprise.avif
END:VEVENT
BEGIN:VEVENT
DTSTART;TZID=UTC:20260717T145500
DTEND;TZID=UTC:20260717T150000
DTSTAMP:20260421T175507
CREATED:20260421T113633Z
LAST-MODIFIED:20260421T113633Z
UID:11469-1784300100-1784300400@www.moorsideschools.org.uk
SUMMARY:Break-up for Summer holidays at 3pm
DESCRIPTION:
URL:https://www.moorsideschools.org.uk/event/break-up-for-summer-holidays-at-3pm-3/
ATTACH;FMTTYPE=image/png:https://www.moorsideschools.org.uk/wp-content/uploads/2019/12/Break-up-for-holidays.png
END:VEVENT
END:VCALENDAR