   BEGIN:VCALENDAR
VERSION:2.0
PRODID:-//Moorside Primary School and Nursery - ECPv6.11.0.1//NONSGML v1.0//EN
CALSCALE:GREGORIAN
METHOD:PUBLISH
X-WR-CALNAME:Moorside Primary School and Nursery
X-ORIGINAL-URL:https://www.moorsideschools.org.uk
X-WR-CALDESC:Events for Moorside Primary School and Nursery
REFRESH-INTERVAL;VALUE=DURATION:PT1H
X-Robots-Tag:noindex
X-PUBLISHED-TTL:PT1H
BEGIN:VTIMEZONE
TZID:UTC
BEGIN:STANDARD
TZOFFSETFROM:+0000
TZOFFSETTO:+0000
TZNAME:UTC
DTSTART:20180101T000000
END:STANDARD
END:VTIMEZONE
BEGIN:VEVENT
DTSTART;TZID=UTC:20190222T151500
DTEND;TZID=UTC:20190222T152000
DTSTAMP:20260421T050214
CREATED:20190129T142636Z
LAST-MODIFIED:20190129T142636Z
UID:1660-1550848500-1550848800@www.moorsideschools.org.uk
SUMMARY:Break-up for Half Term
DESCRIPTION:
URL:https://www.moorsideschools.org.uk/event/break-up-for-half-term-3/
END:VEVENT
BEGIN:VEVENT
DTSTART;TZID=UTC:20190212T180000
DTEND;TZID=UTC:20190212T193000
DTSTAMP:20260421T050214
CREATED:20190211T154814Z
LAST-MODIFIED:20190211T154814Z
UID:1689-1549994400-1549999800@www.moorsideschools.org.uk
SUMMARY:Valentine's Disco (Juniors)
DESCRIPTION:
URL:https://www.moorsideschools.org.uk/event/valentines-disco-juniors/
END:VEVENT
BEGIN:VEVENT
DTSTART;TZID=UTC:20190212T161500
DTEND;TZID=UTC:20190212T174500
DTSTAMP:20260421T050214
CREATED:20190211T154726Z
LAST-MODIFIED:20190211T154726Z
UID:1687-1549988100-1549993500@www.moorsideschools.org.uk
SUMMARY:Valentine's Disco (Infants)
DESCRIPTION:
URL:https://www.moorsideschools.org.uk/event/valentines-disco-infants/
END:VEVENT
BEGIN:VEVENT
DTSTART;TZID=UTC:20190212T130000
DTEND;TZID=UTC:20190212T150000
DTSTAMP:20260421T050214
CREATED:20190211T154616Z
LAST-MODIFIED:20190211T154616Z
UID:1685-1549976400-1549983600@www.moorsideschools.org.uk
SUMMARY:The Big Sing at Ripon Cathedral
DESCRIPTION:
URL:https://www.moorsideschools.org.uk/event/the-big-sing-at-ripon-cathedral/
END:VEVENT
BEGIN:VEVENT
DTSTART;VALUE=DATE:20190212
DTEND;VALUE=DATE:20190213
DTSTAMP:20260421T050214
CREATED:20190211T154933Z
LAST-MODIFIED:20190211T154933Z
UID:1691-1549929600-1550015999@www.moorsideschools.org.uk
SUMMARY:Box2BFit
DESCRIPTION:
URL:https://www.moorsideschools.org.uk/event/box2bfit/
END:VEVENT
BEGIN:VEVENT
DTSTART;TZID=UTC:20190129T150000
DTEND;TZID=UTC:20190129T160000
DTSTAMP:20260421T050214
CREATED:20190129T142534Z
LAST-MODIFIED:20190129T142534Z
UID:1658-1548774000-1548777600@www.moorsideschools.org.uk
SUMMARY:KS1 & KS2 Reading Cafes
DESCRIPTION:
URL:https://www.moorsideschools.org.uk/event/ks1-ks2-reading-cafes/
END:VEVENT
BEGIN:VEVENT
DTSTART;VALUE=DATE:20190125
DTEND;VALUE=DATE:20190126
DTSTAMP:20260421T050214
CREATED:20190129T142440Z
LAST-MODIFIED:20190129T142440Z
UID:1656-1548374400-1548460799@www.moorsideschools.org.uk
SUMMARY:Kawasaki Awareness Day
DESCRIPTION:
URL:https://www.moorsideschools.org.uk/event/kawasaki-awareness-day/
END:VEVENT
BEGIN:VEVENT
DTSTART;TZID=UTC:20190114T090000
DTEND;TZID=UTC:20190118T150000
DTSTAMP:20260421T050214
CREATED:20190129T142353Z
LAST-MODIFIED:20190129T142353Z
UID:1654-1547456400-1547823600@www.moorsideschools.org.uk
SUMMARY:Year 5 Marrick Priory Residential
DESCRIPTION:
URL:https://www.moorsideschools.org.uk/event/year-5-marrick-priory-residential/
END:VEVENT
BEGIN:VEVENT
DTSTART;TZID=UTC:20190108T090000
DTEND;TZID=UTC:20190108T153000
DTSTAMP:20260421T050214
CREATED:20181107T155455Z
LAST-MODIFIED:20181107T155455Z
UID:1449-1546938000-1546961400@www.moorsideschools.org.uk
SUMMARY:Return to School after Christmas Holidays
DESCRIPTION:
URL:https://www.moorsideschools.org.uk/event/return-to-school-after-christmas-holidays/
END:VEVENT
BEGIN:VEVENT
DTSTART;TZID=UTC:20181221T150000
DTEND;TZID=UTC:20181221T150000
DTSTAMP:20260421T050214
CREATED:20181107T155409Z
LAST-MODIFIED:20181107T155409Z
UID:1447-1545404400-1545404400@www.moorsideschools.org.uk
SUMMARY:Break-up for Christmas at 3pm
DESCRIPTION:
URL:https://www.moorsideschools.org.uk/event/break-up-for-christmas-at-3pm/
END:VEVENT
BEGIN:VEVENT
DTSTART;TZID=UTC:20181221T140000
DTEND;TZID=UTC:20181221T143000
DTSTAMP:20260421T050214
CREATED:20181205T134432Z
LAST-MODIFIED:20181205T134432Z
UID:1545-1545400800-1545402600@www.moorsideschools.org.uk
SUMMARY:Carols Round the Tree (2.00pm)
DESCRIPTION:
URL:https://www.moorsideschools.org.uk/event/carols-round-the-tree-2-00pm/
END:VEVENT
BEGIN:VEVENT
DTSTART;TZID=UTC:20181218T133000
DTEND;TZID=UTC:20181218T143000
DTSTAMP:20260421T050214
CREATED:20181205T134340Z
LAST-MODIFIED:20181205T134340Z
UID:1543-1545139800-1545143400@www.moorsideschools.org.uk
SUMMARY:KS2 Performance (1.30pm)
DESCRIPTION:
URL:https://www.moorsideschools.org.uk/event/ks2-performance-1-30pm-2/
END:VEVENT
BEGIN:VEVENT
DTSTART;TZID=UTC:20181218T093000
DTEND;TZID=UTC:20181218T100000
DTSTAMP:20260421T050214
CREATED:20181205T134258Z
LAST-MODIFIED:20181205T134258Z
UID:1541-1545125400-1545127200@www.moorsideschools.org.uk
SUMMARY:EYFS Nativity (9.30am)
DESCRIPTION:
URL:https://www.moorsideschools.org.uk/event/eyfs-nativity-9-30am-2/
END:VEVENT
BEGIN:VEVENT
DTSTART;TZID=UTC:20181217T133000
DTEND;TZID=UTC:20181217T143000
DTSTAMP:20260421T050214
CREATED:20181205T134212Z
LAST-MODIFIED:20181205T134212Z
UID:1539-1545053400-1545057000@www.moorsideschools.org.uk
SUMMARY:KS2 Performance (1.30pm)
DESCRIPTION:
URL:https://www.moorsideschools.org.uk/event/ks2-performance-1-30pm/
END:VEVENT
BEGIN:VEVENT
DTSTART;TZID=UTC:20181217T093000
DTEND;TZID=UTC:20181217T100000
DTSTAMP:20260421T050214
CREATED:20181205T134054Z
LAST-MODIFIED:20181205T134054Z
UID:1537-1545039000-1545040800@www.moorsideschools.org.uk
SUMMARY:EYFS Nativity (9.30am)
DESCRIPTION:
URL:https://www.moorsideschools.org.uk/event/eyfs-nativity-9-30am/
END:VEVENT
BEGIN:VEVENT
DTSTART;TZID=UTC:20181214T140000
DTEND;TZID=UTC:20181214T150000
DTSTAMP:20260421T050214
CREATED:20181205T133932Z
LAST-MODIFIED:20181205T133932Z
UID:1535-1544796000-1544799600@www.moorsideschools.org.uk
SUMMARY:KS1 Nativity (2.00pm)
DESCRIPTION:
URL:https://www.moorsideschools.org.uk/event/ks1-nativity-2-00pm/
END:VEVENT
BEGIN:VEVENT
DTSTART;TZID=UTC:20181213T120000
DTEND;TZID=UTC:20181213T130000
DTSTAMP:20260421T050214
CREATED:20181205T133225Z
LAST-MODIFIED:20181205T133225Z
UID:1531-1544702400-1544706000@www.moorsideschools.org.uk
SUMMARY:Whole School Christmas Lunch (Rec - Y6)
DESCRIPTION:
URL:https://www.moorsideschools.org.uk/event/whole-school-christmas-lunch-rec-y6/
END:VEVENT
BEGIN:VEVENT
DTSTART;TZID=UTC:20181213T090000
DTEND;TZID=UTC:20181213T150000
DTSTAMP:20260421T050214
CREATED:20181205T133350Z
LAST-MODIFIED:20181205T133350Z
UID:1533-1544691600-1544713200@www.moorsideschools.org.uk
SUMMARY:Christmas Jumper Day
DESCRIPTION:
URL:https://www.moorsideschools.org.uk/event/christmas-jumper-day/
END:VEVENT
BEGIN:VEVENT
DTSTART;TZID=UTC:20181213T090000
DTEND;TZID=UTC:20181213T100000
DTSTAMP:20260421T050214
CREATED:20181205T133129Z
LAST-MODIFIED:20181205T133129Z
UID:1529-1544691600-1544695200@www.moorsideschools.org.uk
SUMMARY:KS1 Nativity Play (9.15am)
DESCRIPTION:
URL:https://www.moorsideschools.org.uk/event/ks1-nativity-play-9-15am/
END:VEVENT
BEGIN:VEVENT
DTSTART;TZID=UTC:20181207T140000
DTEND;TZID=UTC:20181207T160000
DTSTAMP:20260421T050214
CREATED:20181205T133044Z
LAST-MODIFIED:20181205T133044Z
UID:1527-1544191200-1544198400@www.moorsideschools.org.uk
SUMMARY:FOMS Christmas Fair (2.15pm - 4.15pm)
DESCRIPTION:
URL:https://www.moorsideschools.org.uk/event/foms-christmas-fair-2-15pm-4-15pm/
END:VEVENT
BEGIN:VEVENT
DTSTART;TZID=UTC:20181203T153000
DTEND;TZID=UTC:20181206T173000
DTSTAMP:20260421T050214
CREATED:20181205T132925Z
LAST-MODIFIED:20181205T132925Z
UID:1525-1543851000-1544117400@www.moorsideschools.org.uk
SUMMARY:Parents Evenings
DESCRIPTION:
URL:https://www.moorsideschools.org.uk/event/parents-evenings/
END:VEVENT
BEGIN:VEVENT
DTSTART;VALUE=DATE:20181116
DTEND;VALUE=DATE:20181117
DTSTAMP:20260421T050214
CREATED:20181107T155247Z
LAST-MODIFIED:20181107T155247Z
UID:1445-1542326400-1542412799@www.moorsideschools.org.uk
SUMMARY:Children in Need
DESCRIPTION:
URL:https://www.moorsideschools.org.uk/event/children-in-need/
END:VEVENT
BEGIN:VEVENT
DTSTART;VALUE=DATE:20181112
DTEND;VALUE=DATE:20181113
DTSTAMP:20260421T050214
CREATED:20181107T155215Z
LAST-MODIFIED:20181107T155215Z
UID:1443-1541980800-1542067199@www.moorsideschools.org.uk
SUMMARY:KS2 Trip to Eden Camp
DESCRIPTION:
URL:https://www.moorsideschools.org.uk/event/ks2-trip-to-eden-camp/
END:VEVENT
BEGIN:VEVENT
DTSTART;TZID=UTC:20181106T090000
DTEND;TZID=UTC:20181106T090000
DTSTAMP:20260421T050214
CREATED:20180911T085851Z
LAST-MODIFIED:20180911T085851Z
UID:1320-1541494800-1541494800@www.moorsideschools.org.uk
SUMMARY:School Re-opens
DESCRIPTION:
URL:https://www.moorsideschools.org.uk/event/school-re-opens-2/
END:VEVENT
BEGIN:VEVENT
DTSTART;TZID=UTC:20181026T153000
DTEND;TZID=UTC:20181026T153000
DTSTAMP:20260421T050214
CREATED:20180911T085810Z
LAST-MODIFIED:20180911T085810Z
UID:1318-1540567800-1540567800@www.moorsideschools.org.uk
SUMMARY:Break-up for Half Term
DESCRIPTION:
URL:https://www.moorsideschools.org.uk/event/break-up-for-half-term-2/
END:VEVENT
BEGIN:VEVENT
DTSTART;TZID=UTC:20181023T160000
DTEND;TZID=UTC:20181023T190000
DTSTAMP:20260421T050214
CREATED:20181008T152422Z
LAST-MODIFIED:20181008T152422Z
UID:1382-1540310400-1540321200@www.moorsideschools.org.uk
SUMMARY:Halloween Disco - Infants 4.15pm & Juniors 6.00pm
DESCRIPTION:
URL:https://www.moorsideschools.org.uk/event/halloween-disco-infants-4-15pm-juniors-6-00pm/
END:VEVENT
BEGIN:VEVENT
DTSTART;TZID=UTC:20181019T093000
DTEND;TZID=UTC:20181019T100000
DTSTAMP:20260421T050214
CREATED:20181008T152318Z
LAST-MODIFIED:20181008T152318Z
UID:1380-1539941400-1539943200@www.moorsideschools.org.uk
SUMMARY:KS1 Harvest Festival 9.30am
DESCRIPTION:
URL:https://www.moorsideschools.org.uk/event/ks1-harvest-festival-9-30am/
END:VEVENT
BEGIN:VEVENT
DTSTART;VALUE=DATE:20181018
DTEND;VALUE=DATE:20181019
DTSTAMP:20260421T050214
CREATED:20181008T152233Z
LAST-MODIFIED:20181008T152233Z
UID:1378-1539820800-1539907199@www.moorsideschools.org.uk
SUMMARY:Individual School Photographs
DESCRIPTION:
URL:https://www.moorsideschools.org.uk/event/individual-school-photographs/
END:VEVENT
BEGIN:VEVENT
DTSTART;TZID=UTC:20181017T150000
DTEND;TZID=UTC:20181017T160000
DTSTAMP:20260421T050214
CREATED:20181008T152057Z
LAST-MODIFIED:20181008T152057Z
UID:1376-1539788400-1539792000@www.moorsideschools.org.uk
SUMMARY:KS1 Reading & Phonics Meeting - 3.15pm
DESCRIPTION:
URL:https://www.moorsideschools.org.uk/event/ks1-reading-phonics-meeting-3-15pm/
END:VEVENT
BEGIN:VEVENT
DTSTART;TZID=UTC:20181010T150000
DTEND;TZID=UTC:20181010T160000
DTSTAMP:20260421T050214
CREATED:20181008T151950Z
LAST-MODIFIED:20181008T151950Z
UID:1374-1539183600-1539187200@www.moorsideschools.org.uk
SUMMARY:EYFS Phonics & Reading Meeting - 3.15pm
DESCRIPTION:
URL:https://www.moorsideschools.org.uk/event/eyfs-phonics-reading-meeting-3-15pm/
END:VEVENT
END:VCALENDAR