   BEGIN:VCALENDAR
VERSION:2.0
PRODID:-//Moorside Primary School and Nursery - ECPv6.11.0.1//NONSGML v1.0//EN
CALSCALE:GREGORIAN
METHOD:PUBLISH
X-WR-CALNAME:Moorside Primary School and Nursery
X-ORIGINAL-URL:https://www.moorsideschools.org.uk
X-WR-CALDESC:Events for Moorside Primary School and Nursery
REFRESH-INTERVAL;VALUE=DURATION:PT1H
X-Robots-Tag:noindex
X-PUBLISHED-TTL:PT1H
BEGIN:VTIMEZONE
TZID:UTC
BEGIN:STANDARD
TZOFFSETFROM:+0000
TZOFFSETTO:+0000
TZNAME:UTC
DTSTART:20190101T000000
END:STANDARD
END:VTIMEZONE
BEGIN:VEVENT
DTSTART;TZID=UTC:20191216T133000
DTEND;TZID=UTC:20191216T143000
DTSTAMP:20260421T035603
CREATED:20191104T165837Z
LAST-MODIFIED:20191202T165238Z
UID:2791-1576503000-1576506600@www.moorsideschools.org.uk
SUMMARY:KS2 Christmas Production - 1.30pm
DESCRIPTION:
URL:https://www.moorsideschools.org.uk/event/ks2-christmas-production-time-tbc/
ATTACH;FMTTYPE=image/jpeg:https://www.moorsideschools.org.uk/wp-content/uploads/2019/11/Nativity.jpg
END:VEVENT
BEGIN:VEVENT
DTSTART;TZID=UTC:20191213T150000
DTEND;TZID=UTC:20191213T170000
DTSTAMP:20260421T035603
CREATED:20191104T165736Z
LAST-MODIFIED:20191104T165736Z
UID:2788-1576249200-1576256400@www.moorsideschools.org.uk
SUMMARY:FOMs Christmas Fair
DESCRIPTION:
URL:https://www.moorsideschools.org.uk/event/foms-christmas-fair/
ATTACH;FMTTYPE=image/jpeg:https://www.moorsideschools.org.uk/wp-content/uploads/2019/11/Christmas-Tree.jpg
END:VEVENT
BEGIN:VEVENT
DTSTART;VALUE=DATE:20191213
DTEND;VALUE=DATE:20191214
DTSTAMP:20260421T035603
CREATED:20191118T143639Z
LAST-MODIFIED:20191118T143639Z
UID:2851-1576195200-1576281599@www.moorsideschools.org.uk
SUMMARY:Save the Children Christmas Jumper Day
DESCRIPTION:
URL:https://www.moorsideschools.org.uk/event/save-the-children-christmas-jumper-day/
ATTACH;FMTTYPE=image/jpeg:https://www.moorsideschools.org.uk/wp-content/uploads/2019/11/Save-the-Children-Christmas-Jumper-Day.jpg
END:VEVENT
BEGIN:VEVENT
DTSTART;TZID=UTC:20191212T143000
DTEND;TZID=UTC:20191212T150000
DTSTAMP:20260421T035603
CREATED:20191202T165159Z
LAST-MODIFIED:20191202T170445Z
UID:2994-1576161000-1576162800@www.moorsideschools.org.uk
SUMMARY:EYFS Nativity - 2.30pm
DESCRIPTION:
URL:https://www.moorsideschools.org.uk/event/eyfs-nativity-2-30pm/
ATTACH;FMTTYPE=image/jpeg:https://www.moorsideschools.org.uk/wp-content/uploads/2019/12/nativity2-1.jpg
END:VEVENT
BEGIN:VEVENT
DTSTART;VALUE=DATE:20191212
DTEND;VALUE=DATE:20191213
DTSTAMP:20260421T035603
CREATED:20191104T164955Z
LAST-MODIFIED:20191202T162518Z
UID:2779-1576108800-1576195199@www.moorsideschools.org.uk
SUMMARY:KS1 Nativity - 9.30am
DESCRIPTION:
URL:https://www.moorsideschools.org.uk/event/ks1-nativity-time-tbc-2/
ATTACH;FMTTYPE=image/jpeg:https://www.moorsideschools.org.uk/wp-content/uploads/2019/11/Nativity.jpg
END:VEVENT
BEGIN:VEVENT
DTSTART;TZID=UTC:20191211T093000
DTEND;TZID=UTC:20191211T100000
DTSTAMP:20260421T035603
CREATED:20191202T165054Z
LAST-MODIFIED:20191202T170519Z
UID:2991-1576056600-1576058400@www.moorsideschools.org.uk
SUMMARY:EYFS Nativity - 9.30am
DESCRIPTION:
URL:https://www.moorsideschools.org.uk/event/eyfs-nativity-9-30am-3/
ATTACH;FMTTYPE=image/jpeg:https://www.moorsideschools.org.uk/wp-content/uploads/2019/12/nativity2-1.jpg
END:VEVENT
BEGIN:VEVENT
DTSTART;VALUE=DATE:20191211
DTEND;VALUE=DATE:20191212
DTSTAMP:20260421T035603
CREATED:20191104T164323Z
LAST-MODIFIED:20191202T162440Z
UID:2776-1576022400-1576108799@www.moorsideschools.org.uk
SUMMARY:KS1 Nativity - 2.30pm
DESCRIPTION:
URL:https://www.moorsideschools.org.uk/event/ks1-nativity-time-tbc/
ATTACH;FMTTYPE=image/jpeg:https://www.moorsideschools.org.uk/wp-content/uploads/2019/11/Nativity.jpg
END:VEVENT
BEGIN:VEVENT
DTSTART;TZID=UTC:20191209T153000
DTEND;TZID=UTC:20191213T170000
DTSTAMP:20260421T035603
CREATED:20191104T165612Z
LAST-MODIFIED:20191104T165612Z
UID:2785-1575905400-1576256400@www.moorsideschools.org.uk
SUMMARY:Parents Evenings
DESCRIPTION:
URL:https://www.moorsideschools.org.uk/event/parents-evenings-3/
ATTACH;FMTTYPE=image/jpeg:https://www.moorsideschools.org.uk/wp-content/uploads/2019/11/Parents-evening.jpg
END:VEVENT
BEGIN:VEVENT
DTSTART;VALUE=DATE:20191129
DTEND;VALUE=DATE:20191130
DTSTAMP:20260421T035603
CREATED:20191014T144441Z
LAST-MODIFIED:20191104T163638Z
UID:2523-1574985600-1575071999@www.moorsideschools.org.uk
SUMMARY:Individual School Photographs
DESCRIPTION:
URL:https://www.moorsideschools.org.uk/event/individual-school-photographs-2/
ATTACH;FMTTYPE=image/png:https://www.moorsideschools.org.uk/wp-content/uploads/2019/10/Phototronics.png
END:VEVENT
BEGIN:VEVENT
DTSTART;TZID=UTC:20191127T140000
DTEND;TZID=UTC:20191127T143000
DTSTAMP:20260421T035603
CREATED:20191115T111509Z
LAST-MODIFIED:20191115T111509Z
UID:2843-1574863200-1574865000@www.moorsideschools.org.uk
SUMMARY:Year 3 and Year 4 Showcase
DESCRIPTION:
URL:https://www.moorsideschools.org.uk/event/year-3-and-year-4-showcase/
ATTACH;FMTTYPE=image/png:https://www.moorsideschools.org.uk/wp-content/uploads/2019/11/Showcase.png
END:VEVENT
BEGIN:VEVENT
DTSTART;TZID=UTC:20191126T152000
DTEND;TZID=UTC:20191126T160000
DTSTAMP:20260421T035603
CREATED:20191118T145432Z
LAST-MODIFIED:20191118T145432Z
UID:2859-1574781600-1574784000@www.moorsideschools.org.uk
SUMMARY:Reading Cafe
DESCRIPTION:
URL:https://www.moorsideschools.org.uk/event/reading-cafe-2/
ATTACH;FMTTYPE=image/jpeg:https://www.moorsideschools.org.uk/wp-content/uploads/2019/11/Reading-Cafe.jpg
END:VEVENT
BEGIN:VEVENT
DTSTART;TZID=UTC:20191125T090000
DTEND;TZID=UTC:20191127T150000
DTSTAMP:20260421T035603
CREATED:20191014T144401Z
LAST-MODIFIED:20191104T163254Z
UID:2521-1574672400-1574866800@www.moorsideschools.org.uk
SUMMARY:East Barnby Residential - Year 6
DESCRIPTION:
URL:https://www.moorsideschools.org.uk/event/east-barnby-residential-year-6/
ATTACH;FMTTYPE=image/jpeg:https://www.moorsideschools.org.uk/wp-content/uploads/2019/10/East-Barnby.jpg
END:VEVENT
BEGIN:VEVENT
DTSTART;TZID=UTC:20191121T144500
DTEND;TZID=UTC:20191121T151500
DTSTAMP:20260421T035603
CREATED:20191118T144001Z
LAST-MODIFIED:20191118T144001Z
UID:2854-1574347500-1574349300@www.moorsideschools.org.uk
SUMMARY:EYFS Nursery Rhymes for Parents
DESCRIPTION:
URL:https://www.moorsideschools.org.uk/event/eyfs-nursery-rhymes-for-parents/
ATTACH;FMTTYPE=image/jpeg:https://www.moorsideschools.org.uk/wp-content/uploads/2019/11/Nursery-ryhmes.jpg
END:VEVENT
BEGIN:VEVENT
DTSTART;TZID=UTC:20191118T153000
DTEND;TZID=UTC:20191118T160000
DTSTAMP:20260421T035603
CREATED:20191112T101126Z
LAST-MODIFIED:20191112T101334Z
UID:2833-1574091000-1574092800@www.moorsideschools.org.uk
SUMMARY:East Barnby Information Evening
DESCRIPTION:
URL:https://www.moorsideschools.org.uk/event/east-barnby-information-evening/
ATTACH;FMTTYPE=image/png:https://www.moorsideschools.org.uk/wp-content/uploads/2019/11/Information-picutre.png
END:VEVENT
BEGIN:VEVENT
DTSTART;VALUE=DATE:20191115
DTEND;VALUE=DATE:20191116
DTSTAMP:20260421T035603
CREATED:20191104T165500Z
LAST-MODIFIED:20191104T165500Z
UID:2782-1573776000-1573862399@www.moorsideschools.org.uk
SUMMARY:Children in Need Day
DESCRIPTION:
URL:https://www.moorsideschools.org.uk/event/children-in-need-day/
ATTACH;FMTTYPE=image/jpeg:https://www.moorsideschools.org.uk/wp-content/uploads/2019/11/Pudsey.jpg
END:VEVENT
BEGIN:VEVENT
DTSTART;VALUE=DATE:20191113
DTEND;VALUE=DATE:20191114
DTSTAMP:20260421T035603
CREATED:20191104T161816Z
LAST-MODIFIED:20191104T161816Z
UID:2767-1573603200-1573689599@www.moorsideschools.org.uk
SUMMARY:Wear Odd Socks Day!
DESCRIPTION:
URL:https://www.moorsideschools.org.uk/event/wear-odd-socks-day/
ATTACH;FMTTYPE=image/png:https://www.moorsideschools.org.uk/wp-content/uploads/2019/11/socks2-md.png
END:VEVENT
BEGIN:VEVENT
DTSTART;VALUE=DATE:20191112
DTEND;VALUE=DATE:20191113
DTSTAMP:20260421T035603
CREATED:20191014T144236Z
LAST-MODIFIED:20191104T162956Z
UID:2519-1573516800-1573603199@www.moorsideschools.org.uk
SUMMARY:Royal Armouries Trip - Years 3 & 4
DESCRIPTION:
URL:https://www.moorsideschools.org.uk/event/royal-armouries-trip-years-3-4/
ATTACH;FMTTYPE=image/jpeg:https://www.moorsideschools.org.uk/wp-content/uploads/2019/10/Royal-Armouries.jpg
END:VEVENT
BEGIN:VEVENT
DTSTART;VALUE=DATE:20191112
DTEND;VALUE=DATE:20191113
DTSTAMP:20260421T035603
CREATED:20191014T144153Z
LAST-MODIFIED:20191104T163111Z
UID:2517-1573516800-1573603199@www.moorsideschools.org.uk
SUMMARY:Railway Museum Trip - Years 1 & 2
DESCRIPTION:
URL:https://www.moorsideschools.org.uk/event/railway-museum-trip-years-1-2/
ATTACH;FMTTYPE=image/jpeg:https://www.moorsideschools.org.uk/wp-content/uploads/2019/10/Railway-Museum.jpg
END:VEVENT
BEGIN:VEVENT
DTSTART;VALUE=DATE:20191104
DTEND;VALUE=DATE:20191106
DTSTAMP:20260421T035603
CREATED:20190923T161215Z
LAST-MODIFIED:20191104T163715Z
UID:2456-1572825600-1572998399@www.moorsideschools.org.uk
SUMMARY:School Closed - Training Day
DESCRIPTION:
URL:https://www.moorsideschools.org.uk/event/school-closed-training-day/
ATTACH;FMTTYPE=image/jpeg:https://www.moorsideschools.org.uk/wp-content/uploads/2019/09/Training-day.jpg
END:VEVENT
BEGIN:VEVENT
DTSTART;TZID=UTC:20191025T151500
DTEND;TZID=UTC:20191025T152000
DTSTAMP:20260421T035603
CREATED:20190909T144441Z
LAST-MODIFIED:20191023T095032Z
UID:2407-1572016500-1572016800@www.moorsideschools.org.uk
SUMMARY:Break-up for Half Term
DESCRIPTION:
URL:https://www.moorsideschools.org.uk/event/break-up-for-half-term-5/
ATTACH;FMTTYPE=image/jpeg:https://www.moorsideschools.org.uk/wp-content/uploads/2017/07/jez-timms-217017.jpg
END:VEVENT
BEGIN:VEVENT
DTSTART;TZID=UTC:20191022T170000
DTEND;TZID=UTC:20191022T190000
DTSTAMP:20260421T035603
CREATED:20190923T161115Z
LAST-MODIFIED:20190923T161115Z
UID:2454-1571763600-1571770800@www.moorsideschools.org.uk
SUMMARY:Halloween Disco
DESCRIPTION:
URL:https://www.moorsideschools.org.uk/event/halloween-disco/
END:VEVENT
BEGIN:VEVENT
DTSTART;TZID=UTC:20191016T153000
DTEND;TZID=UTC:20191016T170000
DTSTAMP:20260421T035603
CREATED:20190930T151716Z
LAST-MODIFIED:20190930T151716Z
UID:2470-1571239800-1571245200@www.moorsideschools.org.uk
SUMMARY:Curriculum Sharing Event
DESCRIPTION:
URL:https://www.moorsideschools.org.uk/event/curriculum-sharing-event/
END:VEVENT
BEGIN:VEVENT
DTSTART;TZID=UTC:20191016T091500
DTEND;TZID=UTC:20191016T093000
DTSTAMP:20260421T035603
CREATED:20190916T150553Z
LAST-MODIFIED:20190916T150553Z
UID:2429-1571217300-1571218200@www.moorsideschools.org.uk
SUMMARY:KS1 Harvest Assembly
DESCRIPTION:
URL:https://www.moorsideschools.org.uk/event/ks1-harvest-assembly/
END:VEVENT
BEGIN:VEVENT
DTSTART;VALUE=DATE:20191009
DTEND;VALUE=DATE:20191010
DTSTAMP:20260421T035603
CREATED:20190930T151551Z
LAST-MODIFIED:20190930T151551Z
UID:2468-1570579200-1570665599@www.moorsideschools.org.uk
SUMMARY:Y3 Book Hullabaloo
DESCRIPTION:
URL:https://www.moorsideschools.org.uk/event/y3-book-hullabaloo/
END:VEVENT
BEGIN:VEVENT
DTSTART;TZID=UTC:20191001T151500
DTEND;TZID=UTC:20191001T160000
DTSTAMP:20260421T035603
CREATED:20190923T161028Z
LAST-MODIFIED:20190923T161028Z
UID:2452-1569942900-1569945600@www.moorsideschools.org.uk
SUMMARY:'Starbooks' Reading Cafe
DESCRIPTION:
URL:https://www.moorsideschools.org.uk/event/starbooks-reading-cafe/
END:VEVENT
BEGIN:VEVENT
DTSTART;VALUE=DATE:20191001
DTEND;VALUE=DATE:20191002
DTSTAMP:20260421T035603
CREATED:20190923T160940Z
LAST-MODIFIED:20190923T160940Z
UID:2450-1569888000-1569974399@www.moorsideschools.org.uk
SUMMARY:Year 5 & 6 Visit to Botanic Gardens
DESCRIPTION:
URL:https://www.moorsideschools.org.uk/event/year-5-6-visit-to-botanic-gardens/
END:VEVENT
BEGIN:VEVENT
DTSTART;VALUE=DATE:20190920
DTEND;VALUE=DATE:20190921
DTSTAMP:20260421T035603
CREATED:20190917T113958Z
LAST-MODIFIED:20190917T113958Z
UID:2431-1568937600-1569023999@www.moorsideschools.org.uk
SUMMARY:Jeans for Genes Day!
DESCRIPTION:
URL:https://www.moorsideschools.org.uk/event/jeans-for-genes-day-2/
END:VEVENT
BEGIN:VEVENT
DTSTART;TZID=UTC:20190919T170000
DTEND;TZID=UTC:20190919T180000
DTSTAMP:20260421T035603
CREATED:20190909T144254Z
LAST-MODIFIED:20190909T144254Z
UID:2403-1568912400-1568916000@www.moorsideschools.org.uk
SUMMARY:EYFS Parents Information Evening
DESCRIPTION:
URL:https://www.moorsideschools.org.uk/event/eyfs-parents-information-evening/
END:VEVENT
BEGIN:VEVENT
DTSTART;TZID=UTC:20190719T150000
DTEND;TZID=UTC:20190719T150000
DTSTAMP:20260421T035603
CREATED:20190520T153057Z
LAST-MODIFIED:20190520T153057Z
UID:2107-1563548400-1563548400@www.moorsideschools.org.uk
SUMMARY:Break up for Summer Holidays at 3pm
DESCRIPTION:
URL:https://www.moorsideschools.org.uk/event/break-up-for-summer-holidays-at-3pm/
END:VEVENT
BEGIN:VEVENT
DTSTART;TZID=UTC:20190719T141500
DTEND;TZID=UTC:20190719T150000
DTSTAMP:20260421T035603
CREATED:20190520T152959Z
LAST-MODIFIED:20190715T145637Z
UID:2105-1563545700-1563548400@www.moorsideschools.org.uk
SUMMARY:Leavers Assembly - 2.15pm
DESCRIPTION:
URL:https://www.moorsideschools.org.uk/event/leavers-assembly-2pm/
END:VEVENT
END:VCALENDAR