   BEGIN:VCALENDAR
VERSION:2.0
PRODID:-//Moorside Primary School and Nursery - ECPv6.11.0.1//NONSGML v1.0//EN
CALSCALE:GREGORIAN
METHOD:PUBLISH
X-WR-CALNAME:Moorside Primary School and Nursery
X-ORIGINAL-URL:https://www.moorsideschools.org.uk
X-WR-CALDESC:Events for Moorside Primary School and Nursery
REFRESH-INTERVAL;VALUE=DURATION:PT1H
X-Robots-Tag:noindex
X-PUBLISHED-TTL:PT1H
BEGIN:VTIMEZONE
TZID:UTC
BEGIN:STANDARD
TZOFFSETFROM:+0000
TZOFFSETTO:+0000
TZNAME:UTC
DTSTART:20200101T000000
END:STANDARD
END:VTIMEZONE
BEGIN:VEVENT
DTSTART;VALUE=DATE:20210507
DTEND;VALUE=DATE:20210508
DTSTAMP:20260420T232933
CREATED:20210426T140131Z
LAST-MODIFIED:20210426T140131Z
UID:6775-1620345600-1620431999@www.moorsideschools.org.uk
SUMMARY:Number Day!
DESCRIPTION:
URL:https://www.moorsideschools.org.uk/event/number-day/
ATTACH;FMTTYPE=image/png:https://www.moorsideschools.org.uk/wp-content/uploads/2019/06/TT-Rockstars.png
END:VEVENT
BEGIN:VEVENT
DTSTART;VALUE=DATE:20210503
DTEND;VALUE=DATE:20210504
DTSTAMP:20260420T232933
CREATED:20210426T135915Z
LAST-MODIFIED:20210426T135915Z
UID:6772-1620000000-1620086399@www.moorsideschools.org.uk
SUMMARY:May Day Bank Holiday
DESCRIPTION:
URL:https://www.moorsideschools.org.uk/event/may-day-bank-holiday-2/
ATTACH;FMTTYPE=image/gif:https://www.moorsideschools.org.uk/wp-content/uploads/2021/04/May-Day.gif
END:VEVENT
BEGIN:VEVENT
DTSTART;TZID=UTC:20210413T083000
DTEND;TZID=UTC:20210413T153000
DTSTAMP:20260420T232933
CREATED:20210324T111712Z
LAST-MODIFIED:20210324T111712Z
UID:6657-1618302600-1618327800@www.moorsideschools.org.uk
SUMMARY:School Re-Opens for all Children
DESCRIPTION:
URL:https://www.moorsideschools.org.uk/event/school-re-opens-for-all-children/
ATTACH;FMTTYPE=image/png:https://www.moorsideschools.org.uk/wp-content/uploads/2020/01/back-to-school.png
END:VEVENT
BEGIN:VEVENT
DTSTART;VALUE=DATE:20210412
DTEND;VALUE=DATE:20210413
DTSTAMP:20260420T232933
CREATED:20210324T111550Z
LAST-MODIFIED:20210324T111550Z
UID:6655-1618185600-1618271999@www.moorsideschools.org.uk
SUMMARY:Training Day (School closed to all Children)
DESCRIPTION:
URL:https://www.moorsideschools.org.uk/event/training-day-school-closed-to-all-children/
ATTACH;FMTTYPE=image/jpeg:https://www.moorsideschools.org.uk/wp-content/uploads/2019/09/Training-day.jpg
END:VEVENT
BEGIN:VEVENT
DTSTART;TZID=UTC:20210326T150000
DTEND;TZID=UTC:20210326T151500
DTSTAMP:20260420T232933
CREATED:20210303T084845Z
LAST-MODIFIED:20210324T111421Z
UID:6554-1616770800-1616771700@www.moorsideschools.org.uk
SUMMARY:Break-up for Easter Holidays at children's current staggered end times
DESCRIPTION:
URL:https://www.moorsideschools.org.uk/event/break-up-for-easter-holidays-at-3-00pm/
ATTACH;FMTTYPE=image/png:https://www.moorsideschools.org.uk/wp-content/uploads/2019/12/Break-up-for-holidays.png
END:VEVENT
BEGIN:VEVENT
DTSTART;TZID=UTC:20210308T083000
DTEND;TZID=UTC:20210308T090000
DTSTAMP:20260420T232933
CREATED:20210303T084230Z
LAST-MODIFIED:20210303T084230Z
UID:6551-1615192200-1615194000@www.moorsideschools.org.uk
SUMMARY:School Fully Re-Opens for all Children!
DESCRIPTION:
URL:https://www.moorsideschools.org.uk/event/school-fully-re-opens-for-all-children/
ATTACH;FMTTYPE=image/jpeg:https://www.moorsideschools.org.uk/wp-content/uploads/2021/03/file.jpeg
END:VEVENT
BEGIN:VEVENT
DTSTART;TZID=UTC:20210105T085000
DTEND;TZID=UTC:20210105T090000
DTSTAMP:20260420T232933
CREATED:20201109T152637Z
LAST-MODIFIED:20201109T152637Z
UID:5869-1609836600-1609837200@www.moorsideschools.org.uk
SUMMARY:School Re-opens after Christmas Holidays
DESCRIPTION:
URL:https://www.moorsideschools.org.uk/event/school-re-opens-after-christmas-holidays/
ATTACH;FMTTYPE=image/png:https://www.moorsideschools.org.uk/wp-content/uploads/2020/01/back-to-school.png
END:VEVENT
BEGIN:VEVENT
DTSTART;TZID=UTC:20201218T150000
DTEND;TZID=UTC:20201218T150000
DTSTAMP:20260420T232933
CREATED:20201109T152519Z
LAST-MODIFIED:20201109T152519Z
UID:5867-1608303600-1608303600@www.moorsideschools.org.uk
SUMMARY:Break-up for Christmas Holidays at 3pm
DESCRIPTION:
URL:https://www.moorsideschools.org.uk/event/break-up-for-christmas-holidays-at-3pm/
ATTACH;FMTTYPE=image/png:https://www.moorsideschools.org.uk/wp-content/uploads/2019/12/Break-up-for-holidays.png
END:VEVENT
BEGIN:VEVENT
DTSTART;VALUE=DATE:20201203
DTEND;VALUE=DATE:20201204
DTSTAMP:20260420T232933
CREATED:20201127T163033Z
LAST-MODIFIED:20201127T163033Z
UID:5903-1606953600-1607039999@www.moorsideschools.org.uk
SUMMARY:Flu Immunisations
DESCRIPTION:
URL:https://www.moorsideschools.org.uk/event/flu-immunisations/
ATTACH;FMTTYPE=image/jpeg:https://www.moorsideschools.org.uk/wp-content/uploads/2020/11/flu.jpg
END:VEVENT
BEGIN:VEVENT
DTSTART;TZID=UTC:20201110T153000
DTEND;TZID=UTC:20201111T173000
DTSTAMP:20260420T232933
CREATED:20201023T130341Z
LAST-MODIFIED:20201023T130341Z
UID:5802-1605022200-1605115800@www.moorsideschools.org.uk
SUMMARY:Parent Consultations via Zoom
DESCRIPTION:
URL:https://www.moorsideschools.org.uk/event/parent-consultations-via-zoom-2/
ATTACH;FMTTYPE=image/jpeg:https://www.moorsideschools.org.uk/wp-content/uploads/2019/11/Parents-evening.jpg
END:VEVENT
BEGIN:VEVENT
DTSTART;VALUE=DATE:20201106
DTEND;VALUE=DATE:20201107
DTSTAMP:20260420T232933
CREATED:20201023T131117Z
LAST-MODIFIED:20201023T131117Z
UID:5808-1604620800-1604707199@www.moorsideschools.org.uk
SUMMARY:Wear Purple Day for Juvenile Arthritis
DESCRIPTION:
URL:https://www.moorsideschools.org.uk/event/wear-purple-day-for-juvenile-arthritis/
ATTACH;FMTTYPE=image/png:https://www.moorsideschools.org.uk/wp-content/uploads/2020/10/Wear-Purple.png
END:VEVENT
BEGIN:VEVENT
DTSTART;TZID=UTC:20201103T153000
DTEND;TZID=UTC:20201104T173000
DTSTAMP:20260420T232933
CREATED:20201023T130248Z
LAST-MODIFIED:20201023T130248Z
UID:5800-1604417400-1604511000@www.moorsideschools.org.uk
SUMMARY:Parent Consultations via Zoom
DESCRIPTION:
URL:https://www.moorsideschools.org.uk/event/parent-consultations-via-zoom/
ATTACH;FMTTYPE=image/jpeg:https://www.moorsideschools.org.uk/wp-content/uploads/2019/11/Parents-evening.jpg
END:VEVENT
BEGIN:VEVENT
DTSTART;TZID=UTC:20201102T084500
DTEND;TZID=UTC:20201102T090000
DTSTAMP:20260420T232933
CREATED:20201023T130703Z
LAST-MODIFIED:20201023T130703Z
UID:5806-1604306700-1604307600@www.moorsideschools.org.uk
SUMMARY:School Re-Opens after Half Term Holiday
DESCRIPTION:
URL:https://www.moorsideschools.org.uk/event/school-re-opens-after-half-term-holiday/
ATTACH;FMTTYPE=image/jpeg:https://www.moorsideschools.org.uk/wp-content/uploads/2020/09/back-to-school.jpg
END:VEVENT
BEGIN:VEVENT
DTSTART;TZID=UTC:20201023T150000
DTEND;TZID=UTC:20201023T153000
DTSTAMP:20260420T232933
CREATED:20201023T130433Z
LAST-MODIFIED:20201023T130433Z
UID:5804-1603465200-1603467000@www.moorsideschools.org.uk
SUMMARY:School Closes for Half Term
DESCRIPTION:
URL:https://www.moorsideschools.org.uk/event/school-closes-for-half-term/
ATTACH;FMTTYPE=image/jpeg:https://www.moorsideschools.org.uk/wp-content/uploads/2019/09/Training-day.jpg
END:VEVENT
BEGIN:VEVENT
DTSTART;TZID=UTC:20200420T085000
DTEND;TZID=UTC:20200420T090000
DTSTAMP:20260420T232933
CREATED:20200225T162551Z
LAST-MODIFIED:20200225T162551Z
UID:3463-1587372600-1587373200@www.moorsideschools.org.uk
SUMMARY:School Re-opens after Easter Holidays
DESCRIPTION:
URL:https://www.moorsideschools.org.uk/event/school-re-opens-after-easter-holidays/
ATTACH;FMTTYPE=image/png:https://www.moorsideschools.org.uk/wp-content/uploads/2020/01/back-to-school.png
END:VEVENT
BEGIN:VEVENT
DTSTART;TZID=UTC:20200403T150000
DTEND;TZID=UTC:20200403T150000
DTSTAMP:20260420T232933
CREATED:20200225T162448Z
LAST-MODIFIED:20200225T162448Z
UID:3461-1585926000-1585926000@www.moorsideschools.org.uk
SUMMARY:Break-up for Easter Holidays at 3pm
DESCRIPTION:
URL:https://www.moorsideschools.org.uk/event/break-up-for-easter-holidays-at-3pm/
ATTACH;FMTTYPE=image/png:https://www.moorsideschools.org.uk/wp-content/uploads/2019/12/Break-up-for-holidays.png
END:VEVENT
BEGIN:VEVENT
DTSTART;VALUE=DATE:20200312
DTEND;VALUE=DATE:20200313
DTSTAMP:20260420T232933
CREATED:20200225T162336Z
LAST-MODIFIED:20200225T162336Z
UID:3458-1583971200-1584057599@www.moorsideschools.org.uk
SUMMARY:Science Day
DESCRIPTION:
URL:https://www.moorsideschools.org.uk/event/science-day/
ATTACH;FMTTYPE=image/jpeg:https://www.moorsideschools.org.uk/wp-content/uploads/2020/02/Science-day.jpg
END:VEVENT
BEGIN:VEVENT
DTSTART;TZID=UTC:20200311T140000
DTEND;TZID=UTC:20200311T150000
DTSTAMP:20260420T232933
CREATED:20200302T172103Z
LAST-MODIFIED:20200302T172103Z
UID:3471-1583935200-1583938800@www.moorsideschools.org.uk
SUMMARY:The Big Sing - KS1
DESCRIPTION:
URL:https://www.moorsideschools.org.uk/event/the-big-sing-ks1/
ATTACH;FMTTYPE=image/jpeg:https://www.moorsideschools.org.uk/wp-content/uploads/2020/03/the-big-sing.jpg
END:VEVENT
BEGIN:VEVENT
DTSTART;TZID=UTC:20200309T090000
DTEND;TZID=UTC:20200313T150000
DTSTAMP:20260420T232933
CREATED:20200210T165809Z
LAST-MODIFIED:20200210T165818Z
UID:3442-1583744400-1584111600@www.moorsideschools.org.uk
SUMMARY:Sport Relief Activities
DESCRIPTION:
URL:https://www.moorsideschools.org.uk/event/sports-relief-activities/
ATTACH;FMTTYPE=image/png:https://www.moorsideschools.org.uk/wp-content/uploads/2020/02/Sports-Relief.png
END:VEVENT
BEGIN:VEVENT
DTSTART;VALUE=DATE:20200309
DTEND;VALUE=DATE:20200310
DTSTAMP:20260420T232933
CREATED:20200302T171940Z
LAST-MODIFIED:20200302T171940Z
UID:3468-1583712000-1583798399@www.moorsideschools.org.uk
SUMMARY:KS1 Trip to Tropical World
DESCRIPTION:
URL:https://www.moorsideschools.org.uk/event/ks1-trip-to-tropical-world/
ATTACH;FMTTYPE=image/jpeg:https://www.moorsideschools.org.uk/wp-content/uploads/2020/03/tropical-world.jpg
END:VEVENT
BEGIN:VEVENT
DTSTART;VALUE=DATE:20200305
DTEND;VALUE=DATE:20200306
DTSTAMP:20260420T232933
CREATED:20200210T165623Z
LAST-MODIFIED:20200210T165623Z
UID:3439-1583366400-1583452799@www.moorsideschools.org.uk
SUMMARY:World Book Day Dress Up
DESCRIPTION:
URL:https://www.moorsideschools.org.uk/event/world-book-day-dress-up/
ATTACH;FMTTYPE=image/png:https://www.moorsideschools.org.uk/wp-content/uploads/2020/02/World-book-day.png
END:VEVENT
BEGIN:VEVENT
DTSTART;VALUE=DATE:20200228
DTEND;VALUE=DATE:20200229
DTSTAMP:20260420T232933
CREATED:20200210T165306Z
LAST-MODIFIED:20200210T165306Z
UID:3436-1582848000-1582934399@www.moorsideschools.org.uk
SUMMARY:KS1 & KS2 visit to Fountains Abbey
DESCRIPTION:
URL:https://www.moorsideschools.org.uk/event/ks1-ks2-visit-to-fountains-abbey/
ATTACH;FMTTYPE=image/jpeg:https://www.moorsideschools.org.uk/wp-content/uploads/2020/02/Fountains-Abbey.jpg
END:VEVENT
BEGIN:VEVENT
DTSTART;TZID=UTC:20200225T085000
DTEND;TZID=UTC:20200225T090000
DTSTAMP:20260420T232933
CREATED:20200127T153613Z
LAST-MODIFIED:20200127T153717Z
UID:3404-1582620600-1582621200@www.moorsideschools.org.uk
SUMMARY:School Re-Opens after Half Term
DESCRIPTION:
URL:https://www.moorsideschools.org.uk/event/school-re-opens-after-half-term-2/
ATTACH;FMTTYPE=image/png:https://www.moorsideschools.org.uk/wp-content/uploads/2020/01/back-to-school.png
END:VEVENT
BEGIN:VEVENT
DTSTART;VALUE=DATE:20200224
DTEND;VALUE=DATE:20200225
DTSTAMP:20260420T232933
CREATED:20200127T152947Z
LAST-MODIFIED:20200127T152947Z
UID:3402-1582502400-1582588799@www.moorsideschools.org.uk
SUMMARY:Training Day
DESCRIPTION:
URL:https://www.moorsideschools.org.uk/event/training-day/
ATTACH;FMTTYPE=image/jpeg:https://www.moorsideschools.org.uk/wp-content/uploads/2019/09/Training-day.jpg
END:VEVENT
BEGIN:VEVENT
DTSTART;TZID=UTC:20200214T152000
DTEND;TZID=UTC:20200214T153000
DTSTAMP:20260420T232933
CREATED:20200113T164956Z
LAST-MODIFIED:20200113T164956Z
UID:3333-1581693600-1581694200@www.moorsideschools.org.uk
SUMMARY:Break-up for Half Term
DESCRIPTION:
URL:https://www.moorsideschools.org.uk/event/break-up-for-half-term-6/
ATTACH;FMTTYPE=image/png:https://www.moorsideschools.org.uk/wp-content/uploads/2019/12/Break-up-for-holidays.png
END:VEVENT
BEGIN:VEVENT
DTSTART;TZID=UTC:20200211T170000
DTEND;TZID=UTC:20200211T190000
DTSTAMP:20260420T232933
CREATED:20200113T164858Z
LAST-MODIFIED:20200113T164858Z
UID:3330-1581440400-1581447600@www.moorsideschools.org.uk
SUMMARY:Valentines Disco
DESCRIPTION:
URL:https://www.moorsideschools.org.uk/event/valentines-disco/
ATTACH;FMTTYPE=image/jpeg:https://www.moorsideschools.org.uk/wp-content/uploads/2020/01/valentine.jpg
END:VEVENT
BEGIN:VEVENT
DTSTART;VALUE=DATE:20200211
DTEND;VALUE=DATE:20200212
DTSTAMP:20260420T232933
CREATED:20200113T164805Z
LAST-MODIFIED:20200113T164805Z
UID:3327-1581379200-1581465599@www.moorsideschools.org.uk
SUMMARY:Safer Internet Day
DESCRIPTION:
URL:https://www.moorsideschools.org.uk/event/safer-internet-day/
ATTACH;FMTTYPE=image/jpeg:https://www.moorsideschools.org.uk/wp-content/uploads/2020/01/Safer-Internet.jpeg
END:VEVENT
BEGIN:VEVENT
DTSTART;VALUE=DATE:20200207
DTEND;VALUE=DATE:20200208
DTSTAMP:20260420T232933
CREATED:20200113T164718Z
LAST-MODIFIED:20200113T164718Z
UID:3324-1581033600-1581119999@www.moorsideschools.org.uk
SUMMARY:Maths Day
DESCRIPTION:
URL:https://www.moorsideschools.org.uk/event/maths-day/
ATTACH;FMTTYPE=image/jpeg:https://www.moorsideschools.org.uk/wp-content/uploads/2020/01/maths.jpg
END:VEVENT
BEGIN:VEVENT
DTSTART;VALUE=DATE:20200204
DTEND;VALUE=DATE:20200205
DTSTAMP:20260420T232933
CREATED:20200113T164630Z
LAST-MODIFIED:20200113T164630Z
UID:3321-1580774400-1580860799@www.moorsideschools.org.uk
SUMMARY:Responsibilities Singing Workshop
DESCRIPTION:
URL:https://www.moorsideschools.org.uk/event/responsibilities-singing-workshop/
ATTACH;FMTTYPE=image/png:https://www.moorsideschools.org.uk/wp-content/uploads/2020/01/children-singing.png
END:VEVENT
BEGIN:VEVENT
DTSTART;TZID=UTC:20200128T152000
DTEND;TZID=UTC:20200128T160000
DTSTAMP:20260420T232933
CREATED:20200120T151112Z
LAST-MODIFIED:20200120T151112Z
UID:3338-1580224800-1580227200@www.moorsideschools.org.uk
SUMMARY:Reading Cafe
DESCRIPTION:
URL:https://www.moorsideschools.org.uk/event/reading-cafe-3/
ATTACH;FMTTYPE=image/jpeg:https://www.moorsideschools.org.uk/wp-content/uploads/2019/11/Reading-Cafe.jpg
END:VEVENT
END:VCALENDAR