   BEGIN:VCALENDAR
VERSION:2.0
PRODID:-//Moorside Primary School and Nursery - ECPv6.11.0.1//NONSGML v1.0//EN
CALSCALE:GREGORIAN
METHOD:PUBLISH
X-WR-CALNAME:Moorside Primary School and Nursery
X-ORIGINAL-URL:https://www.moorsideschools.org.uk
X-WR-CALDESC:Events for Moorside Primary School and Nursery
REFRESH-INTERVAL;VALUE=DURATION:PT1H
X-Robots-Tag:noindex
X-PUBLISHED-TTL:PT1H
BEGIN:VTIMEZONE
TZID:UTC
BEGIN:STANDARD
TZOFFSETFROM:+0000
TZOFFSETTO:+0000
TZNAME:UTC
DTSTART:20210101T000000
END:STANDARD
END:VTIMEZONE
BEGIN:VEVENT
DTSTART;VALUE=DATE:20220303
DTEND;VALUE=DATE:20220304
DTSTAMP:20260420T205535
CREATED:20220209T161432Z
LAST-MODIFIED:20220209T161432Z
UID:7584-1646265600-1646351999@www.moorsideschools.org.uk
SUMMARY:Year 3 & 4 Trip to Barley Hall
DESCRIPTION:
URL:https://www.moorsideschools.org.uk/event/year-3-4-trip-to-barley-hall/
ATTACH;FMTTYPE=image/jpeg:https://www.moorsideschools.org.uk/wp-content/uploads/2022/02/Barley-Hall.jpg
END:VEVENT
BEGIN:VEVENT
DTSTART;TZID=UTC:20220228T084500
DTEND;TZID=UTC:20220228T085000
DTSTAMP:20260420T205535
CREATED:20220209T161259Z
LAST-MODIFIED:20220209T161259Z
UID:7582-1646037900-1646038200@www.moorsideschools.org.uk
SUMMARY:Back to School!
DESCRIPTION:
URL:https://www.moorsideschools.org.uk/event/back-to-school-3/
ATTACH;FMTTYPE=image/png:https://www.moorsideschools.org.uk/wp-content/uploads/2020/01/back-to-school.png
END:VEVENT
BEGIN:VEVENT
DTSTART;TZID=UTC:20220218T150000
DTEND;TZID=UTC:20220218T152000
DTSTAMP:20260420T205535
CREATED:20220209T160943Z
LAST-MODIFIED:20220209T160943Z
UID:7580-1645196400-1645197600@www.moorsideschools.org.uk
SUMMARY:Break-up for Half Term
DESCRIPTION:
URL:https://www.moorsideschools.org.uk/event/break-up-for-half-term-8/
ATTACH;FMTTYPE=image/png:https://www.moorsideschools.org.uk/wp-content/uploads/2019/12/Break-up-for-holidays.png
END:VEVENT
BEGIN:VEVENT
DTSTART;TZID=UTC:20220105T085000
DTEND;TZID=UTC:20220105T090000
DTSTAMP:20260420T205535
CREATED:20211111T163141Z
LAST-MODIFIED:20211111T163141Z
UID:7339-1641372600-1641373200@www.moorsideschools.org.uk
SUMMARY:Back to School
DESCRIPTION:
URL:https://www.moorsideschools.org.uk/event/back-to-school-2/
ATTACH;FMTTYPE=image/png:https://www.moorsideschools.org.uk/wp-content/uploads/2020/01/back-to-school.png
END:VEVENT
BEGIN:VEVENT
DTSTART;VALUE=DATE:20220104
DTEND;VALUE=DATE:20220105
DTSTAMP:20260420T205535
CREATED:20211111T163051Z
LAST-MODIFIED:20211111T163051Z
UID:7337-1641254400-1641340799@www.moorsideschools.org.uk
SUMMARY:Teacher Training Day
DESCRIPTION:
URL:https://www.moorsideschools.org.uk/event/teacher-training-day/
ATTACH;FMTTYPE=image/jpeg:https://www.moorsideschools.org.uk/wp-content/uploads/2021/04/teacher-training-day-300x288-1.jpg
END:VEVENT
BEGIN:VEVENT
DTSTART;TZID=UTC:20211217T150000
DTEND;TZID=UTC:20211217T151500
DTSTAMP:20260420T205535
CREATED:20211111T163010Z
LAST-MODIFIED:20211111T163010Z
UID:7335-1639753200-1639754100@www.moorsideschools.org.uk
SUMMARY:Break-up for Christmas holidays at 3pm
DESCRIPTION:
URL:https://www.moorsideschools.org.uk/event/break-up-for-christmas-holidays-at-3pm-2/
ATTACH;FMTTYPE=image/png:https://www.moorsideschools.org.uk/wp-content/uploads/2019/12/Break-up-for-holidays.png
END:VEVENT
BEGIN:VEVENT
DTSTART;TZID=UTC:20211215T140000
DTEND;TZID=UTC:20211215T160000
DTSTAMP:20260420T205535
CREATED:20211111T162844Z
LAST-MODIFIED:20211111T162844Z
UID:7332-1639576800-1639584000@www.moorsideschools.org.uk
SUMMARY:FOMS Christmas Market
DESCRIPTION:
URL:https://www.moorsideschools.org.uk/event/foms-christmas-market/
ATTACH;FMTTYPE=image/jpeg:https://www.moorsideschools.org.uk/wp-content/uploads/2021/11/Christmas-Market.jpg
END:VEVENT
BEGIN:VEVENT
DTSTART;TZID=UTC:20211213T143000
DTEND;TZID=UTC:20211213T150000
DTSTAMP:20260420T205535
CREATED:20211111T162338Z
LAST-MODIFIED:20211111T162338Z
UID:7326-1639405800-1639407600@www.moorsideschools.org.uk
SUMMARY:KS2 Christmas Jingle
DESCRIPTION:
URL:https://www.moorsideschools.org.uk/event/ks2-christmas-jingle/
ATTACH;FMTTYPE=image/png:https://www.moorsideschools.org.uk/wp-content/uploads/2021/11/images.png
END:VEVENT
BEGIN:VEVENT
DTSTART;TZID=UTC:20211209T091000
DTEND;TZID=UTC:20211209T093000
DTSTAMP:20260420T205535
CREATED:20211111T161715Z
LAST-MODIFIED:20211111T161715Z
UID:7324-1639041000-1639042200@www.moorsideschools.org.uk
SUMMARY:Reception & Nursery Nativity
DESCRIPTION:
URL:https://www.moorsideschools.org.uk/event/reception-nursery-nativity-2/
ATTACH;FMTTYPE=image/jpeg:https://www.moorsideschools.org.uk/wp-content/uploads/2021/11/download-1.jpg
END:VEVENT
BEGIN:VEVENT
DTSTART;TZID=UTC:20211208T091000
DTEND;TZID=UTC:20211208T093000
DTSTAMP:20260420T205535
CREATED:20211111T161518Z
LAST-MODIFIED:20211111T161518Z
UID:7319-1638954600-1638955800@www.moorsideschools.org.uk
SUMMARY:Reception & Nursery Nativity
DESCRIPTION:
URL:https://www.moorsideschools.org.uk/event/reception-nursery-nativity/
ATTACH;FMTTYPE=image/jpeg:https://www.moorsideschools.org.uk/wp-content/uploads/2021/11/download-1.jpg
END:VEVENT
BEGIN:VEVENT
DTSTART;VALUE=DATE:20211208
DTEND;VALUE=DATE:20211209
DTSTAMP:20260420T205535
CREATED:20211111T161623Z
LAST-MODIFIED:20211111T161623Z
UID:7322-1638921600-1639007999@www.moorsideschools.org.uk
SUMMARY:Christmas Jumper Day & Christmas Lunch Day!
DESCRIPTION:
URL:https://www.moorsideschools.org.uk/event/christmas-jumper-day-christmas-lunch-day/
ATTACH;FMTTYPE=image/jpeg:https://www.moorsideschools.org.uk/wp-content/uploads/2019/11/Save-the-Children-Christmas-Jumper-Day.jpg
END:VEVENT
BEGIN:VEVENT
DTSTART;TZID=UTC:20211207T133000
DTEND;TZID=UTC:20211207T140000
DTSTAMP:20260420T205535
CREATED:20211111T161411Z
LAST-MODIFIED:20211111T161411Z
UID:7317-1638883800-1638885600@www.moorsideschools.org.uk
SUMMARY:KS1 Nativity for Year 2 Parents
DESCRIPTION:
URL:https://www.moorsideschools.org.uk/event/ks1-nativity-for-year-2-parents/
ATTACH;FMTTYPE=image/jpeg:https://www.moorsideschools.org.uk/wp-content/uploads/2019/12/nativity2-1.jpg
END:VEVENT
BEGIN:VEVENT
DTSTART;TZID=UTC:20211206T153000
DTEND;TZID=UTC:20211210T170000
DTSTAMP:20260420T205535
CREATED:20211111T160927Z
LAST-MODIFIED:20211111T160927Z
UID:7313-1638804600-1639155600@www.moorsideschools.org.uk
SUMMARY:Parent Consultations
DESCRIPTION:
URL:https://www.moorsideschools.org.uk/event/parent-consultations/
ATTACH;FMTTYPE=image/jpeg:https://www.moorsideschools.org.uk/wp-content/uploads/2019/11/Parents-evening.jpg
END:VEVENT
BEGIN:VEVENT
DTSTART;TZID=UTC:20211206T133000
DTEND;TZID=UTC:20211206T140000
DTSTAMP:20260420T205535
CREATED:20211111T161056Z
LAST-MODIFIED:20211111T161056Z
UID:7315-1638797400-1638799200@www.moorsideschools.org.uk
SUMMARY:KS1 Nativity for Year 1 Parents
DESCRIPTION:
URL:https://www.moorsideschools.org.uk/event/ks1-nativity-for-year-1-parents/
ATTACH;FMTTYPE=image/jpeg:https://www.moorsideschools.org.uk/wp-content/uploads/2019/12/nativity2-1.jpg
END:VEVENT
BEGIN:VEVENT
DTSTART;TZID=UTC:20211130T090000
DTEND;TZID=UTC:20211130T120000
DTSTAMP:20260420T205535
CREATED:20211126T140558Z
LAST-MODIFIED:20211126T140558Z
UID:7414-1638262800-1638273600@www.moorsideschools.org.uk
SUMMARY:Individual Photographs
DESCRIPTION:
URL:https://www.moorsideschools.org.uk/event/individual-photographs/
ATTACH;FMTTYPE=image/png:https://www.moorsideschools.org.uk/wp-content/uploads/2019/10/Phototronics.png
END:VEVENT
BEGIN:VEVENT
DTSTART;TZID=UTC:20211102T085000
DTEND;TZID=UTC:20211102T090000
DTSTAMP:20260420T205535
CREATED:20210917T144345Z
LAST-MODIFIED:20210917T144345Z
UID:7084-1635843000-1635843600@www.moorsideschools.org.uk
SUMMARY:Back to School
DESCRIPTION:
URL:https://www.moorsideschools.org.uk/event/back-to-school/
ATTACH;FMTTYPE=image/png:https://www.moorsideschools.org.uk/wp-content/uploads/2020/01/back-to-school.png
END:VEVENT
BEGIN:VEVENT
DTSTART;TZID=UTC:20211022T151500
DTEND;TZID=UTC:20211022T152000
DTSTAMP:20260420T205535
CREATED:20210917T142448Z
LAST-MODIFIED:20210917T142448Z
UID:7082-1634915700-1634916000@www.moorsideschools.org.uk
SUMMARY:Break-up for Half Term
DESCRIPTION:
URL:https://www.moorsideschools.org.uk/event/break-up-for-half-term-7/
ATTACH;FMTTYPE=image/png:https://www.moorsideschools.org.uk/wp-content/uploads/2019/12/Break-up-for-holidays.png
END:VEVENT
BEGIN:VEVENT
DTSTART;TZID=UTC:20211019T091000
DTEND;TZID=UTC:20211019T093000
DTSTAMP:20260420T205535
CREATED:20211001T153142Z
LAST-MODIFIED:20211001T153142Z
UID:7156-1634634600-1634635800@www.moorsideschools.org.uk
SUMMARY:EYFS Harvest Assembly
DESCRIPTION:
URL:https://www.moorsideschools.org.uk/event/eyfs-harvest-assembly/
ATTACH;FMTTYPE=image/jpeg:https://www.moorsideschools.org.uk/wp-content/uploads/2021/09/harvest.jpg
END:VEVENT
BEGIN:VEVENT
DTSTART;VALUE=DATE:20211019
DTEND;VALUE=DATE:20211020
DTSTAMP:20260420T205535
CREATED:20210924T141447Z
LAST-MODIFIED:20210924T141447Z
UID:7123-1634601600-1634687999@www.moorsideschools.org.uk
SUMMARY:Harvest Assembly
DESCRIPTION:
URL:https://www.moorsideschools.org.uk/event/harvest-assembly/
ATTACH;FMTTYPE=image/jpeg:https://www.moorsideschools.org.uk/wp-content/uploads/2021/09/harvest.jpg
END:VEVENT
BEGIN:VEVENT
DTSTART;VALUE=DATE:20211013
DTEND;VALUE=DATE:20211014
DTSTAMP:20260420T205535
CREATED:20211001T153050Z
LAST-MODIFIED:20211001T153050Z
UID:7153-1634083200-1634169599@www.moorsideschools.org.uk
SUMMARY:High 5 Reader Winners Trip to Ripon Library
DESCRIPTION:
URL:https://www.moorsideschools.org.uk/event/high-5-reader-winners-trip-to-ripon-library/
ATTACH;FMTTYPE=image/jpeg:https://www.moorsideschools.org.uk/wp-content/uploads/2021/10/ripon-library.jpg
END:VEVENT
BEGIN:VEVENT
DTSTART;VALUE=DATE:20211008
DTEND;VALUE=DATE:20211009
DTSTAMP:20260420T205535
CREATED:20210924T141025Z
LAST-MODIFIED:20210924T141025Z
UID:7120-1633651200-1633737599@www.moorsideschools.org.uk
SUMMARY:Y5 & Y6 Trip to Botanic Gardens
DESCRIPTION:
URL:https://www.moorsideschools.org.uk/event/y5-y6-trip-to-botanic-gardens/
ATTACH;FMTTYPE=image/jpeg:https://www.moorsideschools.org.uk/wp-content/uploads/2021/09/botanic.garden.jpg
END:VEVENT
BEGIN:VEVENT
DTSTART;TZID=UTC:20211006T130000
DTEND;TZID=UTC:20211006T150000
DTSTAMP:20260420T205535
CREATED:20211001T152734Z
LAST-MODIFIED:20211001T152734Z
UID:7150-1633525200-1633532400@www.moorsideschools.org.uk
SUMMARY:Y6 School of Sanctuary Service @ Ripon Cathedral
DESCRIPTION:
URL:https://www.moorsideschools.org.uk/event/y6-school-of-sanctuary-service-ripon-cathedral/
ATTACH;FMTTYPE=image/jpeg:https://www.moorsideschools.org.uk/wp-content/uploads/2021/10/image0-5.jpeg
END:VEVENT
BEGIN:VEVENT
DTSTART;TZID=UTC:20211006T090000
DTEND;TZID=UTC:20211006T120000
DTSTAMP:20260420T205535
CREATED:20210917T141908Z
LAST-MODIFIED:20210917T141908Z
UID:7077-1633510800-1633521600@www.moorsideschools.org.uk
SUMMARY:Flu Immunisations
DESCRIPTION:
URL:https://www.moorsideschools.org.uk/event/flu-immunisations-2/
ATTACH;FMTTYPE=image/jpeg:https://www.moorsideschools.org.uk/wp-content/uploads/2020/11/flu.jpg
END:VEVENT
BEGIN:VEVENT
DTSTART;VALUE=DATE:20210924
DTEND;VALUE=DATE:20210925
DTSTAMP:20260420T205535
CREATED:20210917T141817Z
LAST-MODIFIED:20210917T141817Z
UID:7075-1632441600-1632527999@www.moorsideschools.org.uk
SUMMARY:Wear Purple Day for Juvenile Arthritis
DESCRIPTION:
URL:https://www.moorsideschools.org.uk/event/wear-purple-day-for-juvenile-arthritis-2/
ATTACH;FMTTYPE=image/png:https://www.moorsideschools.org.uk/wp-content/uploads/2020/10/Wear-Purple.png
END:VEVENT
BEGIN:VEVENT
DTSTART;TZID=UTC:20210907T090000
DTEND;TZID=UTC:20210907T093000
DTSTAMP:20260420T205535
CREATED:20210705T143231Z
LAST-MODIFIED:20210705T143231Z
UID:6968-1631005200-1631007000@www.moorsideschools.org.uk
SUMMARY:School Re-Opens after the Summer Holidays
DESCRIPTION:
URL:https://www.moorsideschools.org.uk/event/school-re-opens-after-the-summer-holidays/
ATTACH;FMTTYPE=image/jpeg:https://www.moorsideschools.org.uk/wp-content/uploads/2020/09/back-to-school.jpg
END:VEVENT
BEGIN:VEVENT
DTSTART;TZID=UTC:20210723T150000
DTEND;TZID=UTC:20210723T150000
DTSTAMP:20260420T205535
CREATED:20210705T143128Z
LAST-MODIFIED:20210705T143128Z
UID:6966-1627052400-1627052400@www.moorsideschools.org.uk
SUMMARY:School Closes for the Summer Holidays at 3pm
DESCRIPTION:
URL:https://www.moorsideschools.org.uk/event/school-closes-for-the-summer-holidays-at-3pm/
ATTACH;FMTTYPE=image/jpeg:https://www.moorsideschools.org.uk/wp-content/uploads/2019/09/Training-day.jpg
END:VEVENT
BEGIN:VEVENT
DTSTART;TZID=UTC:20210723T110000
DTEND;TZID=UTC:20210723T113000
DTSTAMP:20260420T205535
CREATED:20210716T154653Z
LAST-MODIFIED:20210716T154653Z
UID:6992-1627038000-1627039800@www.moorsideschools.org.uk
SUMMARY:Y6 Leavers Assembly
DESCRIPTION:
URL:https://www.moorsideschools.org.uk/event/y6-leavers-assembly/
ATTACH;FMTTYPE=image/png:https://www.moorsideschools.org.uk/wp-content/uploads/2021/07/Goodbye-And-Good-Luck.png
END:VEVENT
BEGIN:VEVENT
DTSTART;VALUE=DATE:20210722
DTEND;VALUE=DATE:20210723
DTSTAMP:20260420T205535
CREATED:20210705T142136Z
LAST-MODIFIED:20210705T142136Z
UID:6959-1626912000-1626998399@www.moorsideschools.org.uk
SUMMARY:Run 500 Miles for Dementia UK
DESCRIPTION:Times for each class doing 500 miles for Dementia UK:\n9-10am Reception\n10-10.40am Year 1\n10.40- 11.20am Year 2\n11.20 -12pm Year 3\n12.50-1.30pm Year 4\n1.30-2.10pm Year 5\n2.10-2.50pm Year 6
URL:https://www.moorsideschools.org.uk/event/run-500-miles-for-dementia-uk/
ATTACH;FMTTYPE=image/jpeg:https://www.moorsideschools.org.uk/wp-content/uploads/2021/07/Dementia-UK.jpg
END:VEVENT
BEGIN:VEVENT
DTSTART;VALUE=DATE:20210719
DTEND;VALUE=DATE:20210724
DTSTAMP:20260420T205535
CREATED:20210611T145742Z
LAST-MODIFIED:20210705T143003Z
UID:6914-1626652800-1627084799@www.moorsideschools.org.uk
SUMMARY:Sporting Activities throughout the Week
DESCRIPTION:
URL:https://www.moorsideschools.org.uk/event/sports-day/
ATTACH;FMTTYPE=image/jpeg:https://www.moorsideschools.org.uk/wp-content/uploads/2021/03/PE2.jpg
END:VEVENT
BEGIN:VEVENT
DTSTART;VALUE=DATE:20210715
DTEND;VALUE=DATE:20210716
DTSTAMP:20260420T205535
CREATED:20210705T141813Z
LAST-MODIFIED:20210705T141813Z
UID:6956-1626307200-1626393599@www.moorsideschools.org.uk
SUMMARY:Reception Dress like a Pirate Day!
DESCRIPTION:
URL:https://www.moorsideschools.org.uk/event/reception-dress-like-a-pirate-day/
ATTACH;FMTTYPE=image/jpeg:https://www.moorsideschools.org.uk/wp-content/uploads/2021/07/Pirate.jpg
END:VEVENT
END:VCALENDAR