   BEGIN:VCALENDAR
VERSION:2.0
PRODID:-//Moorside Primary School and Nursery - ECPv6.11.0.1//NONSGML v1.0//EN
CALSCALE:GREGORIAN
METHOD:PUBLISH
X-WR-CALNAME:Moorside Primary School and Nursery
X-ORIGINAL-URL:https://www.moorsideschools.org.uk
X-WR-CALDESC:Events for Moorside Primary School and Nursery
REFRESH-INTERVAL;VALUE=DURATION:PT1H
X-Robots-Tag:noindex
X-PUBLISHED-TTL:PT1H
BEGIN:VTIMEZONE
TZID:UTC
BEGIN:STANDARD
TZOFFSETFROM:+0000
TZOFFSETTO:+0000
TZNAME:UTC
DTSTART:20210101T000000
END:STANDARD
END:VTIMEZONE
BEGIN:VEVENT
DTSTART;VALUE=DATE:20220614
DTEND;VALUE=DATE:20220615
DTSTAMP:20260420T174506
CREATED:20220610T125700Z
LAST-MODIFIED:20220610T125700Z
UID:7911-1655164800-1655251199@www.moorsideschools.org.uk
SUMMARY:NSPCC Workshop
DESCRIPTION:
URL:https://www.moorsideschools.org.uk/event/nspcc-workshop/
ATTACH;FMTTYPE=image/jpeg:https://www.moorsideschools.org.uk/wp-content/uploads/2022/06/NSPCC.jpg
END:VEVENT
BEGIN:VEVENT
DTSTART;TZID=UTC:20220607T085000
DTEND;TZID=UTC:20220607T090000
DTSTAMP:20260420T174506
CREATED:20220518T130954Z
LAST-MODIFIED:20220518T130954Z
UID:7853-1654591800-1654592400@www.moorsideschools.org.uk
SUMMARY:School Re-Opens to Children
DESCRIPTION:
URL:https://www.moorsideschools.org.uk/event/school-re-opens-to-children/
ATTACH;FMTTYPE=image/jpeg:https://www.moorsideschools.org.uk/wp-content/uploads/2020/09/back-to-school.jpg
END:VEVENT
BEGIN:VEVENT
DTSTART;VALUE=DATE:20220606
DTEND;VALUE=DATE:20220607
DTSTAMP:20260420T174506
CREATED:20220518T130619Z
LAST-MODIFIED:20220518T133024Z
UID:7851-1654473600-1654559999@www.moorsideschools.org.uk
SUMMARY:School Closed for Staff Training
DESCRIPTION:
URL:https://www.moorsideschools.org.uk/event/school-closed-for-staff-training/
ATTACH;FMTTYPE=image/jpeg:https://www.moorsideschools.org.uk/wp-content/uploads/2021/04/teacher-training-day-300x288-1.jpg
END:VEVENT
BEGIN:VEVENT
DTSTART;TZID=UTC:20220527T151500
DTEND;TZID=UTC:20220527T152000
DTSTAMP:20260420T174506
CREATED:20220518T130501Z
LAST-MODIFIED:20220518T130501Z
UID:7849-1653664500-1653664800@www.moorsideschools.org.uk
SUMMARY:Break-up for Half Term Holidays
DESCRIPTION:
URL:https://www.moorsideschools.org.uk/event/break-up-for-half-term-holidays-2/
ATTACH;FMTTYPE=image/png:https://www.moorsideschools.org.uk/wp-content/uploads/2019/12/Break-up-for-holidays.png
END:VEVENT
BEGIN:VEVENT
DTSTART;TZID=UTC:20220524T150000
DTEND;TZID=UTC:20220524T190000
DTSTAMP:20260420T174506
CREATED:20220518T130247Z
LAST-MODIFIED:20220518T130247Z
UID:7845-1653404400-1653418800@www.moorsideschools.org.uk
SUMMARY:Queen's Jubilee Celebrations
DESCRIPTION:
URL:https://www.moorsideschools.org.uk/event/queens-jubilee-celebrations/
ATTACH;FMTTYPE=image/jpeg:https://www.moorsideschools.org.uk/wp-content/uploads/2022/05/Queens-jubilee-picture.jpg
END:VEVENT
BEGIN:VEVENT
DTSTART;TZID=UTC:20220519T152000
DTEND;TZID=UTC:20220519T160000
DTSTAMP:20260420T174506
CREATED:20220518T125748Z
LAST-MODIFIED:20220518T125748Z
UID:7843-1652973600-1652976000@www.moorsideschools.org.uk
SUMMARY:Parents Meeting for Y4 Multiplication Check
DESCRIPTION:
URL:https://www.moorsideschools.org.uk/event/parents-meeting-for-y4-multiplication-check/
ATTACH;FMTTYPE=image/jpeg:https://www.moorsideschools.org.uk/wp-content/uploads/2020/01/maths.jpg
END:VEVENT
BEGIN:VEVENT
DTSTART;TZID=UTC:20220425T085000
DTEND;TZID=UTC:20220425T090000
DTSTAMP:20260420T174506
CREATED:20220406T110517Z
LAST-MODIFIED:20220406T110517Z
UID:7740-1650876600-1650877200@www.moorsideschools.org.uk
SUMMARY:Back to School
DESCRIPTION:
URL:https://www.moorsideschools.org.uk/event/back-to-school-4/
ATTACH;FMTTYPE=image/jpeg:https://www.moorsideschools.org.uk/wp-content/uploads/2020/09/back-to-school.jpg
END:VEVENT
BEGIN:VEVENT
DTSTART;TZID=UTC:20220408T151500
DTEND;TZID=UTC:20220408T152000
DTSTAMP:20260420T174506
CREATED:20220406T110358Z
LAST-MODIFIED:20220406T110358Z
UID:7738-1649430900-1649431200@www.moorsideschools.org.uk
SUMMARY:Break-up for Easter Holidays
DESCRIPTION:
URL:https://www.moorsideschools.org.uk/event/break-up-for-easter-holidays/
ATTACH;FMTTYPE=image/png:https://www.moorsideschools.org.uk/wp-content/uploads/2019/12/Break-up-for-holidays.png
END:VEVENT
BEGIN:VEVENT
DTSTART;VALUE=DATE:20220407
DTEND;VALUE=DATE:20220408
DTSTAMP:20260420T174506
CREATED:20220304T161240Z
LAST-MODIFIED:20220304T161240Z
UID:7689-1649289600-1649375999@www.moorsideschools.org.uk
SUMMARY:Sponsored Bunny Bounce
DESCRIPTION:
URL:https://www.moorsideschools.org.uk/event/sponsored-bunny-bounce/
ATTACH;FMTTYPE=image/jpeg:https://www.moorsideschools.org.uk/wp-content/uploads/2022/03/easter-bunny.jpg
END:VEVENT
BEGIN:VEVENT
DTSTART;TZID=UTC:20220329T160000
DTEND;TZID=UTC:20220329T190000
DTSTAMP:20260420T174506
CREATED:20220304T155813Z
LAST-MODIFIED:20220304T155813Z
UID:7686-1648569600-1648580400@www.moorsideschools.org.uk
SUMMARY:Spring Disco
DESCRIPTION:
URL:https://www.moorsideschools.org.uk/event/spring-disco/
ATTACH;FMTTYPE=image/jpeg:https://www.moorsideschools.org.uk/wp-content/uploads/2022/03/Spring_Disco.jpg
END:VEVENT
BEGIN:VEVENT
DTSTART;TZID=UTC:20220328T150000
DTEND;TZID=UTC:20220401T180000
DTSTAMP:20260420T174506
CREATED:20220304T155604Z
LAST-MODIFIED:20220304T155604Z
UID:7684-1648479600-1648836000@www.moorsideschools.org.uk
SUMMARY:Parents Evenings
DESCRIPTION:
URL:https://www.moorsideschools.org.uk/event/parents-evenings-4/
ATTACH;FMTTYPE=image/jpeg:https://www.moorsideschools.org.uk/wp-content/uploads/2019/11/Parents-evening.jpg
END:VEVENT
BEGIN:VEVENT
DTSTART;VALUE=DATE:20220328
DTEND;VALUE=DATE:20220329
DTSTAMP:20260420T174506
CREATED:20220209T161544Z
LAST-MODIFIED:20220209T161544Z
UID:7587-1648425600-1648511999@www.moorsideschools.org.uk
SUMMARY:Year 1 & 2 Trip to Tropical World
DESCRIPTION:
URL:https://www.moorsideschools.org.uk/event/year-1-2-trip-to-tropical-world/
ATTACH;FMTTYPE=image/jpeg:https://www.moorsideschools.org.uk/wp-content/uploads/2022/02/Tropical-World.jpg
END:VEVENT
BEGIN:VEVENT
DTSTART;TZID=UTC:20220325T113000
DTEND;TZID=UTC:20220325T130000
DTSTAMP:20260420T174506
CREATED:20220311T153502Z
LAST-MODIFIED:20220311T153502Z
UID:7698-1648207800-1648213200@www.moorsideschools.org.uk
SUMMARY:Mother's Day Lunch
DESCRIPTION:
URL:https://www.moorsideschools.org.uk/event/mothers-day-lunch/
ATTACH;FMTTYPE=image/jpeg:https://www.moorsideschools.org.uk/wp-content/uploads/2022/03/mothers-day-lunch.jpg
END:VEVENT
BEGIN:VEVENT
DTSTART;TZID=UTC:20220322T153000
DTEND;TZID=UTC:20220322T163000
DTSTAMP:20260420T174506
CREATED:20220304T155458Z
LAST-MODIFIED:20220311T153326Z
UID:7682-1647963000-1647966600@www.moorsideschools.org.uk
SUMMARY:Reading Cafe Years 3-6
DESCRIPTION:
URL:https://www.moorsideschools.org.uk/event/reading-cafe-years-3-6/
ATTACH;FMTTYPE=image/png:https://www.moorsideschools.org.uk/wp-content/uploads/2022/03/reading-cafe.png
END:VEVENT
BEGIN:VEVENT
DTSTART;VALUE=DATE:20220318
DTEND;VALUE=DATE:20220319
DTSTAMP:20260420T174506
CREATED:20220304T155348Z
LAST-MODIFIED:20220304T155348Z
UID:7679-1647561600-1647647999@www.moorsideschools.org.uk
SUMMARY:Red Nose Day
DESCRIPTION:
URL:https://www.moorsideschools.org.uk/event/red-nose-day-2/
ATTACH;FMTTYPE=image/jpeg:https://www.moorsideschools.org.uk/wp-content/uploads/2022/03/comic-relief-red-nose-day.jpg
END:VEVENT
BEGIN:VEVENT
DTSTART;TZID=UTC:20220315T153000
DTEND;TZID=UTC:20220315T163000
DTSTAMP:20260420T174506
CREATED:20220304T155200Z
LAST-MODIFIED:20220311T153358Z
UID:7677-1647358200-1647361800@www.moorsideschools.org.uk
SUMMARY:Reading Cafe - Nursery\, Reception\, Years 1 and 2
DESCRIPTION:
URL:https://www.moorsideschools.org.uk/event/reading-cafe-nursery-reception-years-1-and-2/
ATTACH;FMTTYPE=image/png:https://www.moorsideschools.org.uk/wp-content/uploads/2022/03/reading-cafe.png
END:VEVENT
BEGIN:VEVENT
DTSTART;TZID=UTC:20220310T080000
DTEND;TZID=UTC:20220310T170000
DTSTAMP:20260420T174506
CREATED:20220304T154930Z
LAST-MODIFIED:20220304T154930Z
UID:7675-1646899200-1646931600@www.moorsideschools.org.uk
SUMMARY:Library Visit Reception\, Years 5 and 6
DESCRIPTION:
URL:https://www.moorsideschools.org.uk/event/library-visit-reception-years-5-and-6/
ATTACH;FMTTYPE=image/jpeg:https://www.moorsideschools.org.uk/wp-content/uploads/2022/03/ripon-library.jpg
END:VEVENT
BEGIN:VEVENT
DTSTART;VALUE=DATE:20220307
DTEND;VALUE=DATE:20220308
DTSTAMP:20260420T174506
CREATED:20220304T154701Z
LAST-MODIFIED:20220304T154747Z
UID:7671-1646611200-1646697599@www.moorsideschools.org.uk
SUMMARY:Library Visit Years 1\, 2\, 3 and 4
DESCRIPTION:
URL:https://www.moorsideschools.org.uk/event/library-visit-years-1-2-3-and-4/
ATTACH;FMTTYPE=image/jpeg:https://www.moorsideschools.org.uk/wp-content/uploads/2022/03/ripon-library.jpg
END:VEVENT
BEGIN:VEVENT
DTSTART;VALUE=DATE:20220304
DTEND;VALUE=DATE:20220305
DTSTAMP:20260420T174506
CREATED:20220211T154050Z
LAST-MODIFIED:20220211T154103Z
UID:7619-1646352000-1646438399@www.moorsideschools.org.uk
SUMMARY:Dress-up Day for World Book Day
DESCRIPTION:
URL:https://www.moorsideschools.org.uk/event/dress-up-day-for-world-book-day/
ATTACH;FMTTYPE=image/jpeg:https://www.moorsideschools.org.uk/wp-content/uploads/2020/01/Sponsored-read.jpg
END:VEVENT
BEGIN:VEVENT
DTSTART;VALUE=DATE:20220303
DTEND;VALUE=DATE:20220304
DTSTAMP:20260420T174506
CREATED:20220209T161432Z
LAST-MODIFIED:20220209T161432Z
UID:7584-1646265600-1646351999@www.moorsideschools.org.uk
SUMMARY:Year 3 & 4 Trip to Barley Hall
DESCRIPTION:
URL:https://www.moorsideschools.org.uk/event/year-3-4-trip-to-barley-hall/
ATTACH;FMTTYPE=image/jpeg:https://www.moorsideschools.org.uk/wp-content/uploads/2022/02/Barley-Hall.jpg
END:VEVENT
BEGIN:VEVENT
DTSTART;TZID=UTC:20220228T084500
DTEND;TZID=UTC:20220228T085000
DTSTAMP:20260420T174506
CREATED:20220209T161259Z
LAST-MODIFIED:20220209T161259Z
UID:7582-1646037900-1646038200@www.moorsideschools.org.uk
SUMMARY:Back to School!
DESCRIPTION:
URL:https://www.moorsideschools.org.uk/event/back-to-school-3/
ATTACH;FMTTYPE=image/png:https://www.moorsideschools.org.uk/wp-content/uploads/2020/01/back-to-school.png
END:VEVENT
BEGIN:VEVENT
DTSTART;TZID=UTC:20220218T150000
DTEND;TZID=UTC:20220218T152000
DTSTAMP:20260420T174506
CREATED:20220209T160943Z
LAST-MODIFIED:20220209T160943Z
UID:7580-1645196400-1645197600@www.moorsideschools.org.uk
SUMMARY:Break-up for Half Term
DESCRIPTION:
URL:https://www.moorsideschools.org.uk/event/break-up-for-half-term-8/
ATTACH;FMTTYPE=image/png:https://www.moorsideschools.org.uk/wp-content/uploads/2019/12/Break-up-for-holidays.png
END:VEVENT
BEGIN:VEVENT
DTSTART;TZID=UTC:20220105T085000
DTEND;TZID=UTC:20220105T090000
DTSTAMP:20260420T174506
CREATED:20211111T163141Z
LAST-MODIFIED:20211111T163141Z
UID:7339-1641372600-1641373200@www.moorsideschools.org.uk
SUMMARY:Back to School
DESCRIPTION:
URL:https://www.moorsideschools.org.uk/event/back-to-school-2/
ATTACH;FMTTYPE=image/png:https://www.moorsideschools.org.uk/wp-content/uploads/2020/01/back-to-school.png
END:VEVENT
BEGIN:VEVENT
DTSTART;VALUE=DATE:20220104
DTEND;VALUE=DATE:20220105
DTSTAMP:20260420T174506
CREATED:20211111T163051Z
LAST-MODIFIED:20211111T163051Z
UID:7337-1641254400-1641340799@www.moorsideschools.org.uk
SUMMARY:Teacher Training Day
DESCRIPTION:
URL:https://www.moorsideschools.org.uk/event/teacher-training-day/
ATTACH;FMTTYPE=image/jpeg:https://www.moorsideschools.org.uk/wp-content/uploads/2021/04/teacher-training-day-300x288-1.jpg
END:VEVENT
BEGIN:VEVENT
DTSTART;TZID=UTC:20211217T150000
DTEND;TZID=UTC:20211217T151500
DTSTAMP:20260420T174506
CREATED:20211111T163010Z
LAST-MODIFIED:20211111T163010Z
UID:7335-1639753200-1639754100@www.moorsideschools.org.uk
SUMMARY:Break-up for Christmas holidays at 3pm
DESCRIPTION:
URL:https://www.moorsideschools.org.uk/event/break-up-for-christmas-holidays-at-3pm-2/
ATTACH;FMTTYPE=image/png:https://www.moorsideschools.org.uk/wp-content/uploads/2019/12/Break-up-for-holidays.png
END:VEVENT
BEGIN:VEVENT
DTSTART;TZID=UTC:20211215T140000
DTEND;TZID=UTC:20211215T160000
DTSTAMP:20260420T174506
CREATED:20211111T162844Z
LAST-MODIFIED:20211111T162844Z
UID:7332-1639576800-1639584000@www.moorsideschools.org.uk
SUMMARY:FOMS Christmas Market
DESCRIPTION:
URL:https://www.moorsideschools.org.uk/event/foms-christmas-market/
ATTACH;FMTTYPE=image/jpeg:https://www.moorsideschools.org.uk/wp-content/uploads/2021/11/Christmas-Market.jpg
END:VEVENT
BEGIN:VEVENT
DTSTART;TZID=UTC:20211213T143000
DTEND;TZID=UTC:20211213T150000
DTSTAMP:20260420T174506
CREATED:20211111T162338Z
LAST-MODIFIED:20211111T162338Z
UID:7326-1639405800-1639407600@www.moorsideschools.org.uk
SUMMARY:KS2 Christmas Jingle
DESCRIPTION:
URL:https://www.moorsideschools.org.uk/event/ks2-christmas-jingle/
ATTACH;FMTTYPE=image/png:https://www.moorsideschools.org.uk/wp-content/uploads/2021/11/images.png
END:VEVENT
BEGIN:VEVENT
DTSTART;TZID=UTC:20211209T091000
DTEND;TZID=UTC:20211209T093000
DTSTAMP:20260420T174506
CREATED:20211111T161715Z
LAST-MODIFIED:20211111T161715Z
UID:7324-1639041000-1639042200@www.moorsideschools.org.uk
SUMMARY:Reception & Nursery Nativity
DESCRIPTION:
URL:https://www.moorsideschools.org.uk/event/reception-nursery-nativity-2/
ATTACH;FMTTYPE=image/jpeg:https://www.moorsideschools.org.uk/wp-content/uploads/2021/11/download-1.jpg
END:VEVENT
BEGIN:VEVENT
DTSTART;TZID=UTC:20211208T091000
DTEND;TZID=UTC:20211208T093000
DTSTAMP:20260420T174506
CREATED:20211111T161518Z
LAST-MODIFIED:20211111T161518Z
UID:7319-1638954600-1638955800@www.moorsideschools.org.uk
SUMMARY:Reception & Nursery Nativity
DESCRIPTION:
URL:https://www.moorsideschools.org.uk/event/reception-nursery-nativity/
ATTACH;FMTTYPE=image/jpeg:https://www.moorsideschools.org.uk/wp-content/uploads/2021/11/download-1.jpg
END:VEVENT
BEGIN:VEVENT
DTSTART;VALUE=DATE:20211208
DTEND;VALUE=DATE:20211209
DTSTAMP:20260420T174506
CREATED:20211111T161623Z
LAST-MODIFIED:20211111T161623Z
UID:7322-1638921600-1639007999@www.moorsideschools.org.uk
SUMMARY:Christmas Jumper Day & Christmas Lunch Day!
DESCRIPTION:
URL:https://www.moorsideschools.org.uk/event/christmas-jumper-day-christmas-lunch-day/
ATTACH;FMTTYPE=image/jpeg:https://www.moorsideschools.org.uk/wp-content/uploads/2019/11/Save-the-Children-Christmas-Jumper-Day.jpg
END:VEVENT
END:VCALENDAR