   BEGIN:VCALENDAR
VERSION:2.0
PRODID:-//Moorside Primary School and Nursery - ECPv6.11.0.1//NONSGML v1.0//EN
CALSCALE:GREGORIAN
METHOD:PUBLISH
X-WR-CALNAME:Moorside Primary School and Nursery
X-ORIGINAL-URL:https://www.moorsideschools.org.uk
X-WR-CALDESC:Events for Moorside Primary School and Nursery
REFRESH-INTERVAL;VALUE=DURATION:PT1H
X-Robots-Tag:noindex
X-PUBLISHED-TTL:PT1H
BEGIN:VTIMEZONE
TZID:UTC
BEGIN:STANDARD
TZOFFSETFROM:+0000
TZOFFSETTO:+0000
TZNAME:UTC
DTSTART:20220101T000000
END:STANDARD
END:VTIMEZONE
BEGIN:VEVENT
DTSTART;VALUE=DATE:20221114
DTEND;VALUE=DATE:20221115
DTSTAMP:20260420T123609
CREATED:20221104T155807Z
LAST-MODIFIED:20221104T155807Z
UID:8319-1668384000-1668470399@www.moorsideschools.org.uk
SUMMARY:Wear Odd Socks to School Day
DESCRIPTION:
URL:https://www.moorsideschools.org.uk/event/wear-odd-socks-to-school-day/
ATTACH;FMTTYPE=image/png:https://www.moorsideschools.org.uk/wp-content/uploads/2019/11/socks2-md.png
END:VEVENT
BEGIN:VEVENT
DTSTART;TZID=UTC:20221110T130000
DTEND;TZID=UTC:20221110T150000
DTSTAMP:20260420T123609
CREATED:20221104T155710Z
LAST-MODIFIED:20221104T155710Z
UID:8317-1668085200-1668092400@www.moorsideschools.org.uk
SUMMARY:Y5 & Y6 Wartime Singing at Care Homes
DESCRIPTION:
URL:https://www.moorsideschools.org.uk/event/y5-y6-wartime-singing-at-care-homes/
ATTACH;FMTTYPE=image/png:https://www.moorsideschools.org.uk/wp-content/uploads/2020/01/children-singing.png
END:VEVENT
BEGIN:VEVENT
DTSTART;TZID=UTC:20221101T085000
DTEND;TZID=UTC:20221101T090000
DTSTAMP:20260420T123609
CREATED:20220916T141447Z
LAST-MODIFIED:20220916T141447Z
UID:8190-1667292600-1667293200@www.moorsideschools.org.uk
SUMMARY:School Re-opens after the Half-term Break
DESCRIPTION:
URL:https://www.moorsideschools.org.uk/event/school-re-opens-after-the-half-term-break/
ATTACH;FMTTYPE=image/png:https://www.moorsideschools.org.uk/wp-content/uploads/2020/01/back-to-school.png
END:VEVENT
BEGIN:VEVENT
DTSTART;VALUE=DATE:20221031
DTEND;VALUE=DATE:20221101
DTSTAMP:20260420T123609
CREATED:20220916T141152Z
LAST-MODIFIED:20220916T141152Z
UID:8188-1667174400-1667260799@www.moorsideschools.org.uk
SUMMARY:School Closed for Teacher Training
DESCRIPTION:
URL:https://www.moorsideschools.org.uk/event/school-closed-for-teacher-training/
ATTACH;FMTTYPE=image/jpeg:https://www.moorsideschools.org.uk/wp-content/uploads/2021/04/teacher-training-day-300x288-1.jpg
END:VEVENT
BEGIN:VEVENT
DTSTART;TZID=UTC:20221021T151500
DTEND;TZID=UTC:20221021T152000
DTSTAMP:20260420T123609
CREATED:20220916T141051Z
LAST-MODIFIED:20220916T141051Z
UID:8186-1666365300-1666365600@www.moorsideschools.org.uk
SUMMARY:Break-up for Half Term
DESCRIPTION:
URL:https://www.moorsideschools.org.uk/event/break-up-for-half-term-9/
ATTACH;FMTTYPE=image/png:https://www.moorsideschools.org.uk/wp-content/uploads/2019/12/Break-up-for-holidays.png
END:VEVENT
BEGIN:VEVENT
DTSTART;TZID=UTC:20221018T170000
DTEND;TZID=UTC:20221018T200000
DTSTAMP:20260420T123609
CREATED:20220916T140845Z
LAST-MODIFIED:20220916T140845Z
UID:8184-1666112400-1666123200@www.moorsideschools.org.uk
SUMMARY:Halloween Disco
DESCRIPTION:
URL:https://www.moorsideschools.org.uk/event/halloween-disco-2/
ATTACH;FMTTYPE=image/png:https://www.moorsideschools.org.uk/wp-content/uploads/2022/07/disco-ball.png
END:VEVENT
BEGIN:VEVENT
DTSTART;TZID=UTC:20221012T152000
DTEND;TZID=UTC:20221012T160000
DTSTAMP:20260420T123609
CREATED:20220916T140641Z
LAST-MODIFIED:20220916T140641Z
UID:8182-1665588000-1665590400@www.moorsideschools.org.uk
SUMMARY:Reading Cafe
DESCRIPTION:
URL:https://www.moorsideschools.org.uk/event/reading-cafe-5/
ATTACH;FMTTYPE=image/png:https://www.moorsideschools.org.uk/wp-content/uploads/2022/03/reading-cafe.png
END:VEVENT
BEGIN:VEVENT
DTSTART;TZID=UTC:20221011T091500
DTEND;TZID=UTC:20221011T093000
DTSTAMP:20260420T123609
CREATED:20220923T133013Z
LAST-MODIFIED:20220923T133013Z
UID:8194-1665479700-1665480600@www.moorsideschools.org.uk
SUMMARY:Harvest Assembly - Reception Children
DESCRIPTION:
URL:https://www.moorsideschools.org.uk/event/harvest-assembly-reception-children/
ATTACH;FMTTYPE=image/jpeg:https://www.moorsideschools.org.uk/wp-content/uploads/2022/09/harvest.jpg
END:VEVENT
BEGIN:VEVENT
DTSTART;VALUE=DATE:20221010
DTEND;VALUE=DATE:20221011
DTSTAMP:20260420T123609
CREATED:20220916T135420Z
LAST-MODIFIED:20220916T135420Z
UID:8179-1665360000-1665446399@www.moorsideschools.org.uk
SUMMARY:Y1 & Y2 Trip to Harlow Carr
DESCRIPTION:
URL:https://www.moorsideschools.org.uk/event/y1-y2-trip-to-harlow-carr/
ATTACH;FMTTYPE=image/jpeg:https://www.moorsideschools.org.uk/wp-content/uploads/2022/09/harlow.carr_.jpg
END:VEVENT
BEGIN:VEVENT
DTSTART;TZID=UTC:20221004T152000
DTEND;TZID=UTC:20221004T160000
DTSTAMP:20260420T123609
CREATED:20220916T134859Z
LAST-MODIFIED:20220916T134859Z
UID:8176-1664896800-1664899200@www.moorsideschools.org.uk
SUMMARY:KS2 Reading Plus Information Evening
DESCRIPTION:
URL:https://www.moorsideschools.org.uk/event/ks2-reading-plus-information-evening/
ATTACH;FMTTYPE=image/png:https://www.moorsideschools.org.uk/wp-content/uploads/2022/09/reading-plus.png
END:VEVENT
BEGIN:VEVENT
DTSTART;TZID=UTC:20221001T100000
DTEND;TZID=UTC:20221001T113000
DTSTAMP:20260420T123609
CREATED:20220916T134652Z
LAST-MODIFIED:20220916T134652Z
UID:8173-1664618400-1664623800@www.moorsideschools.org.uk
SUMMARY:Early Years Opening Morning
DESCRIPTION:
URL:https://www.moorsideschools.org.uk/event/early-years-opening-morning/
ATTACH;FMTTYPE=image/jpeg:https://www.moorsideschools.org.uk/wp-content/uploads/2022/09/Image-36.jpeg
END:VEVENT
BEGIN:VEVENT
DTSTART;TZID=UTC:20220927T152000
DTEND;TZID=UTC:20220927T160000
DTSTAMP:20260420T123609
CREATED:20220916T134422Z
LAST-MODIFIED:20220916T134422Z
UID:8170-1664292000-1664294400@www.moorsideschools.org.uk
SUMMARY:Phonics Information Evening for Reception Parents
DESCRIPTION:
URL:https://www.moorsideschools.org.uk/event/phonics-information-evening-for-reception-parents/
ATTACH;FMTTYPE=image/png:https://www.moorsideschools.org.uk/wp-content/uploads/2020/09/Reception-Phonics.png
END:VEVENT
BEGIN:VEVENT
DTSTART;VALUE=DATE:20220923
DTEND;VALUE=DATE:20220924
DTSTAMP:20260420T123609
CREATED:20220916T134229Z
LAST-MODIFIED:20220916T134229Z
UID:8167-1663891200-1663977599@www.moorsideschools.org.uk
SUMMARY:Jeans for Genes Day
DESCRIPTION:
URL:https://www.moorsideschools.org.uk/event/jeans-for-genes-day-3/
ATTACH;FMTTYPE=image/png:https://www.moorsideschools.org.uk/wp-content/uploads/2022/09/Jeans-for-Genes.png
END:VEVENT
BEGIN:VEVENT
DTSTART;TZID=UTC:20220906T085000
DTEND;TZID=UTC:20220906T090000
DTSTAMP:20260420T123609
CREATED:20220705T132844Z
LAST-MODIFIED:20220705T132844Z
UID:8050-1662454200-1662454800@www.moorsideschools.org.uk
SUMMARY:School Re-opens for the New School Year
DESCRIPTION:
URL:https://www.moorsideschools.org.uk/event/school-re-opens-for-the-new-school-year/
ATTACH;FMTTYPE=image/jpeg:https://www.moorsideschools.org.uk/wp-content/uploads/2020/09/back-to-school.jpg
END:VEVENT
BEGIN:VEVENT
DTSTART;TZID=UTC:20220906T084500
DTEND;TZID=UTC:20220906T085000
DTSTAMP:20260420T123609
CREATED:20220624T151248Z
LAST-MODIFIED:20220624T151248Z
UID:8022-1662453900-1662454200@www.moorsideschools.org.uk
SUMMARY:School Opens for the 2022-23 Academic Year
DESCRIPTION:
URL:https://www.moorsideschools.org.uk/event/school-opens-for-the-2022-23-academic-year/
ATTACH;FMTTYPE=image/png:https://www.moorsideschools.org.uk/wp-content/uploads/2020/01/back-to-school.png
END:VEVENT
BEGIN:VEVENT
DTSTART;TZID=UTC:20220722T150000
DTEND;TZID=UTC:20220722T150000
DTSTAMP:20260420T123609
CREATED:20220624T151034Z
LAST-MODIFIED:20220624T151034Z
UID:8020-1658502000-1658502000@www.moorsideschools.org.uk
SUMMARY:School Closes at 3pm for the Summer Holidays
DESCRIPTION:
URL:https://www.moorsideschools.org.uk/event/school-closes-at-3pm-for-the-summer-holidays/
ATTACH;FMTTYPE=image/png:https://www.moorsideschools.org.uk/wp-content/uploads/2019/12/Break-up-for-holidays.png
END:VEVENT
BEGIN:VEVENT
DTSTART;TZID=UTC:20220720T180000
DTEND;TZID=UTC:20220720T193000
DTSTAMP:20260420T123609
CREATED:20220705T132621Z
LAST-MODIFIED:20220705T132621Z
UID:8048-1658340000-1658345400@www.moorsideschools.org.uk
SUMMARY:Oliver Production
DESCRIPTION:
URL:https://www.moorsideschools.org.uk/event/oliver-production-3/
ATTACH;FMTTYPE=image/jpeg:https://www.moorsideschools.org.uk/wp-content/uploads/2022/06/Oliver.jpeg
END:VEVENT
BEGIN:VEVENT
DTSTART;TZID=UTC:20220720T093000
DTEND;TZID=UTC:20220720T103000
DTSTAMP:20260420T123609
CREATED:20220610T132509Z
LAST-MODIFIED:20220617T153800Z
UID:7922-1658309400-1658313000@www.moorsideschools.org.uk
SUMMARY:Oliver! Production
DESCRIPTION:
URL:https://www.moorsideschools.org.uk/event/oliver-production-2/
ATTACH;FMTTYPE=image/jpeg:https://www.moorsideschools.org.uk/wp-content/uploads/2022/06/Oliver.jpeg
END:VEVENT
BEGIN:VEVENT
DTSTART;VALUE=DATE:20220719
DTEND;VALUE=DATE:20220720
DTSTAMP:20260420T123609
CREATED:20220610T132816Z
LAST-MODIFIED:20220610T132816Z
UID:7924-1658188800-1658275199@www.moorsideschools.org.uk
SUMMARY:Sports Day
DESCRIPTION:
URL:https://www.moorsideschools.org.uk/event/sports-day-2/
ATTACH;FMTTYPE=image/jpeg:https://www.moorsideschools.org.uk/wp-content/uploads/2022/06/Sports.jpg
END:VEVENT
BEGIN:VEVENT
DTSTART;TZID=UTC:20220718T161500
DTEND;TZID=UTC:20220718T193000
DTSTAMP:20260420T123609
CREATED:20220705T132409Z
LAST-MODIFIED:20220705T132409Z
UID:8045-1658160900-1658172600@www.moorsideschools.org.uk
SUMMARY:School Disco
DESCRIPTION:
URL:https://www.moorsideschools.org.uk/event/school-disco/
ATTACH;FMTTYPE=image/png:https://www.moorsideschools.org.uk/wp-content/uploads/2022/07/disco-ball.png
END:VEVENT
BEGIN:VEVENT
DTSTART;TZID=UTC:20220718T133000
DTEND;TZID=UTC:20220718T150000
DTSTAMP:20260420T123609
CREATED:20220610T132415Z
LAST-MODIFIED:20220617T153504Z
UID:7919-1658151000-1658156400@www.moorsideschools.org.uk
SUMMARY:Oliver! Production
DESCRIPTION:
URL:https://www.moorsideschools.org.uk/event/oliver-production/
ATTACH;FMTTYPE=image/jpeg:https://www.moorsideschools.org.uk/wp-content/uploads/2022/06/Oliver.jpeg
END:VEVENT
BEGIN:VEVENT
DTSTART;VALUE=DATE:20220718
DTEND;VALUE=DATE:20220719
DTSTAMP:20260420T123609
CREATED:20220705T131805Z
LAST-MODIFIED:20220705T131805Z
UID:8041-1658102400-1658188799@www.moorsideschools.org.uk
SUMMARY:Y2 Visit to Bland Farm
DESCRIPTION:
URL:https://www.moorsideschools.org.uk/event/y2-visit-to-bland-farm/
ATTACH;FMTTYPE=image/png:https://www.moorsideschools.org.uk/wp-content/uploads/2022/07/farm2.png
END:VEVENT
BEGIN:VEVENT
DTSTART;VALUE=DATE:20220714
DTEND;VALUE=DATE:20220715
DTSTAMP:20260420T123609
CREATED:20220624T150814Z
LAST-MODIFIED:20220624T150814Z
UID:8017-1657756800-1657843199@www.moorsideschools.org.uk
SUMMARY:Pirate Day for Children in Reception
DESCRIPTION:
URL:https://www.moorsideschools.org.uk/event/pirate-day-for-children-in-reception/
ATTACH;FMTTYPE=image/png:https://www.moorsideschools.org.uk/wp-content/uploads/2022/06/pirate.png
END:VEVENT
BEGIN:VEVENT
DTSTART;VALUE=DATE:20220713
DTEND;VALUE=DATE:20220714
DTSTAMP:20260420T123609
CREATED:20220518T131453Z
LAST-MODIFIED:20220518T131453Z
UID:7855-1657670400-1657756799@www.moorsideschools.org.uk
SUMMARY:Y6 Leavers Trip to London
DESCRIPTION:
URL:https://www.moorsideschools.org.uk/event/y6-leavers-trip-to-london/
ATTACH;FMTTYPE=image/jpeg:https://www.moorsideschools.org.uk/wp-content/uploads/2022/05/London.jpg
END:VEVENT
BEGIN:VEVENT
DTSTART;VALUE=DATE:20220712
DTEND;VALUE=DATE:20220713
DTSTAMP:20260420T123609
CREATED:20220617T154731Z
LAST-MODIFIED:20220617T154731Z
UID:8009-1657584000-1657670399@www.moorsideschools.org.uk
SUMMARY:Y5 Trip to Beamish
DESCRIPTION:
URL:https://www.moorsideschools.org.uk/event/y5-trip-to-beamish/
ATTACH;FMTTYPE=image/jpeg:https://www.moorsideschools.org.uk/wp-content/uploads/2022/06/beamish.jpg
END:VEVENT
BEGIN:VEVENT
DTSTART;VALUE=DATE:20220711
DTEND;VALUE=DATE:20220712
DTSTAMP:20260420T123609
CREATED:20220705T131939Z
LAST-MODIFIED:20220705T131939Z
UID:8043-1657497600-1657583999@www.moorsideschools.org.uk
SUMMARY:Y3 & Y4 Trip to Saltburn
DESCRIPTION:
URL:https://www.moorsideschools.org.uk/event/y3-y4-trip-to-saltburn/
ATTACH;FMTTYPE=image/jpeg:https://www.moorsideschools.org.uk/wp-content/uploads/2021/06/clifftop-view-pier-saltburn-by-sea_29505-33.jpg
END:VEVENT
BEGIN:VEVENT
DTSTART;VALUE=DATE:20220711
DTEND;VALUE=DATE:20220712
DTSTAMP:20260420T123609
CREATED:20220705T131717Z
LAST-MODIFIED:20220705T131717Z
UID:8038-1657497600-1657583999@www.moorsideschools.org.uk
SUMMARY:Y1 Visit to Bland Farm
DESCRIPTION:
URL:https://www.moorsideschools.org.uk/event/y1-visit-to-bland-farm/
ATTACH;FMTTYPE=image/png:https://www.moorsideschools.org.uk/wp-content/uploads/2022/07/farm2.png
END:VEVENT
BEGIN:VEVENT
DTSTART;TZID=UTC:20220701T093000
DTEND;TZID=UTC:20220701T103000
DTSTAMP:20260420T123609
CREATED:20220520T145143Z
LAST-MODIFIED:20220520T145143Z
UID:7867-1656667800-1656671400@www.moorsideschools.org.uk
SUMMARY:Parents Meeting for September 2022 Nursery Starters
DESCRIPTION:
URL:https://www.moorsideschools.org.uk/event/parents-meeting-for-september-2022-nursery-starters/
ATTACH;FMTTYPE=image/png:https://www.moorsideschools.org.uk/wp-content/uploads/2020/07/Nursery-Starting-School.png
END:VEVENT
BEGIN:VEVENT
DTSTART;VALUE=DATE:20220629
DTEND;VALUE=DATE:20220630
DTSTAMP:20260420T123609
CREATED:20220610T130714Z
LAST-MODIFIED:20220610T130714Z
UID:7916-1656460800-1656547199@www.moorsideschools.org.uk
SUMMARY:EYFS Trip to Thorp Perrow
DESCRIPTION:
URL:https://www.moorsideschools.org.uk/event/eyfs-trip-to-thorp-perrow/
ATTACH;FMTTYPE=image/jpeg:https://www.moorsideschools.org.uk/wp-content/uploads/2022/06/Thorp-Perrow-2290.jpg
END:VEVENT
BEGIN:VEVENT
DTSTART;TZID=UTC:20220628T163000
DTEND;TZID=UTC:20220628T173000
DTSTAMP:20260420T123609
CREATED:20220520T145016Z
LAST-MODIFIED:20220520T145016Z
UID:7865-1656433800-1656437400@www.moorsideschools.org.uk
SUMMARY:Parents Meeting for September 2022 Reception Starters
DESCRIPTION:
URL:https://www.moorsideschools.org.uk/event/parents-meeting-for-september-2022-reception-starters/
ATTACH;FMTTYPE=image/png:https://www.moorsideschools.org.uk/wp-content/uploads/2020/07/Starting-School.png
END:VEVENT
END:VCALENDAR