   BEGIN:VCALENDAR
VERSION:2.0
PRODID:-//Moorside Primary School and Nursery - ECPv6.11.0.1//NONSGML v1.0//EN
CALSCALE:GREGORIAN
METHOD:PUBLISH
X-WR-CALNAME:Moorside Primary School and Nursery
X-ORIGINAL-URL:https://www.moorsideschools.org.uk
X-WR-CALDESC:Events for Moorside Primary School and Nursery
REFRESH-INTERVAL;VALUE=DURATION:PT1H
X-Robots-Tag:noindex
X-PUBLISHED-TTL:PT1H
BEGIN:VTIMEZONE
TZID:UTC
BEGIN:STANDARD
TZOFFSETFROM:+0000
TZOFFSETTO:+0000
TZNAME:UTC
DTSTART:20250101T000000
END:STANDARD
END:VTIMEZONE
BEGIN:VEVENT
DTSTART;VALUE=DATE:20250303
DTEND;VALUE=DATE:20250329
DTSTAMP:20260421T083609
CREATED:20250224T141015Z
LAST-MODIFIED:20250224T144152Z
UID:10233-1740960000-1743206399@www.moorsideschools.org.uk
SUMMARY:Month of Reading Madness
DESCRIPTION:
URL:https://www.moorsideschools.org.uk/event/month-of-reading-madness/
ATTACH;FMTTYPE=image/png:https://www.moorsideschools.org.uk/wp-content/uploads/2025/02/Month-of-Reading-Madness-2025.png
END:VEVENT
BEGIN:VEVENT
DTSTART;TZID=UTC:20250327T091500
DTEND;TZID=UTC:20250327T100000
DTSTAMP:20260421T083609
CREATED:20250304T113922Z
LAST-MODIFIED:20250304T113922Z
UID:10293-1743066900-1743069600@www.moorsideschools.org.uk
SUMMARY:Years 5 and 6 Showcase
DESCRIPTION:
URL:https://www.moorsideschools.org.uk/event/years-5-and-6-showcase/
ATTACH;FMTTYPE=image/png:https://www.moorsideschools.org.uk/wp-content/uploads/2019/11/Showcase.png
END:VEVENT
BEGIN:VEVENT
DTSTART;TZID=UTC:20250327T134500
DTEND;TZID=UTC:20250327T143000
DTSTAMP:20260421T083609
CREATED:20250224T141811Z
LAST-MODIFIED:20250224T141811Z
UID:10245-1743083100-1743085800@www.moorsideschools.org.uk
SUMMARY:Years 1 & 2 Showcase
DESCRIPTION:
URL:https://www.moorsideschools.org.uk/event/years-1-2-showcase/
ATTACH;FMTTYPE=image/png:https://www.moorsideschools.org.uk/wp-content/uploads/2019/11/Showcase.png
END:VEVENT
END:VCALENDAR