   BEGIN:VCALENDAR
VERSION:2.0
PRODID:-//Moorside Primary School and Nursery - ECPv6.11.0.1//NONSGML v1.0//EN
CALSCALE:GREGORIAN
METHOD:PUBLISH
X-WR-CALNAME:Moorside Primary School and Nursery
X-ORIGINAL-URL:https://www.moorsideschools.org.uk
X-WR-CALDESC:Events for Moorside Primary School and Nursery
REFRESH-INTERVAL;VALUE=DURATION:PT1H
X-Robots-Tag:noindex
X-PUBLISHED-TTL:PT1H
BEGIN:VTIMEZONE
TZID:UTC
BEGIN:STANDARD
TZOFFSETFROM:+0000
TZOFFSETTO:+0000
TZNAME:UTC
DTSTART:20240101T000000
END:STANDARD
END:VTIMEZONE
BEGIN:VEVENT
DTSTART;TZID=UTC:20241220T091500
DTEND;TZID=UTC:20241220T093000
DTSTAMP:20260421T114849
CREATED:20241105T095055Z
LAST-MODIFIED:20241105T095706Z
UID:10004-1734686100-1734687000@www.moorsideschools.org.uk
SUMMARY:Carols around the Christmas Tree - 9.15am
DESCRIPTION:
URL:https://www.moorsideschools.org.uk/event/carols-around-the-christmas-tree-9-15am/
ATTACH;FMTTYPE=image/png:https://www.moorsideschools.org.uk/wp-content/uploads/2023/12/Carols-around-the-tree.png
END:VEVENT
BEGIN:VEVENT
DTSTART;TZID=UTC:20241220T150000
DTEND;TZID=UTC:20241220T150500
DTSTAMP:20260421T114849
CREATED:20241014T145036Z
LAST-MODIFIED:20241014T145036Z
UID:9965-1734706800-1734707100@www.moorsideschools.org.uk
SUMMARY:Break-up for the Christmas Holidays at 3pm
DESCRIPTION:
URL:https://www.moorsideschools.org.uk/event/break-up-for-the-christmas-holidays-at-3pm/
ATTACH;FMTTYPE=image/png:https://www.moorsideschools.org.uk/wp-content/uploads/2019/12/Break-up-for-holidays.png
END:VEVENT
END:VCALENDAR