   BEGIN:VCALENDAR
VERSION:2.0
PRODID:-//Moorside Primary School and Nursery - ECPv6.11.0.1//NONSGML v1.0//EN
CALSCALE:GREGORIAN
METHOD:PUBLISH
X-WR-CALNAME:Moorside Primary School and Nursery
X-ORIGINAL-URL:https://www.moorsideschools.org.uk
X-WR-CALDESC:Events for Moorside Primary School and Nursery
REFRESH-INTERVAL;VALUE=DURATION:PT1H
X-Robots-Tag:noindex
X-PUBLISHED-TTL:PT1H
BEGIN:VTIMEZONE
TZID:UTC
BEGIN:STANDARD
TZOFFSETFROM:+0000
TZOFFSETTO:+0000
TZNAME:UTC
DTSTART:20240101T000000
END:STANDARD
END:VTIMEZONE
BEGIN:VEVENT
DTSTART;TZID=UTC:20241209T130000
DTEND;TZID=UTC:20241209T153000
DTSTAMP:20260421T131608
CREATED:20241125T103245Z
LAST-MODIFIED:20241125T103245Z
UID:10069-1733749200-1733758200@www.moorsideschools.org.uk
SUMMARY:Year 6 Parents Evening
DESCRIPTION:Teacher(s) available for parents evening: Miss Padbury-Hunt \nView Event
URL:https://www.moorsideschools.org.uk/event/year-6-parents-evening/
END:VEVENT
BEGIN:VEVENT
DTSTART;TZID=UTC:20241209T134500
DTEND;TZID=UTC:20241209T143000
DTSTAMP:20260421T131608
CREATED:20241105T094551Z
LAST-MODIFIED:20241105T094551Z
UID:9994-1733751900-1733754600@www.moorsideschools.org.uk
SUMMARY:EYFS Nativity - 1.45pm
DESCRIPTION:
URL:https://www.moorsideschools.org.uk/event/eyfs-nativity-1-45pm/
ATTACH;FMTTYPE=image/jpeg:https://www.moorsideschools.org.uk/wp-content/uploads/2019/12/nativity2-1.jpg
END:VEVENT
BEGIN:VEVENT
DTSTART;TZID=UTC:20241209T153000
DTEND;TZID=UTC:20241209T170000
DTSTAMP:20260421T131608
CREATED:20241125T100026Z
LAST-MODIFIED:20241125T100026Z
UID:10043-1733758200-1733763600@www.moorsideschools.org.uk
SUMMARY:Year 1 Parents Evening
DESCRIPTION:Teacher(s) available for parents evening: Mrs Jemmett \nView Event
URL:https://www.moorsideschools.org.uk/event/year-1-parents-evening/
END:VEVENT
BEGIN:VEVENT
DTSTART;TZID=UTC:20241209T153000
DTEND;TZID=UTC:20241209T170000
DTSTAMP:20260421T131608
CREATED:20241125T102740Z
LAST-MODIFIED:20241125T102740Z
UID:10061-1733758200-1733763600@www.moorsideschools.org.uk
SUMMARY:Year 4 Parents Evening
DESCRIPTION:Teacher(s) available for parents evening: Mrs Hunton \nView Event
URL:https://www.moorsideschools.org.uk/event/year-4-parents-evening/
END:VEVENT
BEGIN:VEVENT
DTSTART;TZID=UTC:20241209T153000
DTEND;TZID=UTC:20241209T171000
DTSTAMP:20260421T131608
CREATED:20241125T102502Z
LAST-MODIFIED:20241125T102502Z
UID:10057-1733758200-1733764200@www.moorsideschools.org.uk
SUMMARY:Year 3 Parents Evening
DESCRIPTION:Teacher(s) available for parents evening: Mr Price \nView Event
URL:https://www.moorsideschools.org.uk/event/year-3-parents-evening/
END:VEVENT
BEGIN:VEVENT
DTSTART;TZID=UTC:20241209T153000
DTEND;TZID=UTC:20241209T173000
DTSTAMP:20260421T131608
CREATED:20241125T101241Z
LAST-MODIFIED:20241125T101241Z
UID:10053-1733758200-1733765400@www.moorsideschools.org.uk
SUMMARY:Year 2 Parents Evening
DESCRIPTION:Teacher(s) available for parents evening: Miss H Riley \nView Event
URL:https://www.moorsideschools.org.uk/event/year-2-parents-evening-7/
END:VEVENT
BEGIN:VEVENT
DTSTART;TZID=UTC:20241209T153000
DTEND;TZID=UTC:20241209T173000
DTSTAMP:20260421T131608
CREATED:20241125T103022Z
LAST-MODIFIED:20241125T103022Z
UID:10065-1733758200-1733765400@www.moorsideschools.org.uk
SUMMARY:Year 5 Parents Evening
DESCRIPTION:Teacher(s) available for parents evening: Miss Ryder \nView Event
URL:https://www.moorsideschools.org.uk/event/year-5-parents-evening/
END:VEVENT
BEGIN:VEVENT
DTSTART;TZID=UTC:20241209T153000
DTEND;TZID=UTC:20241209T173000
DTSTAMP:20260421T131608
CREATED:20241125T112608Z
LAST-MODIFIED:20241125T112608Z
UID:10090-1733758200-1733765400@www.moorsideschools.org.uk
SUMMARY:Reception Parents Evening
DESCRIPTION:Teacher(s) available for parents evening: Mrs Burland \nView Event
URL:https://www.moorsideschools.org.uk/event/reception-parents-evening/
END:VEVENT
END:VCALENDAR