   BEGIN:VCALENDAR
VERSION:2.0
PRODID:-//Moorside Primary School and Nursery - ECPv6.11.0.1//NONSGML v1.0//EN
CALSCALE:GREGORIAN
METHOD:PUBLISH
X-ORIGINAL-URL:https://www.moorsideschools.org.uk
X-WR-CALDESC:Events for Moorside Primary School and Nursery
REFRESH-INTERVAL;VALUE=DURATION:PT1H
X-Robots-Tag:noindex
X-PUBLISHED-TTL:PT1H
BEGIN:VTIMEZONE
TZID:UTC
BEGIN:STANDARD
TZOFFSETFROM:+0000
TZOFFSETTO:+0000
TZNAME:UTC
DTSTART:20240101T000000
END:STANDARD
END:VTIMEZONE
BEGIN:VEVENT
DTSTART;TZID=UTC:20241205T141500
DTEND;TZID=UTC:20241205T160000
DTSTAMP:20260421T115033
CREATED:20241014T144939Z
LAST-MODIFIED:20241014T144939Z
UID:9963-1733408100-1733414400@www.moorsideschools.org.uk
SUMMARY:Christmas Fair - 2pm
DESCRIPTION:
URL:https://www.moorsideschools.org.uk/event/christmas-fair-2pm/
ATTACH;FMTTYPE=image/jpeg:https://www.moorsideschools.org.uk/wp-content/uploads/2022/11/christmas-fair.jpg
END:VEVENT
END:VCALENDAR