   BEGIN:VCALENDAR
VERSION:2.0
PRODID:-//Moorside Primary School and Nursery - ECPv6.11.0.1//NONSGML v1.0//EN
CALSCALE:GREGORIAN
METHOD:PUBLISH
X-WR-CALNAME:Moorside Primary School and Nursery
X-ORIGINAL-URL:https://www.moorsideschools.org.uk
X-WR-CALDESC:Events for Moorside Primary School and Nursery
REFRESH-INTERVAL;VALUE=DURATION:PT1H
X-Robots-Tag:noindex
X-PUBLISHED-TTL:PT1H
BEGIN:VTIMEZONE
TZID:UTC
BEGIN:STANDARD
TZOFFSETFROM:+0000
TZOFFSETTO:+0000
TZNAME:UTC
DTSTART:20240101T000000
END:STANDARD
END:VTIMEZONE
BEGIN:VEVENT
DTSTART;TZID=UTC:20241118T133000
DTEND;TZID=UTC:20241118T143000
DTSTAMP:20260421T131602
CREATED:20241014T143348Z
LAST-MODIFIED:20241014T143348Z
UID:9956-1731936600-1731940200@www.moorsideschools.org.uk
SUMMARY:KS2 Letter from the Trenches Performance 1.30pm
DESCRIPTION:
URL:https://www.moorsideschools.org.uk/event/ks2-letter-from-the-trenches-performance-1-30pm/
ATTACH;FMTTYPE=image/webp:https://www.moorsideschools.org.uk/wp-content/uploads/2022/11/letters-from-the-trenches.webp
END:VEVENT
END:VCALENDAR