   BEGIN:VCALENDAR
VERSION:2.0
PRODID:-//Moorside Primary School and Nursery - ECPv6.11.0.1//NONSGML v1.0//EN
CALSCALE:GREGORIAN
METHOD:PUBLISH
X-WR-CALNAME:Moorside Primary School and Nursery
X-ORIGINAL-URL:https://www.moorsideschools.org.uk
X-WR-CALDESC:Events for Moorside Primary School and Nursery
REFRESH-INTERVAL;VALUE=DURATION:PT1H
X-Robots-Tag:noindex
X-PUBLISHED-TTL:PT1H
BEGIN:VTIMEZONE
TZID:UTC
BEGIN:STANDARD
TZOFFSETFROM:+0000
TZOFFSETTO:+0000
TZNAME:UTC
DTSTART:20240101T000000
END:STANDARD
END:VTIMEZONE
BEGIN:VEVENT
DTSTART;TZID=UTC:20240718T093000
DTEND;TZID=UTC:20240718T103000
DTSTAMP:20260421T184721
CREATED:20240614T150755Z
LAST-MODIFIED:20240614T150755Z
UID:9765-1721295000-1721298600@www.moorsideschools.org.uk
SUMMARY:Nursery Sports Day
DESCRIPTION:
URL:https://www.moorsideschools.org.uk/event/nursery-sports-day/
ATTACH;FMTTYPE=image/jpeg:https://www.moorsideschools.org.uk/wp-content/uploads/2024/06/sports-day.jpg
END:VEVENT
BEGIN:VEVENT
DTSTART;TZID=UTC:20240718T140000
DTEND;TZID=UTC:20240718T150000
DTSTAMP:20260421T184721
CREATED:20240520T134900Z
LAST-MODIFIED:20240520T134900Z
UID:9736-1721311200-1721314800@www.moorsideschools.org.uk
SUMMARY:Y6 Leavers Assembly
DESCRIPTION:
URL:https://www.moorsideschools.org.uk/event/y6-leavers-assembly-3/
ATTACH;FMTTYPE=image/jpeg:https://www.moorsideschools.org.uk/wp-content/uploads/2024/05/Y6-Leavers.jpg
END:VEVENT
END:VCALENDAR