   BEGIN:VCALENDAR
VERSION:2.0
PRODID:-//Moorside Primary School and Nursery - ECPv6.11.0.1//NONSGML v1.0//EN
CALSCALE:GREGORIAN
METHOD:PUBLISH
X-ORIGINAL-URL:https://www.moorsideschools.org.uk
X-WR-CALDESC:Events for Moorside Primary School and Nursery
REFRESH-INTERVAL;VALUE=DURATION:PT1H
X-Robots-Tag:noindex
X-PUBLISHED-TTL:PT1H
BEGIN:VTIMEZONE
TZID:UTC
BEGIN:STANDARD
TZOFFSETFROM:+0000
TZOFFSETTO:+0000
TZNAME:UTC
DTSTART:20240101T000000
END:STANDARD
END:VTIMEZONE
BEGIN:VEVENT
DTSTART;TZID=UTC:20240717T140000
DTEND;TZID=UTC:20240717T160000
DTSTAMP:20260421T184838
CREATED:20240520T134458Z
LAST-MODIFIED:20240520T134458Z
UID:9733-1721224800-1721232000@www.moorsideschools.org.uk
SUMMARY:Y6 Strawberry Fair
DESCRIPTION:
URL:https://www.moorsideschools.org.uk/event/y6-strawberry-fair-2/
ATTACH;FMTTYPE=image/png:https://www.moorsideschools.org.uk/wp-content/uploads/2024/05/strawberry-fair.png
END:VEVENT
END:VCALENDAR