   BEGIN:VCALENDAR
VERSION:2.0
PRODID:-//Moorside Primary School and Nursery - ECPv6.11.0.1//NONSGML v1.0//EN
CALSCALE:GREGORIAN
METHOD:PUBLISH
X-ORIGINAL-URL:https://www.moorsideschools.org.uk
X-WR-CALDESC:Events for Moorside Primary School and Nursery
REFRESH-INTERVAL;VALUE=DURATION:PT1H
X-Robots-Tag:noindex
X-PUBLISHED-TTL:PT1H
BEGIN:VTIMEZONE
TZID:UTC
BEGIN:STANDARD
TZOFFSETFROM:+0000
TZOFFSETTO:+0000
TZNAME:UTC
DTSTART:20240101T000000
END:STANDARD
END:VTIMEZONE
BEGIN:VEVENT
DTSTART;VALUE=DATE:20240523
DTEND;VALUE=DATE:20240524
DTSTAMP:20260421T211925
CREATED:20240426T144446Z
LAST-MODIFIED:20240426T144446Z
UID:9670-1716422400-1716508799@www.moorsideschools.org.uk
SUMMARY:Year 5 Trip to Beamish
DESCRIPTION:
URL:https://www.moorsideschools.org.uk/event/year-5-trip-to-beamish/
ATTACH;FMTTYPE=image/png:https://www.moorsideschools.org.uk/wp-content/uploads/2023/11/Beamish.png
END:VEVENT
BEGIN:VEVENT
DTSTART;VALUE=DATE:20240523
DTEND;VALUE=DATE:20240524
DTSTAMP:20260421T211925
CREATED:20240510T135428Z
LAST-MODIFIED:20240510T135428Z
UID:9695-1716422400-1716508799@www.moorsideschools.org.uk
SUMMARY:Y4 Trip to Bland Close Farm
DESCRIPTION:
URL:https://www.moorsideschools.org.uk/event/y4-trip-to-bland-close-farm/
ATTACH;FMTTYPE=image/png:https://www.moorsideschools.org.uk/wp-content/uploads/2022/07/farm2.png
END:VEVENT
BEGIN:VEVENT
DTSTART;TZID=UTC:20240523T152000
DTEND;TZID=UTC:20240523T160000
DTSTAMP:20260421T211925
CREATED:20240419T144101Z
LAST-MODIFIED:20240419T144101Z
UID:9666-1716477600-1716480000@www.moorsideschools.org.uk
SUMMARY:Reading Cafe
DESCRIPTION:
URL:https://www.moorsideschools.org.uk/event/reading-cafe-11/
ATTACH;FMTTYPE=image/png:https://www.moorsideschools.org.uk/wp-content/uploads/2022/03/reading-cafe.png
END:VEVENT
END:VCALENDAR