   BEGIN:VCALENDAR
VERSION:2.0
PRODID:-//Moorside Primary School and Nursery - ECPv6.11.0.1//NONSGML v1.0//EN
CALSCALE:GREGORIAN
METHOD:PUBLISH
X-ORIGINAL-URL:https://www.moorsideschools.org.uk
X-WR-CALDESC:Events for Moorside Primary School and Nursery
REFRESH-INTERVAL;VALUE=DURATION:PT1H
X-Robots-Tag:noindex
X-PUBLISHED-TTL:PT1H
BEGIN:VTIMEZONE
TZID:UTC
BEGIN:STANDARD
TZOFFSETFROM:+0000
TZOFFSETTO:+0000
TZNAME:UTC
DTSTART:20240101T000000
END:STANDARD
END:VTIMEZONE
BEGIN:VEVENT
DTSTART;VALUE=DATE:20240122
DTEND;VALUE=DATE:20240127
DTSTAMP:20260422T023942
CREATED:20231006T132947Z
LAST-MODIFIED:20231006T132947Z
UID:9145-1705881600-1706313599@www.moorsideschools.org.uk
SUMMARY:Y6 Residential Trip to Marrick Priory
DESCRIPTION:
URL:https://www.moorsideschools.org.uk/event/y6-residential-trip-to-marrick-priory/
ATTACH;FMTTYPE=image/jpeg:https://www.moorsideschools.org.uk/wp-content/uploads/2020/01/Welcome-to-Marrick-Priory.jpg
END:VEVENT
END:VCALENDAR