   BEGIN:VCALENDAR
VERSION:2.0
PRODID:-//Moorside Primary School and Nursery - ECPv6.11.0.1//NONSGML v1.0//EN
CALSCALE:GREGORIAN
METHOD:PUBLISH
X-ORIGINAL-URL:https://www.moorsideschools.org.uk
X-WR-CALDESC:Events for Moorside Primary School and Nursery
REFRESH-INTERVAL;VALUE=DURATION:PT1H
X-Robots-Tag:noindex
X-PUBLISHED-TTL:PT1H
BEGIN:VTIMEZONE
TZID:UTC
BEGIN:STANDARD
TZOFFSETFROM:+0000
TZOFFSETTO:+0000
TZNAME:UTC
DTSTART:20230101T000000
END:STANDARD
END:VTIMEZONE
BEGIN:VEVENT
DTSTART;TZID=UTC:20231222T141500
DTEND;TZID=UTC:20231222T150000
DTSTAMP:20260422T040219
CREATED:20231215T154150Z
LAST-MODIFIED:20231215T154150Z
UID:9299-1703254500-1703257200@www.moorsideschools.org.uk
SUMMARY:Carols around the Tree
DESCRIPTION:
URL:https://www.moorsideschools.org.uk/event/carols-around-the-tree/
ATTACH;FMTTYPE=image/png:https://www.moorsideschools.org.uk/wp-content/uploads/2023/12/Carols-around-the-tree.png
END:VEVENT
BEGIN:VEVENT
DTSTART;TZID=UTC:20231222T150000
DTEND;TZID=UTC:20231222T150500
DTSTAMP:20260422T040219
CREATED:20231006T132622Z
LAST-MODIFIED:20231006T132622Z
UID:9139-1703257200-1703257500@www.moorsideschools.org.uk
SUMMARY:Break-up for Christmas Holidays
DESCRIPTION:
URL:https://www.moorsideschools.org.uk/event/break-up-for-christmas-holidays-2/
ATTACH;FMTTYPE=image/png:https://www.moorsideschools.org.uk/wp-content/uploads/2019/12/Break-up-for-holidays.png
END:VEVENT
END:VCALENDAR