   BEGIN:VCALENDAR
VERSION:2.0
PRODID:-//Moorside Primary School and Nursery - ECPv6.11.0.1//NONSGML v1.0//EN
CALSCALE:GREGORIAN
METHOD:PUBLISH
X-ORIGINAL-URL:https://www.moorsideschools.org.uk
X-WR-CALDESC:Events for Moorside Primary School and Nursery
REFRESH-INTERVAL;VALUE=DURATION:PT1H
X-Robots-Tag:noindex
X-PUBLISHED-TTL:PT1H
BEGIN:VTIMEZONE
TZID:UTC
BEGIN:STANDARD
TZOFFSETFROM:+0000
TZOFFSETTO:+0000
TZNAME:UTC
DTSTART:20230101T000000
END:STANDARD
END:VTIMEZONE
BEGIN:VEVENT
DTSTART;TZID=UTC:20231211T080000
DTEND;TZID=UTC:20231214T170000
DTSTAMP:20260422T040215
CREATED:20231116T115623Z
LAST-MODIFIED:20231116T115623Z
UID:9212-1702281600-1702573200@www.moorsideschools.org.uk
SUMMARY:Parents Evenings
DESCRIPTION:
URL:https://www.moorsideschools.org.uk/event/parents-evenings-7/
ATTACH;FMTTYPE=image/jpeg:https://www.moorsideschools.org.uk/wp-content/uploads/2019/11/Parents-evening.jpg
END:VEVENT
BEGIN:VEVENT
DTSTART;TZID=UTC:20231214T133000
DTEND;TZID=UTC:20231214T140000
DTSTAMP:20260422T040215
CREATED:20231116T121507Z
LAST-MODIFIED:20231116T121507Z
UID:9222-1702560600-1702562400@www.moorsideschools.org.uk
SUMMARY:EYFS Nativity - 1.30pm
DESCRIPTION:
URL:https://www.moorsideschools.org.uk/event/eyfs-nativity-1-30pm/
ATTACH;FMTTYPE=image/jpeg:https://www.moorsideschools.org.uk/wp-content/uploads/2019/12/nativity2-1.jpg
END:VEVENT
BEGIN:VEVENT
DTSTART;TZID=UTC:20231214T140000
DTEND;TZID=UTC:20231214T170000
DTSTAMP:20260422T040215
CREATED:20231127T095232Z
LAST-MODIFIED:20231127T095232Z
UID:9272-1702562400-1702573200@www.moorsideschools.org.uk
SUMMARY:Year 5 Parents Evening with Mrs Hunton
DESCRIPTION:Teacher(s) available for parents evening: Mrs Hunton \nView Event
URL:https://www.moorsideschools.org.uk/event/year-5-parents-evening-with-mrs-hunton/
END:VEVENT
BEGIN:VEVENT
DTSTART;TZID=UTC:20231214T153000
DTEND;TZID=UTC:20231214T170000
DTSTAMP:20260422T040215
CREATED:20231124T101605Z
LAST-MODIFIED:20231124T101605Z
UID:9266-1702567800-1702573200@www.moorsideschools.org.uk
SUMMARY:Year 6 Parents Evening with Mrs Jemmett
DESCRIPTION:Teacher(s) available for parents evening: Mrs Jemmett \nView Event
URL:https://www.moorsideschools.org.uk/event/year-6-parents-evening-with-mrs-jemmett-2/
END:VEVENT
END:VCALENDAR