   BEGIN:VCALENDAR
VERSION:2.0
PRODID:-//Moorside Primary School and Nursery - ECPv6.11.0.1//NONSGML v1.0//EN
CALSCALE:GREGORIAN
METHOD:PUBLISH
X-WR-CALNAME:Moorside Primary School and Nursery
X-ORIGINAL-URL:https://www.moorsideschools.org.uk
X-WR-CALDESC:Events for Moorside Primary School and Nursery
REFRESH-INTERVAL;VALUE=DURATION:PT1H
X-Robots-Tag:noindex
X-PUBLISHED-TTL:PT1H
BEGIN:VTIMEZONE
TZID:UTC
BEGIN:STANDARD
TZOFFSETFROM:+0000
TZOFFSETTO:+0000
TZNAME:UTC
DTSTART:20230101T000000
END:STANDARD
END:VTIMEZONE
BEGIN:VEVENT
DTSTART;TZID=UTC:20231211T080000
DTEND;TZID=UTC:20231214T170000
DTSTAMP:20260422T040130
CREATED:20231116T115623Z
LAST-MODIFIED:20231116T115623Z
UID:9212-1702281600-1702573200@www.moorsideschools.org.uk
SUMMARY:Parents Evenings
DESCRIPTION:
URL:https://www.moorsideschools.org.uk/event/parents-evenings-7/
ATTACH;FMTTYPE=image/jpeg:https://www.moorsideschools.org.uk/wp-content/uploads/2019/11/Parents-evening.jpg
END:VEVENT
BEGIN:VEVENT
DTSTART;TZID=UTC:20231213T093000
DTEND;TZID=UTC:20231213T100000
DTSTAMP:20260422T040130
CREATED:20231116T121357Z
LAST-MODIFIED:20231116T121357Z
UID:9220-1702459800-1702461600@www.moorsideschools.org.uk
SUMMARY:EYFS Nativity - 9.30am
DESCRIPTION:
URL:https://www.moorsideschools.org.uk/event/eyfs-nativity-9-30am-4/
ATTACH;FMTTYPE=image/jpeg:https://www.moorsideschools.org.uk/wp-content/uploads/2019/12/nativity2-1.jpg
END:VEVENT
BEGIN:VEVENT
DTSTART;TZID=UTC:20231213T153000
DTEND;TZID=UTC:20231213T170000
DTSTAMP:20260422T040130
CREATED:20231124T095950Z
LAST-MODIFIED:20231124T095950Z
UID:9248-1702481400-1702486800@www.moorsideschools.org.uk
SUMMARY:Year 2 Parents Evening with Miss Ryder
DESCRIPTION:Teacher(s) available for parents evening: Miss Ryder \nView Event
URL:https://www.moorsideschools.org.uk/event/year-2-parents-evening-with-miss-ryder-2/
END:VEVENT
BEGIN:VEVENT
DTSTART;TZID=UTC:20231213T153000
DTEND;TZID=UTC:20231213T173000
DTSTAMP:20260422T040130
CREATED:20231124T100414Z
LAST-MODIFIED:20231124T100414Z
UID:9254-1702481400-1702488600@www.moorsideschools.org.uk
SUMMARY:Year 3 Parents Evening with Miss Padbury-Hunt
DESCRIPTION:Teacher(s) available for parents evening: Miss Padbury-Hunt \nView Event
URL:https://www.moorsideschools.org.uk/event/year-3-parents-evening-with-miss-padbury-hunt-3/
END:VEVENT
END:VCALENDAR