   BEGIN:VCALENDAR
VERSION:2.0
PRODID:-//Moorside Primary School and Nursery - ECPv6.11.0.1//NONSGML v1.0//EN
CALSCALE:GREGORIAN
METHOD:PUBLISH
X-ORIGINAL-URL:https://www.moorsideschools.org.uk
X-WR-CALDESC:Events for Moorside Primary School and Nursery
REFRESH-INTERVAL;VALUE=DURATION:PT1H
X-Robots-Tag:noindex
X-PUBLISHED-TTL:PT1H
BEGIN:VTIMEZONE
TZID:UTC
BEGIN:STANDARD
TZOFFSETFROM:+0000
TZOFFSETTO:+0000
TZNAME:UTC
DTSTART:20230101T000000
END:STANDARD
END:VTIMEZONE
BEGIN:VEVENT
DTSTART;TZID=UTC:20231211T080000
DTEND;TZID=UTC:20231214T170000
DTSTAMP:20260422T040216
CREATED:20231116T115623Z
LAST-MODIFIED:20231116T115623Z
UID:9212-1702281600-1702573200@www.moorsideschools.org.uk
SUMMARY:Parents Evenings
DESCRIPTION:
URL:https://www.moorsideschools.org.uk/event/parents-evenings-7/
ATTACH;FMTTYPE=image/jpeg:https://www.moorsideschools.org.uk/wp-content/uploads/2019/11/Parents-evening.jpg
END:VEVENT
BEGIN:VEVENT
DTSTART;TZID=UTC:20231211T130000
DTEND;TZID=UTC:20231211T170000
DTSTAMP:20260422T040216
CREATED:20231124T101605Z
LAST-MODIFIED:20231124T101605Z
UID:9265-1702299600-1702314000@www.moorsideschools.org.uk
SUMMARY:Year 6 Parents Evening with Mrs Jemmett
DESCRIPTION:Teacher(s) available for parents evening: Mrs Jemmett \nView Event
URL:https://www.moorsideschools.org.uk/event/year-6-parents-evening-with-mrs-jemmett/
END:VEVENT
BEGIN:VEVENT
DTSTART;TZID=UTC:20231211T133000
DTEND;TZID=UTC:20231211T143000
DTSTAMP:20260422T040216
CREATED:20231116T120214Z
LAST-MODIFIED:20231116T121739Z
UID:9214-1702301400-1702305000@www.moorsideschools.org.uk
SUMMARY:KS1 Christmas Production - 1.30pm
DESCRIPTION:
URL:https://www.moorsideschools.org.uk/event/ks1-christmas-production/
ATTACH;FMTTYPE=image/jpeg:https://www.moorsideschools.org.uk/wp-content/uploads/2019/11/Nativity.jpg
END:VEVENT
BEGIN:VEVENT
DTSTART;TZID=UTC:20231211T153000
DTEND;TZID=UTC:20231211T165000
DTSTAMP:20260422T040216
CREATED:20231124T101008Z
LAST-MODIFIED:20231124T101008Z
UID:9259-1702308600-1702313400@www.moorsideschools.org.uk
SUMMARY:Year 5 Parents Evening with Miss Lee
DESCRIPTION:Teacher(s) available for parents evening: Miss Lee \nView Event
URL:https://www.moorsideschools.org.uk/event/year-5-parents-evening-with-miss-lee/
END:VEVENT
BEGIN:VEVENT
DTSTART;TZID=UTC:20231211T153000
DTEND;TZID=UTC:20231211T170000
DTSTAMP:20260422T040216
CREATED:20231124T100138Z
LAST-MODIFIED:20231124T100138Z
UID:9250-1702308600-1702314000@www.moorsideschools.org.uk
SUMMARY:Year 2 Parents Evening with Mrs Bailey
DESCRIPTION:Teacher(s) available for parents evening: Mrs Bailey \nView Event
URL:https://www.moorsideschools.org.uk/event/year-2-parents-evening-with-mrs-bailey/
END:VEVENT
BEGIN:VEVENT
DTSTART;TZID=UTC:20231211T153000
DTEND;TZID=UTC:20231211T172000
DTSTAMP:20260422T040216
CREATED:20231124T100718Z
LAST-MODIFIED:20231124T100718Z
UID:9256-1702308600-1702315200@www.moorsideschools.org.uk
SUMMARY:Year 4 Parents Evening with Mr Price
DESCRIPTION:Teacher(s) available for parents evening: Mr Price \nView Event
URL:https://www.moorsideschools.org.uk/event/year-4-parents-evening-with-mr-price/
END:VEVENT
BEGIN:VEVENT
DTSTART;TZID=UTC:20231211T153000
DTEND;TZID=UTC:20231211T173000
DTSTAMP:20260422T040216
CREATED:20231124T095345Z
LAST-MODIFIED:20231124T095345Z
UID:9241-1702308600-1702315800@www.moorsideschools.org.uk
SUMMARY:Reception Parents Evening with Mrs Burland
DESCRIPTION:Teacher(s) available for parents evening: Mrs Burland \nView Event
URL:https://www.moorsideschools.org.uk/event/reception-parents-evening-with-mrs-burland/
END:VEVENT
BEGIN:VEVENT
DTSTART;TZID=UTC:20231211T153000
DTEND;TZID=UTC:20231211T173000
DTSTAMP:20260422T040216
CREATED:20231124T095651Z
LAST-MODIFIED:20231124T095651Z
UID:9244-1702308600-1702315800@www.moorsideschools.org.uk
SUMMARY:Year 1 Parents Evening with Mrs Taylor
DESCRIPTION:Teacher(s) available for parents evening: Mrs Taylor \nView Event
URL:https://www.moorsideschools.org.uk/event/year-1-parents-evening-with-mrs-taylor/
END:VEVENT
BEGIN:VEVENT
DTSTART;TZID=UTC:20231211T153000
DTEND;TZID=UTC:20231211T173000
DTSTAMP:20260422T040216
CREATED:20231124T100414Z
LAST-MODIFIED:20231124T100414Z
UID:9252-1702308600-1702315800@www.moorsideschools.org.uk
SUMMARY:Year 3 Parents Evening with Miss Padbury-Hunt
DESCRIPTION:Teacher(s) available for parents evening: Miss Padbury-Hunt \nView Event
URL:https://www.moorsideschools.org.uk/event/year-3-parents-evening-with-miss-padbury-hunt/
END:VEVENT
END:VCALENDAR