   BEGIN:VCALENDAR
VERSION:2.0
PRODID:-//Moorside Primary School and Nursery - ECPv6.11.0.1//NONSGML v1.0//EN
CALSCALE:GREGORIAN
METHOD:PUBLISH
X-WR-CALNAME:Moorside Primary School and Nursery
X-ORIGINAL-URL:https://www.moorsideschools.org.uk
X-WR-CALDESC:Events for Moorside Primary School and Nursery
REFRESH-INTERVAL;VALUE=DURATION:PT1H
X-Robots-Tag:noindex
X-PUBLISHED-TTL:PT1H
BEGIN:VTIMEZONE
TZID:UTC
BEGIN:STANDARD
TZOFFSETFROM:+0000
TZOFFSETTO:+0000
TZNAME:UTC
DTSTART:20230101T000000
END:STANDARD
END:VTIMEZONE
BEGIN:VEVENT
DTSTART;TZID=UTC:20231019T091500
DTEND;TZID=UTC:20231019T100000
DTSTAMP:20260422T062124
CREATED:20231006T132348Z
LAST-MODIFIED:20231013T150650Z
UID:9136-1697706900-1697709600@www.moorsideschools.org.uk
SUMMARY:Harvest Assembly for Parents of Children in Reception
DESCRIPTION:
URL:https://www.moorsideschools.org.uk/event/harvest-assembly-for-parents-of-children-in-reception/
ATTACH;FMTTYPE=image/png:https://www.moorsideschools.org.uk/wp-content/uploads/2023/10/Harvest.png
END:VEVENT
END:VCALENDAR