   BEGIN:VCALENDAR
VERSION:2.0
PRODID:-//Moorside Primary School and Nursery - ECPv6.11.0.1//NONSGML v1.0//EN
CALSCALE:GREGORIAN
METHOD:PUBLISH
X-ORIGINAL-URL:https://www.moorsideschools.org.uk
X-WR-CALDESC:Events for Moorside Primary School and Nursery
REFRESH-INTERVAL;VALUE=DURATION:PT1H
X-Robots-Tag:noindex
X-PUBLISHED-TTL:PT1H
BEGIN:VTIMEZONE
TZID:UTC
BEGIN:STANDARD
TZOFFSETFROM:+0000
TZOFFSETTO:+0000
TZNAME:UTC
DTSTART:20230101T000000
END:STANDARD
END:VTIMEZONE
BEGIN:VEVENT
DTSTART;TZID=UTC:20230629T154500
DTEND;TZID=UTC:20230629T161500
DTSTAMP:20260422T101846
CREATED:20230424T145929Z
LAST-MODIFIED:20230424T145929Z
UID:8776-1688053500-1688055300@www.moorsideschools.org.uk
SUMMARY:New Reception Starters Meeting for Parents
DESCRIPTION:
URL:https://www.moorsideschools.org.uk/event/new-reception-starters-meeting-for-parents/
ATTACH;FMTTYPE=image/png:https://www.moorsideschools.org.uk/wp-content/uploads/2020/07/Starting-School.png
END:VEVENT
END:VCALENDAR