   BEGIN:VCALENDAR
VERSION:2.0
PRODID:-//Moorside Primary School and Nursery - ECPv6.11.0.1//NONSGML v1.0//EN
CALSCALE:GREGORIAN
METHOD:PUBLISH
X-ORIGINAL-URL:https://www.moorsideschools.org.uk
X-WR-CALDESC:Events for Moorside Primary School and Nursery
REFRESH-INTERVAL;VALUE=DURATION:PT1H
X-Robots-Tag:noindex
X-PUBLISHED-TTL:PT1H
BEGIN:VTIMEZONE
TZID:UTC
BEGIN:STANDARD
TZOFFSETFROM:+0000
TZOFFSETTO:+0000
TZNAME:UTC
DTSTART:20230101T000000
END:STANDARD
END:VTIMEZONE
BEGIN:VEVENT
DTSTART;TZID=UTC:20230517T143000
DTEND;TZID=UTC:20230607T150000
DTSTAMP:20260422T123913
CREATED:20230505T152122Z
LAST-MODIFIED:20230512T154711Z
UID:8827-1684333800-1686150000@www.moorsideschools.org.uk
SUMMARY:KS2 Maths Event
DESCRIPTION:
URL:https://www.moorsideschools.org.uk/event/ks2-maths-event/
ATTACH;FMTTYPE=image/jpeg:https://www.moorsideschools.org.uk/wp-content/uploads/2020/01/maths.jpg
END:VEVENT
BEGIN:VEVENT
DTSTART;VALUE=DATE:20230525
DTEND;VALUE=DATE:20230526
DTSTAMP:20260422T123913
CREATED:20230502T084201Z
LAST-MODIFIED:20230502T084201Z
UID:8807-1684972800-1685059199@www.moorsideschools.org.uk
SUMMARY:Internet Safety Workshops
DESCRIPTION:
URL:https://www.moorsideschools.org.uk/event/internet-safety-workshops/
ATTACH;FMTTYPE=image/png:https://www.moorsideschools.org.uk/wp-content/uploads/2023/05/Internet-safety.png
END:VEVENT
BEGIN:VEVENT
DTSTART;VALUE=DATE:20230525
DTEND;VALUE=DATE:20230527
DTSTAMP:20260422T123913
CREATED:20230503T085102Z
LAST-MODIFIED:20230503T085102Z
UID:8814-1684972800-1685145599@www.moorsideschools.org.uk
SUMMARY:Y6 Bikeability Course
DESCRIPTION:
URL:https://www.moorsideschools.org.uk/event/y6-bikeability-course/
ATTACH;FMTTYPE=image/png:https://www.moorsideschools.org.uk/wp-content/uploads/2023/05/Bikeability.png
END:VEVENT
END:VCALENDAR