   BEGIN:VCALENDAR
VERSION:2.0
PRODID:-//Moorside Primary School and Nursery - ECPv6.11.0.1//NONSGML v1.0//EN
CALSCALE:GREGORIAN
METHOD:PUBLISH
X-ORIGINAL-URL:https://www.moorsideschools.org.uk
X-WR-CALDESC:Events for Moorside Primary School and Nursery
REFRESH-INTERVAL;VALUE=DURATION:PT1H
X-Robots-Tag:noindex
X-PUBLISHED-TTL:PT1H
BEGIN:VTIMEZONE
TZID:UTC
BEGIN:STANDARD
TZOFFSETFROM:+0000
TZOFFSETTO:+0000
TZNAME:UTC
DTSTART:20230101T000000
END:STANDARD
END:VTIMEZONE
BEGIN:VEVENT
DTSTART;VALUE=DATE:20230509
DTEND;VALUE=DATE:20230513
DTSTAMP:20260422T123913
CREATED:20230424T144747Z
LAST-MODIFIED:20230424T144747Z
UID:8755-1683590400-1683935999@www.moorsideschools.org.uk
SUMMARY:Y6 SATS Week
DESCRIPTION:
URL:https://www.moorsideschools.org.uk/event/y6-sats-week-3/
ATTACH;FMTTYPE=image/jpeg:https://www.moorsideschools.org.uk/wp-content/uploads/2023/04/SATs-Picture.jpg
END:VEVENT
BEGIN:VEVENT
DTSTART;TZID=UTC:20230510T143000
DTEND;TZID=UTC:20230510T150000
DTSTAMP:20260422T123913
CREATED:20230505T152021Z
LAST-MODIFIED:20230505T152021Z
UID:8825-1683729000-1683730800@www.moorsideschools.org.uk
SUMMARY:Reception & KS1 Maths Event
DESCRIPTION:
URL:https://www.moorsideschools.org.uk/event/reception-ks1-maths-event/
ATTACH;FMTTYPE=image/jpeg:https://www.moorsideschools.org.uk/wp-content/uploads/2020/01/maths.jpg
END:VEVENT
END:VCALENDAR