   BEGIN:VCALENDAR
VERSION:2.0
PRODID:-//Moorside Primary School and Nursery - ECPv6.11.0.1//NONSGML v1.0//EN
CALSCALE:GREGORIAN
METHOD:PUBLISH
X-WR-CALNAME:Moorside Primary School and Nursery
X-ORIGINAL-URL:https://www.moorsideschools.org.uk
X-WR-CALDESC:Events for Moorside Primary School and Nursery
REFRESH-INTERVAL;VALUE=DURATION:PT1H
X-Robots-Tag:noindex
X-PUBLISHED-TTL:PT1H
BEGIN:VTIMEZONE
TZID:UTC
BEGIN:STANDARD
TZOFFSETFROM:+0000
TZOFFSETTO:+0000
TZNAME:UTC
DTSTART:20230101T000000
END:STANDARD
END:VTIMEZONE
BEGIN:VEVENT
DTSTART;TZID=UTC:20230428T152000
DTEND;TZID=UTC:20230428T154500
DTSTAMP:20260422T135406
CREATED:20230424T142151Z
LAST-MODIFIED:20230424T142151Z
UID:8746-1682695200-1682696700@www.moorsideschools.org.uk
SUMMARY:Second Hand Uniform Sale
DESCRIPTION:
URL:https://www.moorsideschools.org.uk/event/second-hand-uniform-sale/
ATTACH;FMTTYPE=image/jpeg:https://www.moorsideschools.org.uk/wp-content/uploads/2019/05/uniform.jpg
END:VEVENT
END:VCALENDAR