   BEGIN:VCALENDAR
VERSION:2.0
PRODID:-//Moorside Primary School and Nursery - ECPv6.11.0.1//NONSGML v1.0//EN
CALSCALE:GREGORIAN
METHOD:PUBLISH
X-WR-CALNAME:Moorside Primary School and Nursery
X-ORIGINAL-URL:https://www.moorsideschools.org.uk
X-WR-CALDESC:Events for Moorside Primary School and Nursery
REFRESH-INTERVAL;VALUE=DURATION:PT1H
X-Robots-Tag:noindex
X-PUBLISHED-TTL:PT1H
BEGIN:VTIMEZONE
TZID:UTC
BEGIN:STANDARD
TZOFFSETFROM:+0000
TZOFFSETTO:+0000
TZNAME:UTC
DTSTART:20220101T000000
END:STANDARD
END:VTIMEZONE
BEGIN:VEVENT
DTSTART;TZID=UTC:20221205T153000
DTEND;TZID=UTC:20221216T173000
DTSTAMP:20260422T191125
CREATED:20221104T160614Z
LAST-MODIFIED:20221104T160614Z
UID:8328-1670254200-1671211800@www.moorsideschools.org.uk
SUMMARY:Parents Evenings
DESCRIPTION:
URL:https://www.moorsideschools.org.uk/event/parents-evenings-5/
ATTACH;FMTTYPE=image/jpeg:https://www.moorsideschools.org.uk/wp-content/uploads/2019/11/Parents-evening.jpg
END:VEVENT
BEGIN:VEVENT
DTSTART;VALUE=DATE:20221214
DTEND;VALUE=DATE:20221215
DTSTAMP:20260422T191125
CREATED:20221104T164610Z
LAST-MODIFIED:20221104T164610Z
UID:8348-1670976000-1671062399@www.moorsideschools.org.uk
SUMMARY:Christmas Lunch & Jumper Day!
DESCRIPTION:
URL:https://www.moorsideschools.org.uk/event/christmas-lunch-jumper-day/
ATTACH;FMTTYPE=image/jpeg:https://www.moorsideschools.org.uk/wp-content/uploads/2022/11/christmas-jumper.jpg
END:VEVENT
BEGIN:VEVENT
DTSTART;TZID=UTC:20221214T143000
DTEND;TZID=UTC:20221214T160000
DTSTAMP:20260422T191125
CREATED:20221104T164841Z
LAST-MODIFIED:20221104T164841Z
UID:8351-1671028200-1671033600@www.moorsideschools.org.uk
SUMMARY:Christmas Fair
DESCRIPTION:
URL:https://www.moorsideschools.org.uk/event/christmas-fair/
ATTACH;FMTTYPE=image/jpeg:https://www.moorsideschools.org.uk/wp-content/uploads/2022/11/christmas-fair.jpg
END:VEVENT
END:VCALENDAR