   BEGIN:VCALENDAR
VERSION:2.0
PRODID:-//Moorside Primary School and Nursery - ECPv6.11.0.1//NONSGML v1.0//EN
CALSCALE:GREGORIAN
METHOD:PUBLISH
X-ORIGINAL-URL:https://www.moorsideschools.org.uk
X-WR-CALDESC:Events for Moorside Primary School and Nursery
REFRESH-INTERVAL;VALUE=DURATION:PT1H
X-Robots-Tag:noindex
X-PUBLISHED-TTL:PT1H
BEGIN:VTIMEZONE
TZID:UTC
BEGIN:STANDARD
TZOFFSETFROM:+0000
TZOFFSETTO:+0000
TZNAME:UTC
DTSTART:20220101T000000
END:STANDARD
END:VTIMEZONE
BEGIN:VEVENT
DTSTART;TZID=UTC:20220927T152000
DTEND;TZID=UTC:20220927T160000
DTSTAMP:20260422T215306
CREATED:20220916T134422Z
LAST-MODIFIED:20220916T134422Z
UID:8170-1664292000-1664294400@www.moorsideschools.org.uk
SUMMARY:Phonics Information Evening for Reception Parents
DESCRIPTION:
URL:https://www.moorsideschools.org.uk/event/phonics-information-evening-for-reception-parents/
ATTACH;FMTTYPE=image/png:https://www.moorsideschools.org.uk/wp-content/uploads/2020/09/Reception-Phonics.png
END:VEVENT
END:VCALENDAR