   BEGIN:VCALENDAR
VERSION:2.0
PRODID:-//Moorside Primary School and Nursery - ECPv6.11.0.1//NONSGML v1.0//EN
CALSCALE:GREGORIAN
METHOD:PUBLISH
X-ORIGINAL-URL:https://www.moorsideschools.org.uk
X-WR-CALDESC:Events for Moorside Primary School and Nursery
REFRESH-INTERVAL;VALUE=DURATION:PT1H
X-Robots-Tag:noindex
X-PUBLISHED-TTL:PT1H
BEGIN:VTIMEZONE
TZID:UTC
BEGIN:STANDARD
TZOFFSETFROM:+0000
TZOFFSETTO:+0000
TZNAME:UTC
DTSTART:20220101T000000
END:STANDARD
END:VTIMEZONE
BEGIN:VEVENT
DTSTART;VALUE=DATE:20220711
DTEND;VALUE=DATE:20220712
DTSTAMP:20260423T025342
CREATED:20220705T131717Z
LAST-MODIFIED:20220705T131717Z
UID:8038-1657497600-1657583999@www.moorsideschools.org.uk
SUMMARY:Y1 Visit to Bland Farm
DESCRIPTION:
URL:https://www.moorsideschools.org.uk/event/y1-visit-to-bland-farm/
ATTACH;FMTTYPE=image/png:https://www.moorsideschools.org.uk/wp-content/uploads/2022/07/farm2.png
END:VEVENT
BEGIN:VEVENT
DTSTART;VALUE=DATE:20220711
DTEND;VALUE=DATE:20220712
DTSTAMP:20260423T025342
CREATED:20220705T131939Z
LAST-MODIFIED:20220705T131939Z
UID:8043-1657497600-1657583999@www.moorsideschools.org.uk
SUMMARY:Y3 & Y4 Trip to Saltburn
DESCRIPTION:
URL:https://www.moorsideschools.org.uk/event/y3-y4-trip-to-saltburn/
ATTACH;FMTTYPE=image/jpeg:https://www.moorsideschools.org.uk/wp-content/uploads/2021/06/clifftop-view-pier-saltburn-by-sea_29505-33.jpg
END:VEVENT
END:VCALENDAR