   BEGIN:VCALENDAR
VERSION:2.0
PRODID:-//Moorside Primary School and Nursery - ECPv6.11.0.1//NONSGML v1.0//EN
CALSCALE:GREGORIAN
METHOD:PUBLISH
X-ORIGINAL-URL:https://www.moorsideschools.org.uk
X-WR-CALDESC:Events for Moorside Primary School and Nursery
REFRESH-INTERVAL;VALUE=DURATION:PT1H
X-Robots-Tag:noindex
X-PUBLISHED-TTL:PT1H
BEGIN:VTIMEZONE
TZID:UTC
BEGIN:STANDARD
TZOFFSETFROM:+0000
TZOFFSETTO:+0000
TZNAME:UTC
DTSTART:20210101T000000
END:STANDARD
END:VTIMEZONE
BEGIN:VEVENT
DTSTART;TZID=UTC:20211006T090000
DTEND;TZID=UTC:20211006T120000
DTSTAMP:20260423T140159
CREATED:20210917T141908Z
LAST-MODIFIED:20210917T141908Z
UID:7077-1633510800-1633521600@www.moorsideschools.org.uk
SUMMARY:Flu Immunisations
DESCRIPTION:
URL:https://www.moorsideschools.org.uk/event/flu-immunisations-2/
ATTACH;FMTTYPE=image/jpeg:https://www.moorsideschools.org.uk/wp-content/uploads/2020/11/flu.jpg
END:VEVENT
BEGIN:VEVENT
DTSTART;TZID=UTC:20211006T130000
DTEND;TZID=UTC:20211006T150000
DTSTAMP:20260423T140159
CREATED:20211001T152734Z
LAST-MODIFIED:20211001T152734Z
UID:7150-1633525200-1633532400@www.moorsideschools.org.uk
SUMMARY:Y6 School of Sanctuary Service @ Ripon Cathedral
DESCRIPTION:
URL:https://www.moorsideschools.org.uk/event/y6-school-of-sanctuary-service-ripon-cathedral/
ATTACH;FMTTYPE=image/jpeg:https://www.moorsideschools.org.uk/wp-content/uploads/2021/10/image0-5.jpeg
END:VEVENT
END:VCALENDAR