   BEGIN:VCALENDAR
VERSION:2.0
PRODID:-//Moorside Primary School and Nursery - ECPv6.11.0.1//NONSGML v1.0//EN
CALSCALE:GREGORIAN
METHOD:PUBLISH
X-WR-CALNAME:Moorside Primary School and Nursery
X-ORIGINAL-URL:https://www.moorsideschools.org.uk
X-WR-CALDESC:Events for Moorside Primary School and Nursery
REFRESH-INTERVAL;VALUE=DURATION:PT1H
X-Robots-Tag:noindex
X-PUBLISHED-TTL:PT1H
BEGIN:VTIMEZONE
TZID:UTC
BEGIN:STANDARD
TZOFFSETFROM:+0000
TZOFFSETTO:+0000
TZNAME:UTC
DTSTART:20210101T000000
END:STANDARD
END:VTIMEZONE
BEGIN:VEVENT
DTSTART;VALUE=DATE:20210707
DTEND;VALUE=DATE:20210708
DTSTAMP:20260423T180638
CREATED:20210705T140827Z
LAST-MODIFIED:20210705T140827Z
UID:6951-1625616000-1625702399@www.moorsideschools.org.uk
SUMMARY:Y6 Trip to Saltburn
DESCRIPTION:
URL:https://www.moorsideschools.org.uk/event/y6-trip-to-saltburn/
ATTACH;FMTTYPE=image/jpeg:https://www.moorsideschools.org.uk/wp-content/uploads/2021/06/clifftop-view-pier-saltburn-by-sea_29505-33.jpg
END:VEVENT
BEGIN:VEVENT
DTSTART;TZID=UTC:20210707T163000
DTEND;TZID=UTC:20210707T170000
DTSTAMP:20260423T180638
CREATED:20210607T093425Z
LAST-MODIFIED:20210607T093425Z
UID:6884-1625675400-1625677200@www.moorsideschools.org.uk
SUMMARY:New September Nursery Children Parents Meeting
DESCRIPTION:
URL:https://www.moorsideschools.org.uk/event/new-september-nursery-children-parents-meeting/
ATTACH;FMTTYPE=image/png:https://www.moorsideschools.org.uk/wp-content/uploads/2020/07/Nursery-Starting-School.png
END:VEVENT
END:VCALENDAR