   BEGIN:VCALENDAR
VERSION:2.0
PRODID:-//Moorside Primary School and Nursery - ECPv6.11.0.1//NONSGML v1.0//EN
CALSCALE:GREGORIAN
METHOD:PUBLISH
X-ORIGINAL-URL:https://www.moorsideschools.org.uk
X-WR-CALDESC:Events for Moorside Primary School and Nursery
REFRESH-INTERVAL;VALUE=DURATION:PT1H
X-Robots-Tag:noindex
X-PUBLISHED-TTL:PT1H
BEGIN:VTIMEZONE
TZID:UTC
BEGIN:STANDARD
TZOFFSETFROM:+0000
TZOFFSETTO:+0000
TZNAME:UTC
DTSTART:20200101T000000
END:STANDARD
END:VTIMEZONE
BEGIN:VEVENT
DTSTART;TZID=UTC:20200115T090000
DTEND;TZID=UTC:20200117T150000
DTSTAMP:20260424T154144
CREATED:20200113T164012Z
LAST-MODIFIED:20200113T164012Z
UID:3309-1579078800-1579273200@www.moorsideschools.org.uk
SUMMARY:Year 5 Residential to Marrick Priory
DESCRIPTION:
URL:https://www.moorsideschools.org.uk/event/year-5-residential-to-marrick-priory/
ATTACH;FMTTYPE=image/jpeg:https://www.moorsideschools.org.uk/wp-content/uploads/2020/01/Welcome-to-Marrick-Priory.jpg
END:VEVENT
END:VCALENDAR