   BEGIN:VCALENDAR
VERSION:2.0
PRODID:-//Moorside Primary School and Nursery - ECPv6.11.0.1//NONSGML v1.0//EN
CALSCALE:GREGORIAN
METHOD:PUBLISH
X-ORIGINAL-URL:https://www.moorsideschools.org.uk
X-WR-CALDESC:Events for Moorside Primary School and Nursery
REFRESH-INTERVAL;VALUE=DURATION:PT1H
X-Robots-Tag:noindex
X-PUBLISHED-TTL:PT1H
BEGIN:VTIMEZONE
TZID:UTC
BEGIN:STANDARD
TZOFFSETFROM:+0000
TZOFFSETTO:+0000
TZNAME:UTC
DTSTART:20190101T000000
END:STANDARD
END:VTIMEZONE
BEGIN:VEVENT
DTSTART;TZID=UTC:20191219T120000
DTEND;TZID=UTC:20191219T130000
DTSTAMP:20260424T165050
CREATED:20191216T162647Z
LAST-MODIFIED:20191216T162647Z
UID:3192-1576756800-1576760400@www.moorsideschools.org.uk
SUMMARY:Christmas Party Lunch
DESCRIPTION:
URL:https://www.moorsideschools.org.uk/event/christmas-party-lunch/
ATTACH;FMTTYPE=image/png:https://www.moorsideschools.org.uk/wp-content/uploads/2019/12/Christmas-party-Lunch.png
END:VEVENT
BEGIN:VEVENT
DTSTART;TZID=UTC:20191219T130000
DTEND;TZID=UTC:20191219T150000
DTSTAMP:20260424T165050
CREATED:20191216T162757Z
LAST-MODIFIED:20191216T162757Z
UID:3195-1576760400-1576767600@www.moorsideschools.org.uk
SUMMARY:Nursery\, Reception\, Years 3-6 Christmas Parties
DESCRIPTION:
URL:https://www.moorsideschools.org.uk/event/nursery-reception-years-3-6-christmas-parties/
ATTACH;FMTTYPE=image/jpeg:https://www.moorsideschools.org.uk/wp-content/uploads/2019/12/Christmas-party.jpg
END:VEVENT
BEGIN:VEVENT
DTSTART;TZID=UTC:20191219T140000
DTEND;TZID=UTC:20191219T150000
DTSTAMP:20260424T165050
CREATED:20191104T165931Z
LAST-MODIFIED:20191202T165330Z
UID:2793-1576764000-1576767600@www.moorsideschools.org.uk
SUMMARY:Carols Around the Tree - 2.15pm
DESCRIPTION:
URL:https://www.moorsideschools.org.uk/event/carols-around-the-tree-time-tbc/
ATTACH;FMTTYPE=image/jpeg:https://www.moorsideschools.org.uk/wp-content/uploads/2019/11/Christmas-Tree.jpg
END:VEVENT
BEGIN:VEVENT
DTSTART;TZID=UTC:20191219T150000
DTEND;TZID=UTC:20191219T153000
DTSTAMP:20260424T165050
CREATED:20191202T170406Z
LAST-MODIFIED:20191202T170406Z
UID:3006-1576767600-1576769400@www.moorsideschools.org.uk
SUMMARY:Break-up for Christmas Holidays
DESCRIPTION:
URL:https://www.moorsideschools.org.uk/event/break-up-for-christmas-holidays/
END:VEVENT
END:VCALENDAR