   BEGIN:VCALENDAR
VERSION:2.0
PRODID:-//Moorside Primary School and Nursery - ECPv6.11.0.1//NONSGML v1.0//EN
CALSCALE:GREGORIAN
METHOD:PUBLISH
X-ORIGINAL-URL:https://www.moorsideschools.org.uk
X-WR-CALDESC:Events for Moorside Primary School and Nursery
REFRESH-INTERVAL;VALUE=DURATION:PT1H
X-Robots-Tag:noindex
X-PUBLISHED-TTL:PT1H
BEGIN:VTIMEZONE
TZID:UTC
BEGIN:STANDARD
TZOFFSETFROM:+0000
TZOFFSETTO:+0000
TZNAME:UTC
DTSTART:20190101T000000
END:STANDARD
END:VTIMEZONE
BEGIN:VEVENT
DTSTART;TZID=UTC:20190719T141500
DTEND;TZID=UTC:20190719T150000
DTSTAMP:20260424T225756
CREATED:20190520T152959Z
LAST-MODIFIED:20190715T145637Z
UID:2105-1563545700-1563548400@www.moorsideschools.org.uk
SUMMARY:Leavers Assembly - 2.15pm
DESCRIPTION:
URL:https://www.moorsideschools.org.uk/event/leavers-assembly-2pm/
END:VEVENT
BEGIN:VEVENT
DTSTART;TZID=UTC:20190719T150000
DTEND;TZID=UTC:20190719T150000
DTSTAMP:20260424T225756
CREATED:20190520T153057Z
LAST-MODIFIED:20190520T153057Z
UID:2107-1563548400-1563548400@www.moorsideschools.org.uk
SUMMARY:Break up for Summer Holidays at 3pm
DESCRIPTION:
URL:https://www.moorsideschools.org.uk/event/break-up-for-summer-holidays-at-3pm/
END:VEVENT
END:VCALENDAR