   BEGIN:VCALENDAR
VERSION:2.0
PRODID:-//Moorside Primary School and Nursery - ECPv6.11.0.1//NONSGML v1.0//EN
CALSCALE:GREGORIAN
METHOD:PUBLISH
X-WR-CALNAME:Moorside Primary School and Nursery
X-ORIGINAL-URL:https://www.moorsideschools.org.uk
X-WR-CALDESC:Events for Moorside Primary School and Nursery
REFRESH-INTERVAL;VALUE=DURATION:PT1H
X-Robots-Tag:noindex
X-PUBLISHED-TTL:PT1H
BEGIN:VTIMEZONE
TZID:UTC
BEGIN:STANDARD
TZOFFSETFROM:+0000
TZOFFSETTO:+0000
TZNAME:UTC
DTSTART:20190101T000000
END:STANDARD
END:VTIMEZONE
BEGIN:VEVENT
DTSTART;VALUE=DATE:20190717
DTEND;VALUE=DATE:20190718
DTSTAMP:20260424T225559
CREATED:20190520T152905Z
LAST-MODIFIED:20190715T145547Z
UID:2103-1563321600-1563407999@www.moorsideschools.org.uk
SUMMARY:Sports Day - Reception\, Y1 & Y2 - 9.30am / Years 3 -6 - 1.30pm
DESCRIPTION:
URL:https://www.moorsideschools.org.uk/event/sports-day-reception-y1-y2-am-years-3-6-pm/
END:VEVENT
END:VCALENDAR